BEGIN:VCALENDAR
VERSION:2.0
PRODID:-//Discover Hollywood Magazine - ECPv6.15.20//NONSGML v1.0//EN
CALSCALE:GREGORIAN
METHOD:PUBLISH
X-ORIGINAL-URL:https://www.discoverhollywood.com
X-WR-CALDESC:Events for Discover Hollywood Magazine
REFRESH-INTERVAL;VALUE=DURATION:PT1H
X-Robots-Tag:noindex
X-PUBLISHED-TTL:PT1H
BEGIN:VTIMEZONE
TZID:Asia/Kolkata
BEGIN:STANDARD
TZOFFSETFROM:+0530
TZOFFSETTO:+0530
TZNAME:IST
DTSTART:19930101T000000
END:STANDARD
END:VTIMEZONE
BEGIN:VEVENT
DTSTART;TZID=Asia/Kolkata:20060518T000000
DTEND;TZID=Asia/Kolkata:20060518T000000
DTSTAMP:20260422T223153
CREATED:20250701T083348Z
LAST-MODIFIED:20250701T083348Z
UID:10003642-1147910400-1147910400@www.discoverhollywood.com
SUMMARY:Chicago and Doobie Brothers
DESCRIPTION:DesignHTMLWords: 0   Characters: 0
URL:https://www.discoverhollywood.com/event/chicago-and-doobie-brothers/
LOCATION:Gibson Amphitheatre\, Select
END:VEVENT
BEGIN:VEVENT
DTSTART;TZID=Asia/Kolkata:20060512T000000
DTEND;TZID=Asia/Kolkata:20060512T000000
DTSTAMP:20260422T223153
CREATED:20250701T083348Z
LAST-MODIFIED:20250701T083348Z
UID:10003645-1147392000-1147392000@www.discoverhollywood.com
SUMMARY:Chicano Soul Legends
DESCRIPTION:DesignHTMLWords: 0   Characters: 0
URL:https://www.discoverhollywood.com/event/chicano-soul-legends/
LOCATION:Gibson Amphitheatre\, Select
END:VEVENT
BEGIN:VEVENT
DTSTART;TZID=Asia/Kolkata:20060510T000000
DTEND;TZID=Asia/Kolkata:20060510T000000
DTSTAMP:20260422T223153
CREATED:20250701T083514Z
LAST-MODIFIED:20250701T083514Z
UID:10003646-1147219200-1147219200@www.discoverhollywood.com
SUMMARY:Chicano Soul Legends
DESCRIPTION:Featuring%3a\n%3cbr%3e\n%3cb%3eTHEE MIDNITERS %3c/b%3e%28with Special Guest\n%3cb%3eLittle Willie G%3c/b%3e%29\n%3cbr%3e\n%3cb%3eEL CHICANO – MALO – TIERRA – JOE BATAAN – %3c/b%3e\n%3cb%3eRENE Y RENE – JOE BRAVO – %3c/b%3e\n%3cb%3eSKIP MAHONEY %26amp%3b THE CASUALS – %3c/b%3e\n%3cb%3eTHE ROYAL CHESSMAN – %3c/b%3e\n%3cb%3eDANNY CHAGOLLA of THEE ORGINAL DUPREMES %3c/b%3eDesignHTMLWords: 33   Characters: 208
URL:https://www.discoverhollywood.com/event/chicano-soul-legends-2/
LOCATION:Gibson Amphitheatre\, Select
END:VEVENT
BEGIN:VEVENT
DTSTART;TZID=Asia/Kolkata:20060430T000000
DTEND;TZID=Asia/Kolkata:20060430T000000
DTSTAMP:20260422T223153
CREATED:20250701T083523Z
LAST-MODIFIED:20250701T083523Z
UID:10003651-1146355200-1146355200@www.discoverhollywood.com
SUMMARY:Chickenfoot
DESCRIPTION:DesignHTMLWords: 0   Characters: 0
URL:https://www.discoverhollywood.com/event/chickenfoot/
LOCATION:Gibson Amphitheatre\, Select
END:VEVENT
BEGIN:VEVENT
DTSTART;TZID=Asia/Kolkata:20051219T000000
DTEND;TZID=Asia/Kolkata:20051219T000000
DTSTAMP:20260422T223153
CREATED:20250701T085457Z
LAST-MODIFIED:20250701T085458Z
UID:10003717-1134950400-1134950400@www.discoverhollywood.com
SUMMARY:Chris Tomlin
DESCRIPTION:%3cbr%3eDesignHTMLWords: 0   Characters: 0
URL:https://www.discoverhollywood.com/event/chris-tomlin/
LOCATION:Gibson Amphitheatre\, Select
END:VEVENT
BEGIN:VEVENT
DTSTART;TZID=Asia/Kolkata:20040605T000000
DTEND;TZID=Asia/Kolkata:20040605T000000
DTSTAMP:20260422T223153
CREATED:20250701T100510Z
LAST-MODIFIED:20250701T100510Z
UID:10003998-1086393600-1086393600@www.discoverhollywood.com
SUMMARY:Conan O'Brien Prohibited Tour
DESCRIPTION:A night of music%2c comedy%2c hugging%2c and the occasional awkward silence.DesignHTMLWords: 11   Characters: 66
URL:https://www.discoverhollywood.com/event/conan-obrien-prohibited-tour/
LOCATION:Gibson Amphitheatre\, Select
END:VEVENT
BEGIN:VEVENT
DTSTART;TZID=Asia/Kolkata:20040426T000000
DTEND;TZID=Asia/Kolkata:20040426T000000
DTSTAMP:20260422T223153
CREATED:20250701T104549Z
LAST-MODIFIED:20250701T104551Z
UID:10004018-1082937600-1082937600@www.discoverhollywood.com
SUMMARY:Conjunto Primavera
DESCRIPTION:DesignHTMLWords: 0   Characters: 0
URL:https://www.discoverhollywood.com/event/conjunto-primavera/
LOCATION:Gibson Amphitheatre\, Select
END:VEVENT
BEGIN:VEVENT
DTSTART;TZID=Asia/Kolkata:20021217T000000
DTEND;TZID=Asia/Kolkata:20021217T000000
DTSTAMP:20260422T223153
CREATED:20250701T113250Z
LAST-MODIFIED:20250701T113250Z
UID:10004266-1040083200-1040083200@www.discoverhollywood.com
SUMMARY:Daniel Tosh
DESCRIPTION:DesignHTMLWords: 0   Characters: 0
URL:https://www.discoverhollywood.com/event/daniel-tosh/
LOCATION:Gibson Amphitheatre\, Select
END:VEVENT
BEGIN:VEVENT
DTSTART;TZID=Asia/Kolkata:20021113T000000
DTEND;TZID=Asia/Kolkata:20021113T000000
DTSTAMP:20260422T223153
CREATED:20250701T113459Z
LAST-MODIFIED:20250701T113459Z
UID:10004283-1037145600-1037145600@www.discoverhollywood.com
SUMMARY:Danzig Legacy
DESCRIPTION:DesignHTMLWords: 0   Characters: 0
URL:https://www.discoverhollywood.com/event/danzig-legacy/
LOCATION:Gibson Amphitheatre\, Select
END:VEVENT
BEGIN:VEVENT
DTSTART;TZID=Asia/Kolkata:20021030T000000
DTEND;TZID=Asia/Kolkata:20021030T000000
DTSTAMP:20260422T223153
CREATED:20250701T113504Z
LAST-MODIFIED:20250701T113504Z
UID:10004290-1035936000-1035936000@www.discoverhollywood.com
SUMMARY:Dariush
DESCRIPTION:DesignHTMLWords: 0   Characters: 0
URL:https://www.discoverhollywood.com/event/dariush/
LOCATION:Gibson Amphitheatre\, Select
END:VEVENT
BEGIN:VEVENT
DTSTART;TZID=Asia/Kolkata:20020807T000000
DTEND;TZID=Asia/Kolkata:20020807T000000
DTSTAMP:20260422T223153
CREATED:20250701T115954Z
LAST-MODIFIED:20250701T115954Z
UID:10004332-1028678400-1028678400@www.discoverhollywood.com
SUMMARY:Dave Koz & Friends
DESCRIPTION:DesignHTMLWords: 0   Characters: 0
URL:https://www.discoverhollywood.com/event/dave-koz-friends/
LOCATION:Gibson Amphitheatre\, Select
END:VEVENT
BEGIN:VEVENT
DTSTART;TZID=Asia/Kolkata:20010925T000000
DTEND;TZID=Asia/Kolkata:20010925T000000
DTSTAMP:20260422T223153
CREATED:20250701T120733Z
LAST-MODIFIED:20250701T120733Z
UID:10004490-1001376000-1001376000@www.discoverhollywood.com
SUMMARY:Def Leppard
DESCRIPTION:With Special Guest%3a HeartDesignHTMLWords: 4   Characters: 24
URL:https://www.discoverhollywood.com/event/def-leppard/
LOCATION:Gibson Amphitheatre\, Select
END:VEVENT
BEGIN:VEVENT
DTSTART;TZID=Asia/Kolkata:20010923T000000
DTEND;TZID=Asia/Kolkata:20010923T000000
DTSTAMP:20260422T223153
CREATED:20250701T120736Z
LAST-MODIFIED:20250701T120736Z
UID:10004491-1001203200-1001203200@www.discoverhollywood.com
SUMMARY:Def Leppard with very special guest Heart
DESCRIPTION:DesignHTMLWords: 0   Characters: 0
URL:https://www.discoverhollywood.com/event/def-leppard-with-very-special-guest-heart/
LOCATION:Gibson Amphitheatre\, Select
END:VEVENT
BEGIN:VEVENT
DTSTART;TZID=Asia/Kolkata:19991111T000000
DTEND;TZID=Asia/Kolkata:19991111T000000
DTSTAMP:20260422T223153
CREATED:20250701T125859Z
LAST-MODIFIED:20250701T125859Z
UID:10004822-942278400-942278400@www.discoverhollywood.com
SUMMARY:Drake
DESCRIPTION:DesignHTMLWords: 0   Characters: 0
URL:https://www.discoverhollywood.com/event/drake/
LOCATION:Gibson Amphitheatre\, Select
END:VEVENT
BEGIN:VEVENT
DTSTART;TZID=Asia/Kolkata:19991014T000000
DTEND;TZID=Asia/Kolkata:19991014T000000
DTSTAMP:20260422T223153
CREATED:20250701T125917Z
LAST-MODIFIED:20250701T125917Z
UID:10004836-939859200-939859200@www.discoverhollywood.com
SUMMARY:Dream Theater
DESCRIPTION:DesignHTMLWords: 0   Characters: 0
URL:https://www.discoverhollywood.com/event/dream-theater-2/
LOCATION:Gibson Amphitheatre\, Select
END:VEVENT
BEGIN:VEVENT
DTSTART;TZID=Asia/Kolkata:19990831T000000
DTEND;TZID=Asia/Kolkata:19990831T000000
DTSTAMP:20260422T223153
CREATED:20250701T125938Z
LAST-MODIFIED:20250701T125938Z
UID:10004858-936057600-936057600@www.discoverhollywood.com
SUMMARY:Drive By Truckers
DESCRIPTION:DesignHTMLWords: 0   Characters: 0
URL:https://www.discoverhollywood.com/event/drive-by-truckers-2/
LOCATION:Gibson Amphitheatre\, Select
END:VEVENT
BEGIN:VEVENT
DTSTART;TZID=Asia/Kolkata:19990117T000000
DTEND;TZID=Asia/Kolkata:19990117T000000
DTSTAMP:20260422T223153
CREATED:20250701T134438Z
LAST-MODIFIED:20250702T044626Z
UID:10005041-916531200-916531200@www.discoverhollywood.com
SUMMARY:Ehsan Khaje Amiri
DESCRIPTION:DesignHTMLWords: 0   Characters: 0
URL:https://www.discoverhollywood.com/event/ehsan-khaje-amiri/
LOCATION:Gibson Amphitheatre\, Select
END:VEVENT
BEGIN:VEVENT
DTSTART;TZID=Asia/Kolkata:19990116T000000
DTEND;TZID=Asia/Kolkata:19990116T000000
DTSTAMP:20260422T223153
CREATED:20250701T134438Z
LAST-MODIFIED:20250702T044626Z
UID:10005042-916444800-916444800@www.discoverhollywood.com
SUMMARY:Ehsan Khaje Amiri Live
DESCRIPTION:DesignHTMLWords: 0   Characters: 0
URL:https://www.discoverhollywood.com/event/ehsan-khaje-amiri-live/
LOCATION:Gibson Amphitheatre\, Select
END:VEVENT
BEGIN:VEVENT
DTSTART;TZID=Asia/Kolkata:19981228T000000
DTEND;TZID=Asia/Kolkata:19981228T000000
DTSTAMP:20260422T223153
CREATED:20250701T135242Z
LAST-MODIFIED:20250702T044726Z
UID:10005061-914803200-914803200@www.discoverhollywood.com
SUMMARY:El Puma with Jose Rodriguez
DESCRIPTION:DesignHTMLWords: 0   Characters: 0
URL:https://www.discoverhollywood.com/event/el-puma-with-jose-rodriguez/
LOCATION:Gibson Amphitheatre\, Select
END:VEVENT
BEGIN:VEVENT
DTSTART;TZID=Asia/Kolkata:19980823T000000
DTEND;TZID=Asia/Kolkata:19980823T000000
DTSTAMP:20260422T223153
CREATED:20250702T050511Z
LAST-MODIFIED:20250702T050511Z
UID:10005188-903830400-903830400@www.discoverhollywood.com
SUMMARY:Enrique Iglesias
DESCRIPTION:DesignHTMLWords: 0   Characters: 0
URL:https://www.discoverhollywood.com/event/enrique-iglesias/
LOCATION:Gibson Amphitheatre\, Select
END:VEVENT
BEGIN:VEVENT
DTSTART;TZID=Asia/Kolkata:19970512T000000
DTEND;TZID=Asia/Kolkata:19970512T000000
DTSTAMP:20260422T223153
CREATED:20250703T062051Z
LAST-MODIFIED:20250703T062051Z
UID:10005652-863395200-863395200@www.discoverhollywood.com
SUMMARY:Foster the People
DESCRIPTION:DesignHTMLWords: 0   Characters: 0
URL:https://www.discoverhollywood.com/event/foster-the-people/
LOCATION:Gibson Amphitheatre\, Select
END:VEVENT
BEGIN:VEVENT
DTSTART;TZID=Asia/Kolkata:19970205T000000
DTEND;TZID=Asia/Kolkata:19970205T000000
DTSTAMP:20260422T223153
CREATED:20250703T062435Z
LAST-MODIFIED:20250703T062435Z
UID:10005748-855100800-855100800@www.discoverhollywood.com
SUMMARY:Freestyle Explosion
DESCRIPTION:Features%3a Explore – Lisa Lisa – The Cover Girls – Shannon – Debbie Deb – Johnny O – Cynthia – Connie %26amp%3b Stacey QDesignHTMLWords: 16   Characters: 102
URL:https://www.discoverhollywood.com/event/freestyle-explosion/
LOCATION:Gibson Amphitheatre\, Select
END:VEVENT
BEGIN:VEVENT
DTSTART;TZID=Asia/Kolkata:19961121T000000
DTEND;TZID=Asia/Kolkata:19961121T000000
DTSTAMP:20260422T223153
CREATED:20250703T064254Z
LAST-MODIFIED:20250703T064254Z
UID:10005824-848534400-848534400@www.discoverhollywood.com
SUMMARY:Funk-Tastic: Atlantic Starr & Zapp
DESCRIPTION:DesignHTMLWords: 0   Characters: 0
URL:https://www.discoverhollywood.com/event/funk-tastic-atlantic-starr-zapp/
LOCATION:Gibson Amphitheatre\, Select
END:VEVENT
BEGIN:VEVENT
DTSTART;TZID=Asia/Kolkata:19961020T000000
DTEND;TZID=Asia/Kolkata:19961020T000000
DTSTAMP:20260422T223153
CREATED:20250703T064837Z
LAST-MODIFIED:20250703T064837Z
UID:10005856-845769600-845769600@www.discoverhollywood.com
SUMMARY:Gabriel Iglesias
DESCRIPTION:DesignHTMLWords: 0   Characters: 0
URL:https://www.discoverhollywood.com/event/gabriel-iglesias/
LOCATION:Gibson Amphitheatre\, Select
END:VEVENT
BEGIN:VEVENT
DTSTART;TZID=Asia/Kolkata:19961019T000000
DTEND;TZID=Asia/Kolkata:19961019T000000
DTSTAMP:20260422T223153
CREATED:20250703T064846Z
LAST-MODIFIED:20250703T064846Z
UID:10005857-845683200-845683200@www.discoverhollywood.com
SUMMARY:Gabriel Iglesias
DESCRIPTION:DesignHTMLWords: 0   Characters: 0
URL:https://www.discoverhollywood.com/event/gabriel-iglesias-2/
LOCATION:Gibson Amphitheatre\, Select
END:VEVENT
BEGIN:VEVENT
DTSTART;TZID=Asia/Kolkata:19960820T000000
DTEND;TZID=Asia/Kolkata:19960820T000000
DTSTAMP:20260422T223153
CREATED:20250703T065332Z
LAST-MODIFIED:20250703T065332Z
UID:10005917-840499200-840499200@www.discoverhollywood.com
SUMMARY:Gary Allan
DESCRIPTION:DesignHTMLWords: 0   Characters: 0
URL:https://www.discoverhollywood.com/event/gary-allan/
LOCATION:Gibson Amphitheatre\, Select
END:VEVENT
BEGIN:VEVENT
DTSTART;TZID=Asia/Kolkata:19960227T000000
DTEND;TZID=Asia/Kolkata:19960227T000000
DTSTAMP:20260422T223153
CREATED:20250703T065733Z
LAST-MODIFIED:20250703T065733Z
UID:10006092-825379200-825379200@www.discoverhollywood.com
SUMMARY:Glee In Concert
DESCRIPTION:DesignHTMLWords: 0   Characters: 0
URL:https://www.discoverhollywood.com/event/glee-in-concert/
LOCATION:Gibson Amphitheatre\, Select
END:VEVENT
BEGIN:VEVENT
DTSTART;TZID=Asia/Kolkata:19960130T000000
DTEND;TZID=Asia/Kolkata:19960130T000000
DTSTAMP:20260422T223153
CREATED:20250703T083836Z
LAST-MODIFIED:20250703T083836Z
UID:10006120-822960000-822960000@www.discoverhollywood.com
SUMMARY:Go Country 105's Winter Fest Starring Trace Adkins
DESCRIPTION:DesignHTMLWords: 0   Characters: 0
URL:https://www.discoverhollywood.com/event/go-country-105s-winter-fest-starring-trace-adkins/
LOCATION:Gibson Amphitheatre\, Select
END:VEVENT
BEGIN:VEVENT
DTSTART;TZID=Asia/Kolkata:19951104T000000
DTEND;TZID=Asia/Kolkata:19951104T000000
DTSTAMP:20260422T223153
CREATED:20250703T084211Z
LAST-MODIFIED:20250703T084211Z
UID:10006207-815443200-815443200@www.discoverhollywood.com
SUMMARY:Gorillaz
DESCRIPTION:DesignHTMLWords: 0   Characters: 0
URL:https://www.discoverhollywood.com/event/gorillaz/
LOCATION:Gibson Amphitheatre\, Select
END:VEVENT
BEGIN:VEVENT
DTSTART;TZID=Asia/Kolkata:19940226T000000
DTEND;TZID=Asia/Kolkata:19940226T000000
DTSTAMP:20260422T223153
CREATED:20250703T100051Z
LAST-MODIFIED:20250703T100051Z
UID:10006538-762220800-762220800@www.discoverhollywood.com
SUMMARY:Hooligans In Wondaland Tour: Bruno Mars & Janelle Monae
DESCRIPTION:DesignHTMLWords: 0   Characters: 0
URL:https://www.discoverhollywood.com/event/hooligans-in-wondaland-tour-bruno-mars-janelle-monae/
LOCATION:Gibson Amphitheatre\, Select
END:VEVENT
END:VCALENDAR