BEGIN:VCALENDAR
VERSION:2.0
PRODID:-//Discover Hollywood Magazine - ECPv6.15.20//NONSGML v1.0//EN
CALSCALE:GREGORIAN
METHOD:PUBLISH
X-ORIGINAL-URL:https://www.discoverhollywood.com
X-WR-CALDESC:Events for Discover Hollywood Magazine
REFRESH-INTERVAL;VALUE=DURATION:PT1H
X-Robots-Tag:noindex
X-PUBLISHED-TTL:PT1H
BEGIN:VTIMEZONE
TZID:Asia/Kolkata
BEGIN:STANDARD
TZOFFSETFROM:+0530
TZOFFSETTO:+0530
TZNAME:IST
DTSTART:19760101T000000
END:STANDARD
END:VTIMEZONE
BEGIN:VEVENT
DTSTART;TZID=Asia/Kolkata:19950707T000000
DTEND;TZID=Asia/Kolkata:19950707T000000
DTSTAMP:20260422T223116
CREATED:20250703T084516Z
LAST-MODIFIED:20250703T084516Z
UID:10006327-805075200-805075200@www.discoverhollywood.com
SUMMARY:Groundlings of the Corn
DESCRIPTION:%3cbr%3eDesignHTMLWords: 0   Characters: 0
URL:https://www.discoverhollywood.com/event/groundlings-of-the-corn/
LOCATION:Groundling Theatre\, 7307 Melrose Ave.\, Hollywood\, California
END:VEVENT
BEGIN:VEVENT
DTSTART;TZID=Asia/Kolkata:19950706T000000
DTEND;TZID=Asia/Kolkata:19950706T000000
DTSTAMP:20260422T223116
CREATED:20250703T084516Z
LAST-MODIFIED:20250703T084516Z
UID:10006328-804988800-804988800@www.discoverhollywood.com
SUMMARY:Groundlings Online University
DESCRIPTION:DesignHTMLWords: 0   Characters: 0
URL:https://www.discoverhollywood.com/event/groundlings-online-university/
LOCATION:Groundling Theatre\, 7307 Melrose Ave.\, Hollywood\, California
END:VEVENT
BEGIN:VEVENT
DTSTART;TZID=Asia/Kolkata:19950705T000000
DTEND;TZID=Asia/Kolkata:19950705T000000
DTSTAMP:20260422T223116
CREATED:20250703T084516Z
LAST-MODIFIED:20250703T084516Z
UID:10006329-804902400-804902400@www.discoverhollywood.com
SUMMARY:Groundlings Personals
DESCRIPTION:%3ca href%3d%22https%3a//purchase.groundlings.com/single/PSDetail.aspx%3fpsn%3d10229%22%3ehttps%3a//purchase.groundlings.com/single/PSDetail.aspx%3fpsn%3d10229%3c/a%3eDesignHTMLWords: 1   Characters: 58
URL:https://www.discoverhollywood.com/event/groundlings-personals/
LOCATION:Groundling Theatre\, 7307 Melrose Ave.\, Hollywood\, California
END:VEVENT
BEGIN:VEVENT
DTSTART;TZID=Asia/Kolkata:19950704T000000
DTEND;TZID=Asia/Kolkata:19950704T000000
DTSTAMP:20260422T223116
CREATED:20250703T084516Z
LAST-MODIFIED:20250703T084516Z
UID:10006330-804816000-804816000@www.discoverhollywood.com
SUMMARY:Groundlings River Adventure
DESCRIPTION:Groundlings River Adventure%26nbsp%3b%26nbsp%3b%26nbsp%3b\n%3cbr%3e\nAn entertaining and hilarious evening\n%3cbr%3e\nof sketches and improvisationDesignHTMLWords: 12   Characters: 98
URL:https://www.discoverhollywood.com/event/groundlings-river-adventure/
LOCATION:Groundling Theatre\, 7307 Melrose Ave.\, Hollywood\, California
END:VEVENT
BEGIN:VEVENT
DTSTART;TZID=Asia/Kolkata:19950703T000000
DTEND;TZID=Asia/Kolkata:19950703T000000
DTSTAMP:20260422T223116
CREATED:20250703T084517Z
LAST-MODIFIED:20250703T084517Z
UID:10006331-804729600-804729600@www.discoverhollywood.com
SUMMARY:Groundlings Science Fair
DESCRIPTION:DesignHTMLWords: 0   Characters: 0
URL:https://www.discoverhollywood.com/event/groundlings-science-fair/
LOCATION:Groundling Theatre\, 7307 Melrose Ave.\, Hollywood\, California
END:VEVENT
BEGIN:VEVENT
DTSTART;TZID=Asia/Kolkata:19950702T000000
DTEND;TZID=Asia/Kolkata:19950702T000000
DTSTAMP:20260422T223116
CREATED:20250703T084517Z
LAST-MODIFIED:20250703T084517Z
UID:10006332-804643200-804643200@www.discoverhollywood.com
SUMMARY:Groundlings Showcase Showdown
DESCRIPTION:DesignHTMLWords: 0   Characters: 0
URL:https://www.discoverhollywood.com/event/groundlings-showcase-showdown/
LOCATION:Groundling Theatre\, 7307 Melrose Ave.\, Hollywood\, California
END:VEVENT
BEGIN:VEVENT
DTSTART;TZID=Asia/Kolkata:19950701T000000
DTEND;TZID=Asia/Kolkata:19950701T000000
DTSTAMP:20260422T223116
CREATED:20250703T084517Z
LAST-MODIFIED:20250703T084517Z
UID:10006333-804556800-804556800@www.discoverhollywood.com
SUMMARY:Groundlings Ski Haus
DESCRIPTION:%3ca href%3d%22https%3a//www.groundlings.com/school%22%3ehttps%3a//www.groundlings.com/school%3c/a%3eDesignHTMLWords: 1   Characters: 31
URL:https://www.discoverhollywood.com/event/groundlings-ski-haus/
LOCATION:Groundling Theatre\, 7307 Melrose Ave.\, Hollywood\, California
END:VEVENT
BEGIN:VEVENT
DTSTART;TZID=Asia/Kolkata:19950630T000000
DTEND;TZID=Asia/Kolkata:19950630T000000
DTSTAMP:20260422T223116
CREATED:20250703T084518Z
LAST-MODIFIED:20250703T084518Z
UID:10006334-804470400-804470400@www.discoverhollywood.com
SUMMARY:Groundlings Space Camp
DESCRIPTION:DesignHTMLWords: 0   Characters: 0
URL:https://www.discoverhollywood.com/event/groundlings-space-camp/
LOCATION:Groundling Theatre\, 7307 Melrose Ave.\, Hollywood\, California
END:VEVENT
BEGIN:VEVENT
DTSTART;TZID=Asia/Kolkata:19950629T000000
DTEND;TZID=Asia/Kolkata:19950629T000000
DTSTAMP:20260422T223116
CREATED:20250703T084518Z
LAST-MODIFIED:20250703T084518Z
UID:10006335-804384000-804384000@www.discoverhollywood.com
SUMMARY:Groundlings Zombie Apocalypse
DESCRIPTION:DesignHTMLWords: 0   Characters: 0
URL:https://www.discoverhollywood.com/event/groundlings-zombie-apocalypse/
LOCATION:Groundling Theatre\, 7307 Melrose Ave.\, Hollywood\, California
END:VEVENT
BEGIN:VEVENT
DTSTART;TZID=Asia/Kolkata:19940109T000000
DTEND;TZID=Asia/Kolkata:19940109T000000
DTSTAMP:20260422T223116
CREATED:20250703T105540Z
LAST-MODIFIED:20250703T105540Z
UID:10006586-758073600-758073600@www.discoverhollywood.com
SUMMARY:How Not to Kill Yourself in 30 Days… and the next 330
DESCRIPTION:%3cp%3eBased on a true story%2c this one-act play written by and starring Groundlings%27 Annie Sertich puts a twist on the familiar one-woman show format. This exciting and different play about love and loss will take you on a rollercoaster ride of emotions asking yourself%2c %27Did this really happen%3f%27 and the answer is yes. As in usual Groundlings fashion%2c the show will definitely provide a lot of laughs. %3c/p%3eDesignHTMLWords: 67   Characters: 383
URL:https://www.discoverhollywood.com/event/how-not-to-kill-yourself-in-30-days-and-the-next-330/
LOCATION:Groundling Theatre\, 7307 Melrose Ave.\, Hollywood\, California
END:VEVENT
BEGIN:VEVENT
DTSTART;TZID=Asia/Kolkata:19940108T000000
DTEND;TZID=Asia/Kolkata:19940108T000000
DTSTAMP:20260422T223116
CREATED:20250703T105541Z
LAST-MODIFIED:20250703T105541Z
UID:10006587-757987200-757987200@www.discoverhollywood.com
SUMMARY:How to Not Kill Yourself...
DESCRIPTION:%3ca href%3d%22https%3a//purchase.groundlings.com/single/PSDetail.aspx%3fpsn%3d10023%22%3ehttps%3a//purchase.groundlings.com/single/PSDetail.aspx%3fpsn%3d10023%3c/a%3eDesignHTMLWords: 1   Characters: 58
URL:https://www.discoverhollywood.com/event/how-to-not-kill-yourself/
LOCATION:Groundling Theatre\, 7307 Melrose Ave.\, Hollywood\, California
END:VEVENT
BEGIN:VEVENT
DTSTART;TZID=Asia/Kolkata:19931005T000000
DTEND;TZID=Asia/Kolkata:19931005T000000
DTSTAMP:20260422T223116
CREATED:20250703T105755Z
LAST-MODIFIED:20250703T105755Z
UID:10006682-749779200-749779200@www.discoverhollywood.com
SUMMARY:I\, As Well
DESCRIPTION:Julia Sweeney %28SNL%29’s one-person comedy-monologue-polemic rant show%2cwill be themed around the %23MeToo and Time’s Up movements.%26nbsp%3b%26nbsp%3b%3ca href%3d%22http%3a//purchase.groundlings.com/single/PSDetail.aspx%3fpsn%3d7399%22 target%3d%22_blank%22%3epurchase.groundlings.com/single/PSDetail.aspx%3fpsn%3d7399%3c/a%3eDesignHTMLWords: 17   Characters: 169
URL:https://www.discoverhollywood.com/event/i-as-well/
LOCATION:Groundling Theatre\, 7307 Melrose Ave.\, Hollywood\, California
END:VEVENT
BEGIN:VEVENT
DTSTART;TZID=Asia/Kolkata:19910303T000000
DTEND;TZID=Asia/Kolkata:19910303T000000
DTSTAMP:20260422T223116
CREATED:20250703T121952Z
LAST-MODIFIED:20250703T121952Z
UID:10007629-667958400-667958400@www.discoverhollywood.com
SUMMARY:Julia Sweeney: Older & Wider
DESCRIPTION:%3cspan%3eJulia Sweeney%2c actress%2c comedian%2c and author%2c is returning to The Groundlings stage with her newest solo show%2c%26nbsp%3b%3c/span%3e\n%3ci%3eOlder %26amp%3b Wider%3c/i%3e\n%3cspan%3e%2c for one night only.%3c/span%3e\n%3cdiv%3e\n	%3cspan%3e%3cbr%3e%3c/span%3e\n%3c/div%3e\n%3cdiv%3e\n	%3cspan%3e%3cspan%3e%3ca href%3d%22https%3a//www.groundlings.com/show_detail.php%3fid%3d547%22 target%3d%22_blank%22%3ewww.groundlings.com/show_detail.php%3fid%3d547%3c/a%3e%3c/span%3e%3c/span%3e\n%3c/div%3eDesignHTMLWords: 24   Characters: 179
URL:https://www.discoverhollywood.com/event/julia-sweeney-older-wider/
LOCATION:Groundling Theatre\, 7307 Melrose Ave.\, Hollywood\, California
END:VEVENT
BEGIN:VEVENT
DTSTART;TZID=Asia/Kolkata:19901106T000000
DTEND;TZID=Asia/Kolkata:19901106T000000
DTSTAMP:20260422T223116
CREATED:20250709T090422Z
LAST-MODIFIED:20250709T090422Z
UID:10008406-657849600-657849600@www.discoverhollywood.com
SUMMARY:Let Them Eat Sunday
DESCRIPTION:DesignHTMLWords: 0   Characters: 0
URL:https://www.discoverhollywood.com/event/let-them-eat-sunday/
LOCATION:Groundling Theatre\, 7307 Melrose Ave.\, Hollywood\, California
END:VEVENT
BEGIN:VEVENT
DTSTART;TZID=Asia/Kolkata:19870913T000000
DTEND;TZID=Asia/Kolkata:19870913T000000
DTSTAMP:20260422T223116
CREATED:20250710T101254Z
LAST-MODIFIED:20250710T101254Z
UID:10009296-558489600-558489600@www.discoverhollywood.com
SUMMARY:Minority Retorts
DESCRIPTION:Minority Retorts is a live storytelling show featuring the outnumbered%21 Hear true stories the underrepresented%2c the underdogs%2c people of color %26amp%3b colorful people%21 No theme. No notes. Funny%3f Tragic%3f Both%21 We%27re inclusive%21 Produced %26amp%3b hosted by Jordan Black and Roxana OrtegaDesignHTMLWords: 39   Characters: 258
URL:https://www.discoverhollywood.com/event/minority-retorts/
LOCATION:Groundling Theatre\, 7307 Melrose Ave.\, Hollywood\, California
END:VEVENT
BEGIN:VEVENT
DTSTART;TZID=Asia/Kolkata:19870812T000000
DTEND;TZID=Asia/Kolkata:19870812T000000
DTSTAMP:20260422T223116
CREATED:20250710T101321Z
LAST-MODIFIED:20250710T101321Z
UID:10009328-555724800-555724800@www.discoverhollywood.com
SUMMARY:Mitch & Edi Making Love
DESCRIPTION:DesignHTMLWords: 0   Characters: 0
URL:https://www.discoverhollywood.com/event/mitch-edi-making-love/
LOCATION:Groundling Theatre\, 7307 Melrose Ave.\, Hollywood\, California
END:VEVENT
BEGIN:VEVENT
DTSTART;TZID=Asia/Kolkata:19870303T000000
DTEND;TZID=Asia/Kolkata:19870303T000000
DTSTAMP:20260422T223116
CREATED:20250710T101713Z
LAST-MODIFIED:20250710T101713Z
UID:10009490-541728000-541728000@www.discoverhollywood.com
SUMMARY:Mouth Full of Nothing
DESCRIPTION:Based on a real story%2c it%27s a one-man show about a coward finally speaking up after stroking rock bottom. Written and starring Jared Nigro.DesignHTMLWords: 24   Characters: 134
URL:https://www.discoverhollywood.com/event/mouth-full-of-nothing/
LOCATION:Groundling Theatre\, 7307 Melrose Ave.\, Hollywood\, California
END:VEVENT
BEGIN:VEVENT
DTSTART;TZID=Asia/Kolkata:19850515T000000
DTEND;TZID=Asia/Kolkata:19850515T000000
DTSTAMP:20260422T223116
CREATED:20250710T122701Z
LAST-MODIFIED:20250710T122701Z
UID:10010147-484963200-484963200@www.discoverhollywood.com
SUMMARY:One! With H Michael Croner
DESCRIPTION:One Actor. One Hour. One Show%3a Completely Improvised. Created and Directed by Deanna OliverDesignHTMLWords: 14   Characters: 87
URL:https://www.discoverhollywood.com/event/one-with-h-michael-croner/
LOCATION:Groundling Theatre\, 7307 Melrose Ave.\, Hollywood\, California
END:VEVENT
BEGIN:VEVENT
DTSTART;TZID=Asia/Kolkata:19830227T000000
DTEND;TZID=Asia/Kolkata:19830227T000000
DTSTAMP:20260422T223116
CREATED:20250714T093144Z
LAST-MODIFIED:20250714T093144Z
UID:10010525-415152000-415152000@www.discoverhollywood.com
SUMMARY:Power Wow #3
DESCRIPTION:With Phyllis Katz.\n%3cbr%3eDesignHTMLWords: 3   Characters: 17
URL:https://www.discoverhollywood.com/event/power-wow-3/
LOCATION:Groundling Theatre\, 7307 Melrose Ave.\, Hollywood\, California
END:VEVENT
BEGIN:VEVENT
DTSTART;TZID=Asia/Kolkata:19821214T000000
DTEND;TZID=Asia/Kolkata:19821214T000000
DTSTAMP:20260422T223116
CREATED:20250714T093405Z
LAST-MODIFIED:20250714T093405Z
UID:10010600-408672000-408672000@www.discoverhollywood.com
SUMMARY:Psychic Hotline
DESCRIPTION:%3cspan%3eThe Main Company conjurs up a magical%2c enchanting evening of hilarious%2c original sketch comedy. Good times are a mere phone call away.%3c/span%3eDesignHTMLWords: 22   Characters: 130
URL:https://www.discoverhollywood.com/event/psychic-hotline/
LOCATION:Groundling Theatre\, 7307 Melrose Ave.\, Hollywood\, California
END:VEVENT
BEGIN:VEVENT
DTSTART;TZID=Asia/Kolkata:19821011T000000
DTEND;TZID=Asia/Kolkata:19821011T000000
DTSTAMP:20260422T223116
CREATED:20250714T093706Z
LAST-MODIFIED:20250714T093706Z
UID:10010664-403142400-403142400@www.discoverhollywood.com
SUMMARY:Queen of Fishtown
DESCRIPTION:Kathleen gets the surprise of her life at her 40th birthday party.%3cdiv%3e\n	%3cbr%3e\n%3c/div%3e\n%3cdiv%3eTickets%3a%26nbsp%3bhttps%3a//purchase.groundlings.com/overview/15295%3c/div%3eDesignHTMLWords: 14   Characters: 120
URL:https://www.discoverhollywood.com/event/queen-of-fishtown/
LOCATION:Groundling Theatre\, 7307 Melrose Ave.\, Hollywood\, California
END:VEVENT
BEGIN:VEVENT
DTSTART;TZID=Asia/Kolkata:19781124T000000
DTEND;TZID=Asia/Kolkata:19781124T000000
DTSTAMP:20260422T223116
CREATED:20250714T122410Z
LAST-MODIFIED:20250714T122410Z
UID:10012059-280713600-280713600@www.discoverhollywood.com
SUMMARY:Sister Groundling
DESCRIPTION:DesignHTMLWords: 0   Characters: 0
URL:https://www.discoverhollywood.com/event/sister-groundling/
LOCATION:Groundling Theatre\, 7307 Melrose Ave.\, Hollywood\, California
END:VEVENT
BEGIN:VEVENT
DTSTART;TZID=Asia/Kolkata:19780924T000000
DTEND;TZID=Asia/Kolkata:19780924T000000
DTSTAMP:20260422T223116
CREATED:20250714T124350Z
LAST-MODIFIED:20250714T124350Z
UID:10012120-275443200-275443200@www.discoverhollywood.com
SUMMARY:Sleepaway Camp
DESCRIPTION:DesignHTMLWords: 0   Characters: 0
URL:https://www.discoverhollywood.com/event/sleepaway-camp-2/
LOCATION:Groundling Theatre\, 7307 Melrose Ave.\, Hollywood\, California
END:VEVENT
BEGIN:VEVENT
DTSTART;TZID=Asia/Kolkata:19780911T000000
DTEND;TZID=Asia/Kolkata:19780911T000000
DTSTAMP:20260422T223116
CREATED:20250714T124409Z
LAST-MODIFIED:20250714T124409Z
UID:10012133-274320000-274320000@www.discoverhollywood.com
SUMMARY:Slippery When Groundlings
DESCRIPTION:%3cbr%3eDesignHTMLWords: 0   Characters: 0
URL:https://www.discoverhollywood.com/event/slippery-when-groundlings/
LOCATION:Groundling Theatre\, 7307 Melrose Ave.\, Hollywood\, California
END:VEVENT
BEGIN:VEVENT
DTSTART;TZID=Asia/Kolkata:19771225T000000
DTEND;TZID=Asia/Kolkata:19771225T000000
DTSTAMP:20260422T223116
CREATED:20250715T085410Z
LAST-MODIFIED:20250715T085410Z
UID:10012394-251856000-251856000@www.discoverhollywood.com
SUMMARY:St. Groundlings Orphanage
DESCRIPTION:DesignHTMLWords: 0   Characters: 0
URL:https://www.discoverhollywood.com/event/st-groundlings-orphanage/
LOCATION:Groundling Theatre\, 7307 Melrose Ave.\, Hollywood\, California
END:VEVENT
BEGIN:VEVENT
DTSTART;TZID=Asia/Kolkata:19771206T000000
DTEND;TZID=Asia/Kolkata:19771206T000000
DTSTAMP:20260422T223116
CREATED:20250715T090013Z
LAST-MODIFIED:20250715T090013Z
UID:10012413-250214400-250214400@www.discoverhollywood.com
SUMMARY:Stakeout
DESCRIPTION:%3cp%3eGo undercover with the Groundlings every Friday and Saturday night and you%27ll be bound to see some suspicious behavior. Bring your partner in crime for a night of thrills%2c excitement%2c and of course%2c plenty of comedy%21 %3c/p%3e\n%3cp%3e%3cb%3e%3ci%3e%26nbsp%3b%3c/i%3e%3c/b%3e%3c/p%3eDesignHTMLWords: 36   Characters: 210
URL:https://www.discoverhollywood.com/event/stakeout/
LOCATION:Groundling Theatre\, 7307 Melrose Ave.\, Hollywood\, California
END:VEVENT
BEGIN:VEVENT
DTSTART;TZID=Asia/Kolkata:19770228T000000
DTEND;TZID=Asia/Kolkata:19770228T000000
DTSTAMP:20260422T223116
CREATED:20250715T092852Z
LAST-MODIFIED:20250715T092852Z
UID:10012694-225936000-225936000@www.discoverhollywood.com
SUMMARY:Sunday Over The Rainbow
DESCRIPTION:%3cspan%3eNew Sketch Comedy Weekly from the TOP level of The Groundlings School%21%3c/span%3eDesignHTMLWords: 12   Characters: 69
URL:https://www.discoverhollywood.com/event/sunday-over-the-rainbow/
LOCATION:Groundling Theatre\, 7307 Melrose Ave.\, Hollywood\, California
END:VEVENT
BEGIN:VEVENT
DTSTART;TZID=Asia/Kolkata:19770226T000000
DTEND;TZID=Asia/Kolkata:19770226T000000
DTSTAMP:20260422T223116
CREATED:20250715T092852Z
LAST-MODIFIED:20250715T092852Z
UID:10012696-225763200-225763200@www.discoverhollywood.com
SUMMARY:Sunday Youth Hostel
DESCRIPTION:DesignHTMLWords: 0   Characters: 0
URL:https://www.discoverhollywood.com/event/sunday-youth-hostel/
LOCATION:Groundling Theatre\, 7307 Melrose Ave.\, Hollywood\, California
END:VEVENT
BEGIN:VEVENT
DTSTART;TZID=Asia/Kolkata:19770223T000000
DTEND;TZID=Asia/Kolkata:19770223T000000
DTSTAMP:20260422T223116
CREATED:20250715T092903Z
LAST-MODIFIED:20250715T092903Z
UID:10012699-225504000-225504000@www.discoverhollywood.com
SUMMARY:Sundays of Future Past
DESCRIPTION:%3cp%3e- The Groundlings Theatre is gearing up for superpower Sundays with the all new sketch comedy show%2c %22%3cb%3eSundays of Future Past%3c/b%3e.%22 Grab your favorite sidekick and make sure to catch the always hilarious Groundlings team. If you need a jolt of comedy on Sunday night%2c The Groundlings are here to save the day%21%3c/p%3eDesignHTMLWords: 52   Characters: 294
URL:https://www.discoverhollywood.com/event/sundays-of-future-past/
LOCATION:Groundling Theatre\, 7307 Melrose Ave.\, Hollywood\, California
END:VEVENT
BEGIN:VEVENT
DTSTART;TZID=Asia/Kolkata:19770222T000000
DTEND;TZID=Asia/Kolkata:19770222T000000
DTSTAMP:20260422T223116
CREATED:20250715T092903Z
LAST-MODIFIED:20250715T092903Z
UID:10012700-225417600-225417600@www.discoverhollywood.com
SUMMARY:Sundays of Thunder
DESCRIPTION:The Groundlings Sunday Company puts forth new sketches every week in this new show.DesignHTMLWords: 14   Characters: 82
URL:https://www.discoverhollywood.com/event/sundays-of-thunder/
LOCATION:Groundling Theatre\, 7307 Melrose Ave.\, Hollywood\, California
END:VEVENT
END:VCALENDAR