BEGIN:VCALENDAR
VERSION:2.0
PRODID:-//Discover Hollywood Magazine - ECPv6.15.20//NONSGML v1.0//EN
CALSCALE:GREGORIAN
METHOD:PUBLISH
X-WR-CALNAME:Discover Hollywood Magazine
X-ORIGINAL-URL:https://www.discoverhollywood.com
X-WR-CALDESC:Events for Discover Hollywood Magazine
REFRESH-INTERVAL;VALUE=DURATION:PT1H
X-Robots-Tag:noindex
X-PUBLISHED-TTL:PT1H
BEGIN:VTIMEZONE
TZID:Asia/Kolkata
BEGIN:STANDARD
TZOFFSETFROM:+0530
TZOFFSETTO:+0530
TZNAME:IST
DTSTART:19690101T000000
END:STANDARD
END:VTIMEZONE
BEGIN:VEVENT
DTSTART;TZID=Asia/Kolkata:20220912T000000
DTEND;TZID=Asia/Kolkata:20220912T000000
DTSTAMP:20260425T093108
CREATED:20250630T090355Z
LAST-MODIFIED:20250630T090355Z
UID:10001183-1662940800-1662940800@www.discoverhollywood.com
SUMMARY:24 by One: An evening of One-Page Plays
DESCRIPTION:DesignHTMLWords: 0   Characters: 0
URL:https://www.discoverhollywood.com/event/24-by-one-an-evening-of-one-page-plays-2/
LOCATION:Hollywood Fight Club Theatre\, 6767 W. Sunset Blvd\, Hollywood\, California\, 90028
END:VEVENT
BEGIN:VEVENT
DTSTART;TZID=Asia/Kolkata:20210321T000000
DTEND;TZID=Asia/Kolkata:20210321T000000
DTSTAMP:20260425T093108
CREATED:20250630T095026Z
LAST-MODIFIED:20250630T095026Z
UID:10001363-1616284800-1616284800@www.discoverhollywood.com
SUMMARY:A Ho Ho Ho Christmas; or Jesus' Birthday Blowout
DESCRIPTION:DesignHTMLWords: 0   Characters: 0
URL:https://www.discoverhollywood.com/event/a-ho-ho-ho-christmas-or-jesus-birthday-blowout-2/
LOCATION:Hollywood Fight Club Theatre\, 6767 W. Sunset Blvd\, Hollywood\, California\, 90028
END:VEVENT
BEGIN:VEVENT
DTSTART;TZID=Asia/Kolkata:20160308T000000
DTEND;TZID=Asia/Kolkata:20160308T000000
DTSTAMP:20260425T093108
CREATED:20250630T110012Z
LAST-MODIFIED:20250630T110012Z
UID:10001971-1457395200-1457395200@www.discoverhollywood.com
SUMMARY:An Orphanage Christmas
DESCRIPTION:DesignHTMLWords: 0   Characters: 0
URL:https://www.discoverhollywood.com/event/an-orphanage-christmas-2/
LOCATION:Hollywood Fight Club Theatre\, 6767 W. Sunset Blvd\, Hollywood\, California\, 90028
END:VEVENT
BEGIN:VEVENT
DTSTART;TZID=Asia/Kolkata:19970522T000000
DTEND;TZID=Asia/Kolkata:19970522T000000
DTSTAMP:20260425T093108
CREATED:20250703T062021Z
LAST-MODIFIED:20250703T062021Z
UID:10005642-864259200-864259200@www.discoverhollywood.com
SUMMARY:Forever Fosse
DESCRIPTION:DesignHTMLWords: 0   Characters: 0
URL:https://www.discoverhollywood.com/event/forever-fosse/
LOCATION:Hollywood Fight Club Theatre\, 6767 W. Sunset Blvd\, Hollywood\, California\, 90028
END:VEVENT
BEGIN:VEVENT
DTSTART;TZID=Asia/Kolkata:19940214T000000
DTEND;TZID=Asia/Kolkata:19940214T000000
DTSTAMP:20260425T093108
CREATED:20250703T100124Z
LAST-MODIFIED:20250703T100124Z
UID:10006550-761184000-761184000@www.discoverhollywood.com
SUMMARY:Horror has a home
DESCRIPTION:DesignHTMLWords: 0   Characters: 0
URL:https://www.discoverhollywood.com/event/horror-has-a-home/
LOCATION:Hollywood Fight Club Theatre\, 6767 W. Sunset Blvd\, Hollywood\, California\, 90028
END:VEVENT
BEGIN:VEVENT
DTSTART;TZID=Asia/Kolkata:19900626T000000
DTEND;TZID=Asia/Kolkata:19900626T000000
DTSTAMP:20260425T093108
CREATED:20250709T093047Z
LAST-MODIFIED:20250709T093047Z
UID:10008539-646358400-646358400@www.discoverhollywood.com
SUMMARY:Live from The Grave\, Its John Belushi!
DESCRIPTION:DesignHTMLWords: 0   Characters: 0
URL:https://www.discoverhollywood.com/event/live-from-the-grave-its-john-belushi/
LOCATION:Hollywood Fight Club Theatre\, 6767 W. Sunset Blvd\, Hollywood\, California\, 90028
END:VEVENT
BEGIN:VEVENT
DTSTART;TZID=Asia/Kolkata:19801117T000000
DTEND;TZID=Asia/Kolkata:19801117T000000
DTSTAMP:20260425T093108
CREATED:20250714T103248Z
LAST-MODIFIED:20250714T103248Z
UID:10011157-343267200-343267200@www.discoverhollywood.com
SUMMARY:Romeo and Juliet\, The LA Story
DESCRIPTION:DesignHTMLWords: 0   Characters: 0
URL:https://www.discoverhollywood.com/event/romeo-and-juliet-the-la-story/
LOCATION:Hollywood Fight Club Theatre\, 6767 W. Sunset Blvd\, Hollywood\, California\, 90028
END:VEVENT
BEGIN:VEVENT
DTSTART;TZID=Asia/Kolkata:19781208T000000
DTEND;TZID=Asia/Kolkata:19781208T000000
DTSTAMP:20260425T093108
CREATED:20250714T122250Z
LAST-MODIFIED:20250714T122250Z
UID:10012045-281923200-281923200@www.discoverhollywood.com
SUMMARY:Single & Fabulous
DESCRIPTION:DesignHTMLWords: 0   Characters: 0
URL:https://www.discoverhollywood.com/event/single-fabulous/
LOCATION:Hollywood Fight Club Theatre\, 6767 W. Sunset Blvd\, Hollywood\, California\, 90028
END:VEVENT
BEGIN:VEVENT
DTSTART;TZID=Asia/Kolkata:19760224T000000
DTEND;TZID=Asia/Kolkata:19760224T000000
DTSTAMP:20260425T093108
CREATED:20250715T110952Z
LAST-MODIFIED:20250715T110952Z
UID:10013064-193968000-193968000@www.discoverhollywood.com
SUMMARY:The Angry Twelve
DESCRIPTION:DesignHTMLWords: 0   Characters: 0
URL:https://www.discoverhollywood.com/event/the-angry-twelve/
LOCATION:Hollywood Fight Club Theatre\, 6767 W. Sunset Blvd\, Hollywood\, California\, 90028
END:VEVENT
BEGIN:VEVENT
DTSTART;TZID=Asia/Kolkata:20260425T093108
DTEND;TZID=Asia/Kolkata:20260425T093108
DTSTAMP:20260425T093108
CREATED:20250716T083828Z
LAST-MODIFIED:20250716T083828Z
UID:10015410-0-0@www.discoverhollywood.com
SUMMARY:Wise Guys
DESCRIPTION:DesignHTMLWords: 0   Characters: 0
URL:https://www.discoverhollywood.com/event/wise-guys/
LOCATION:Hollywood Fight Club Theatre\, 6767 W. Sunset Blvd\, Hollywood\, California\, 90028
END:VEVENT
BEGIN:VEVENT
DTSTART;TZID=Asia/Kolkata:20260425T093108
DTEND;TZID=Asia/Kolkata:20260425T093108
DTSTAMP:20260425T093108
CREATED:20250716T083828Z
LAST-MODIFIED:20250716T083828Z
UID:10015411-0-0@www.discoverhollywood.com
SUMMARY:Wiseguys
DESCRIPTION:DesignHTMLWords: 0   Characters: 0
URL:https://www.discoverhollywood.com/event/wiseguys/
LOCATION:Hollywood Fight Club Theatre\, 6767 W. Sunset Blvd\, Hollywood\, California\, 90028
END:VEVENT
BEGIN:VEVENT
DTSTART;TZID=Asia/Kolkata:20260425T093108
DTEND;TZID=Asia/Kolkata:20260425T093108
DTSTAMP:20260425T093108
CREATED:20250714T114446Z
LAST-MODIFIED:20250714T114446Z
UID:10011647-0-0@www.discoverhollywood.com
SUMMARY:Saturday Night Live! Strikes Hollywood
DESCRIPTION:DesignHTMLWords: 0   Characters: 0
URL:https://www.discoverhollywood.com/event/saturday-night-live-strikes-hollywood/
LOCATION:Hollywood Fight Club Theatre\, 6767 W. Sunset Blvd\, Hollywood\, California\, 90028
END:VEVENT
END:VCALENDAR