BEGIN:VCALENDAR
VERSION:2.0
PRODID:-//Discover Hollywood Magazine - ECPv6.15.20//NONSGML v1.0//EN
CALSCALE:GREGORIAN
METHOD:PUBLISH
X-WR-CALNAME:Discover Hollywood Magazine
X-ORIGINAL-URL:https://www.discoverhollywood.com
X-WR-CALDESC:Events for Discover Hollywood Magazine
REFRESH-INTERVAL;VALUE=DURATION:PT1H
X-Robots-Tag:noindex
X-PUBLISHED-TTL:PT1H
BEGIN:VTIMEZONE
TZID:Asia/Kolkata
BEGIN:STANDARD
TZOFFSETFROM:+0530
TZOFFSETTO:+0530
TZNAME:IST
DTSTART:20040101T000000
END:STANDARD
END:VTIMEZONE
BEGIN:VEVENT
DTSTART;TZID=Asia/Kolkata:20141110T000000
DTEND;TZID=Asia/Kolkata:20141110T000000
DTSTAMP:20260423T015824
CREATED:20250630T114220Z
LAST-MODIFIED:20250630T114220Z
UID:10002192-1415577600-1415577600@www.discoverhollywood.com
SUMMARY:Arctic Monkeys
DESCRIPTION:DesignHTMLWords: 0   Characters: 0
URL:https://www.discoverhollywood.com/event/arctic-monkeys/
LOCATION:Hollywood Forever Cemetery\, 6000 Santa Monica Blvd.\, Hollywood\, California
END:VEVENT
BEGIN:VEVENT
DTSTART;TZID=Asia/Kolkata:20140725T000000
DTEND;TZID=Asia/Kolkata:20140725T000000
DTSTAMP:20260423T015824
CREATED:20250630T114506Z
LAST-MODIFIED:20250630T114506Z
UID:10002246-1406246400-1406246400@www.discoverhollywood.com
SUMMARY:Artic Monkeys
DESCRIPTION:DesignHTMLWords: 0   Characters: 0
URL:https://www.discoverhollywood.com/event/artic-monkeys/
LOCATION:Hollywood Forever Cemetery\, 6000 Santa Monica Blvd.\, Hollywood\, California
END:VEVENT
BEGIN:VEVENT
DTSTART;TZID=Asia/Kolkata:20140522T000000
DTEND;TZID=Asia/Kolkata:20140522T000000
DTSTAMP:20260423T015824
CREATED:20250630T114636Z
LAST-MODIFIED:20250630T114636Z
UID:10002278-1400716800-1400716800@www.discoverhollywood.com
SUMMARY:Asgeir
DESCRIPTION:%3cbr%3eDesignHTMLWords: 0   Characters: 0
URL:https://www.discoverhollywood.com/event/asgeir/
LOCATION:Hollywood Forever Cemetery\, 6000 Santa Monica Blvd.\, Hollywood\, California
END:VEVENT
BEGIN:VEVENT
DTSTART;TZID=Asia/Kolkata:20130608T000000
DTEND;TZID=Asia/Kolkata:20130608T000000
DTSTAMP:20260423T015824
CREATED:20250630T120444Z
LAST-MODIFIED:20250630T120444Z
UID:10002452-1370649600-1370649600@www.discoverhollywood.com
SUMMARY:Band of Skulls
DESCRIPTION:%3cbr%3eDesignHTMLWords: 0   Characters: 0
URL:https://www.discoverhollywood.com/event/band-of-skulls/
LOCATION:Hollywood Forever Cemetery\, 6000 Santa Monica Blvd.\, Hollywood\, California
END:VEVENT
BEGIN:VEVENT
DTSTART;TZID=Asia/Kolkata:20111212T000000
DTEND;TZID=Asia/Kolkata:20111212T000000
DTSTAMP:20260423T015824
CREATED:20250630T122854Z
LAST-MODIFIED:20250630T122854Z
UID:10002724-1323648000-1323648000@www.discoverhollywood.com
SUMMARY:Best in Show
DESCRIPTION:Join the Los Angeles LGBT Center OUT UNDER THE STARS%21 The Center’s Los Angeles Women’s Network and Young Professionals Council will host this unforgettable summer movie night series%2c benefiting the Center’s programs and services.%26nbsp%3b%3ca href%3d%22https%3a//www.ticketfly.com/purchase/event/1698217%3futm_medium%3dapi%26amp%3bq%3d6b3253f8-bee4-4cc4-9c3d-2f6ba52ecb21%26amp%3bp%3da22948f9-9695-491f-9912-5f9ba59ed5ed%26amp%3bts%3d1528415068%26amp%3bc%3dticketfly%26amp%3be%3d00549b%26amp%3brt%3dSafetynet%26amp%3bh%3dfe23941bbb710d6740e8d559e228f487%22 target%3d%22_blankDesignHTMLWords: 34   Characters: 226
URL:https://www.discoverhollywood.com/event/best-in-show/
LOCATION:Hollywood Forever Cemetery\, 6000 Santa Monica Blvd.\, Hollywood\, California
END:VEVENT
BEGIN:VEVENT
DTSTART;TZID=Asia/Kolkata:20110225T000000
DTEND;TZID=Asia/Kolkata:20110225T000000
DTSTAMP:20260423T015824
CREATED:20250630T123242Z
LAST-MODIFIED:20250630T123242Z
UID:10002870-1298592000-1298592000@www.discoverhollywood.com
SUMMARY:Billy Corgan
DESCRIPTION:An intimate evening with WIlliam Patrick Corgan as he performs songs from his newest album as well as a set with works from his early days with The Smashing Pumpkins.\n%3cbr%3eDesignHTMLWords: 30   Characters: 165
URL:https://www.discoverhollywood.com/event/billy-corgan/
LOCATION:Hollywood Forever Cemetery\, 6000 Santa Monica Blvd.\, Hollywood\, California
END:VEVENT
BEGIN:VEVENT
DTSTART;TZID=Asia/Kolkata:20101115T000000
DTEND;TZID=Asia/Kolkata:20101115T000000
DTSTAMP:20260423T015824
CREATED:20250630T130659Z
LAST-MODIFIED:20250716T121323Z
UID:10002921-1289779200-1289779200@www.discoverhollywood.com
SUMMARY:Black Mountain
DESCRIPTION:%3cbr%3eDesignHTMLWords: 0   Characters: 0
URL:https://www.discoverhollywood.com/event/black-mountain/
LOCATION:Hollywood Forever Cemetery\, 6000 Santa Monica Blvd.\, Hollywood\, California
END:VEVENT
BEGIN:VEVENT
DTSTART;TZID=Asia/Kolkata:20100626T000000
DTEND;TZID=Asia/Kolkata:20100626T000000
DTSTAMP:20260423T015824
CREATED:20250630T131033Z
LAST-MODIFIED:20250716T122145Z
UID:10002992-1277510400-1277510400@www.discoverhollywood.com
SUMMARY:Blonde Redhead
DESCRIPTION:%3cbr%3eDesignHTMLWords: 0   Characters: 0
URL:https://www.discoverhollywood.com/event/blonde-redhead-2/
LOCATION:Hollywood Forever Cemetery\, 6000 Santa Monica Blvd.\, Hollywood\, California
END:VEVENT
BEGIN:VEVENT
DTSTART;TZID=Asia/Kolkata:20091128T000000
DTEND;TZID=Asia/Kolkata:20091128T000000
DTSTAMP:20260423T015825
CREATED:20250630T131232Z
LAST-MODIFIED:20250716T124354Z
UID:10003097-1259366400-1259366400@www.discoverhollywood.com
SUMMARY:Bonnie "Prince" Billy with Emmett Kelly
DESCRIPTION:%3ca href%3d%22https%3a//hollywoodforever.com/events-calendar/%22%3ehttps%3a//hollywoodforever.com/events-calendar/%3c/a%3eDesignHTMLWords: 1   Characters: 42
URL:https://www.discoverhollywood.com/event/bonnie-prince-billy-with-emmett-kelly/
LOCATION:Hollywood Forever Cemetery\, 6000 Santa Monica Blvd.\, Hollywood\, California
END:VEVENT
BEGIN:VEVENT
DTSTART;TZID=Asia/Kolkata:20090225T000000
DTEND;TZID=Asia/Kolkata:20090225T000000
DTSTAMP:20260423T015825
CREATED:20250701T061516Z
LAST-MODIFIED:20250701T061516Z
UID:10003230-1235520000-1235520000@www.discoverhollywood.com
SUMMARY:Bring It On
DESCRIPTION:%3ca href%3d%22http%3a//cinespia.org/%22%3ehttp%3a//cinespia.org/%3c/a%3eDesignHTMLWords: 1   Characters: 18
URL:https://www.discoverhollywood.com/event/bring-it-on/
LOCATION:Hollywood Forever Cemetery\, 6000 Santa Monica Blvd.\, Hollywood\, California
END:VEVENT
BEGIN:VEVENT
DTSTART;TZID=Asia/Kolkata:20080710T000000
DTEND;TZID=Asia/Kolkata:20080710T000000
DTSTAMP:20260423T015825
CREATED:20250701T063254Z
LAST-MODIFIED:20250701T063254Z
UID:10003345-1215648000-1215648000@www.discoverhollywood.com
SUMMARY:Bullseye with Jesse Thorn
DESCRIPTION:Bullseye %28formerly known as The Sound of Young America%29 is a weekly celebration of the best of arts and culture. Host Jesse Thorn sifts the wheat from the chaff to bring listeners in-depth interviews with the most revered and revolutionary minds in our culture.\n%3cbr%3e\nThe show is carried by public radio stations around the country%2c and was the first public radio program west of the Mississippi to podcast.DesignHTMLWords: 68   Characters: 394
URL:https://www.discoverhollywood.com/event/bullseye-with-jesse-thorn/
LOCATION:Hollywood Forever Cemetery\, 6000 Santa Monica Blvd.\, Hollywood\, California
END:VEVENT
BEGIN:VEVENT
DTSTART;TZID=Asia/Kolkata:20070415T000000
DTEND;TZID=Asia/Kolkata:20070415T000000
DTSTAMP:20260423T015825
CREATED:20250701T070331Z
LAST-MODIFIED:20250701T070331Z
UID:10003476-1176595200-1176595200@www.discoverhollywood.com
SUMMARY:Caspian
DESCRIPTION:%3ca href%3d%22https%3a//hollywoodforever.com/events-calendar/%22%3ehttps%3a//hollywoodforever.com/events-calendar/%3c/a%3eDesignHTMLWords: 1   Characters: 42
URL:https://www.discoverhollywood.com/event/caspian/
LOCATION:Hollywood Forever Cemetery\, 6000 Santa Monica Blvd.\, Hollywood\, California
END:VEVENT
BEGIN:VEVENT
DTSTART;TZID=Asia/Kolkata:20070310T000000
DTEND;TZID=Asia/Kolkata:20070310T000000
DTSTAMP:20260423T015825
CREATED:20250701T070935Z
LAST-MODIFIED:20250701T070935Z
UID:10003494-1173484800-1173484800@www.discoverhollywood.com
SUMMARY:Cate le Bon
DESCRIPTION:%3cbr%3eDesignHTMLWords: 0   Characters: 0
URL:https://www.discoverhollywood.com/event/cate-le-bon/
LOCATION:Hollywood Forever Cemetery\, 6000 Santa Monica Blvd.\, Hollywood\, California
END:VEVENT
BEGIN:VEVENT
DTSTART;TZID=Asia/Kolkata:20050807T000000
DTEND;TZID=Asia/Kolkata:20050807T000000
DTSTAMP:20260423T015825
CREATED:20250701T091524Z
LAST-MODIFIED:20250701T091524Z
UID:10003784-1123372800-1123372800@www.discoverhollywood.com
SUMMARY:Cinespia - Almost Famous
DESCRIPTION:%3cbr%3eDesignHTMLWords: 0   Characters: 0
URL:https://www.discoverhollywood.com/event/cinespia-almost-famous/
LOCATION:Hollywood Forever Cemetery\, 6000 Santa Monica Blvd.\, Hollywood\, California
END:VEVENT
BEGIN:VEVENT
DTSTART;TZID=Asia/Kolkata:20050805T000000
DTEND;TZID=Asia/Kolkata:20050805T000000
DTSTAMP:20260423T015825
CREATED:20250701T091524Z
LAST-MODIFIED:20250701T091524Z
UID:10003785-1123200000-1123200000@www.discoverhollywood.com
SUMMARY:Cinespia - Jaws
DESCRIPTION:%3cbr%3eDesignHTMLWords: 0   Characters: 0
URL:https://www.discoverhollywood.com/event/cinespia-jaws/
LOCATION:Hollywood Forever Cemetery\, 6000 Santa Monica Blvd.\, Hollywood\, California
END:VEVENT
BEGIN:VEVENT
DTSTART;TZID=Asia/Kolkata:20050803T000000
DTEND;TZID=Asia/Kolkata:20050803T000000
DTSTAMP:20260423T015825
CREATED:20250701T091538Z
LAST-MODIFIED:20250701T091538Z
UID:10003786-1123027200-1123027200@www.discoverhollywood.com
SUMMARY:Cinespia - National Lampoon’s Vacation
DESCRIPTION:%3cbr%3eDesignHTMLWords: 0   Characters: 0
URL:https://www.discoverhollywood.com/event/cinespia-national-lampoons-vacation/
LOCATION:Hollywood Forever Cemetery\, 6000 Santa Monica Blvd.\, Hollywood\, California
END:VEVENT
BEGIN:VEVENT
DTSTART;TZID=Asia/Kolkata:20050801T000000
DTEND;TZID=Asia/Kolkata:20050801T000000
DTSTAMP:20260423T015825
CREATED:20250701T091538Z
LAST-MODIFIED:20250701T091538Z
UID:10003787-1122854400-1122854400@www.discoverhollywood.com
SUMMARY:Cinespia - Rear Window
DESCRIPTION:%3cbr%3eDesignHTMLWords: 0   Characters: 0
URL:https://www.discoverhollywood.com/event/cinespia-rear-window/
LOCATION:Hollywood Forever Cemetery\, 6000 Santa Monica Blvd.\, Hollywood\, California
END:VEVENT
BEGIN:VEVENT
DTSTART;TZID=Asia/Kolkata:20050730T000000
DTEND;TZID=Asia/Kolkata:20050730T000000
DTSTAMP:20260423T015825
CREATED:20250701T091539Z
LAST-MODIFIED:20250701T091539Z
UID:10003788-1122681600-1122681600@www.discoverhollywood.com
SUMMARY:Cinespia - Seven
DESCRIPTION:%3cbr%3eDesignHTMLWords: 0   Characters: 0
URL:https://www.discoverhollywood.com/event/cinespia-seven/
LOCATION:Hollywood Forever Cemetery\, 6000 Santa Monica Blvd.\, Hollywood\, California
END:VEVENT
BEGIN:VEVENT
DTSTART;TZID=Asia/Kolkata:20050728T000000
DTEND;TZID=Asia/Kolkata:20050728T000000
DTSTAMP:20260423T015825
CREATED:20250701T091539Z
LAST-MODIFIED:20250701T091539Z
UID:10003789-1122508800-1122508800@www.discoverhollywood.com
SUMMARY:Cinespia Cemetery Screenings
DESCRIPTION:DesignHTMLWords: 0   Characters: 0
URL:https://www.discoverhollywood.com/event/cinespia-cemetery-screenings/
LOCATION:Hollywood Forever Cemetery\, 6000 Santa Monica Blvd.\, Hollywood\, California
END:VEVENT
BEGIN:VEVENT
DTSTART;TZID=Asia/Kolkata:20050726T000000
DTEND;TZID=Asia/Kolkata:20050726T000000
DTSTAMP:20260423T015825
CREATED:20250701T091539Z
LAST-MODIFIED:20250701T091539Z
UID:10003790-1122336000-1122336000@www.discoverhollywood.com
SUMMARY:Cinespia's 8th Annual Slumber Party
DESCRIPTION:It’s double double toil and trouble and then some with witches all night long. The summer tradition is back with our 8th Annual Slumber Party%2c so assemble your coven for a night that’s wicked and wondrous in all the right ways with screenings of THE CRAFT%2c PRACTICAL MAGIC%2c and THE WITCHES OF EASTWICK.%26nbsp%3b %3ca href%3d%22http%3a//cinespia.org/event/8th-annual-slumber-party/%22 target%3d%22_blank%22%3ecinespia.org/event/8th-annual-slumber-party%3c/a%3eDesignHTMLWords: 54   Characters: 338
URL:https://www.discoverhollywood.com/event/cinespias-8th-annual-slumber-party/
LOCATION:Hollywood Forever Cemetery\, 6000 Santa Monica Blvd.\, Hollywood\, California
END:VEVENT
BEGIN:VEVENT
DTSTART;TZID=Asia/Kolkata:20050724T000000
DTEND;TZID=Asia/Kolkata:20050724T000000
DTSTAMP:20260423T015825
CREATED:20250701T091554Z
LAST-MODIFIED:20250701T091554Z
UID:10003791-1122163200-1122163200@www.discoverhollywood.com
SUMMARY:Cinespia: Alien
DESCRIPTION:DesignHTMLWords: 0   Characters: 0
URL:https://www.discoverhollywood.com/event/cinespia-alien/
LOCATION:Hollywood Forever Cemetery\, 6000 Santa Monica Blvd.\, Hollywood\, California
END:VEVENT
BEGIN:VEVENT
DTSTART;TZID=Asia/Kolkata:20050722T000000
DTEND;TZID=Asia/Kolkata:20050722T000000
DTSTAMP:20260423T015825
CREATED:20250701T091554Z
LAST-MODIFIED:20250701T091554Z
UID:10003792-1121990400-1121990400@www.discoverhollywood.com
SUMMARY:Cinespia: Barbarella
DESCRIPTION:Presented as part of the annual Johnny Ramone Tribute. Proceeds benefit the Johnny and Linda Ramone Foundation and Dr. David Agus for cancer research.DesignHTMLWords: 24   Characters: 147
URL:https://www.discoverhollywood.com/event/cinespia-barbarella/
LOCATION:Hollywood Forever Cemetery\, 6000 Santa Monica Blvd.\, Hollywood\, California
END:VEVENT
BEGIN:VEVENT
DTSTART;TZID=Asia/Kolkata:20050720T000000
DTEND;TZID=Asia/Kolkata:20050720T000000
DTSTAMP:20260423T015825
CREATED:20250701T091554Z
LAST-MODIFIED:20250701T091554Z
UID:10003793-1121817600-1121817600@www.discoverhollywood.com
SUMMARY:Cinespia: Beverly Hills Cop
DESCRIPTION:DesignHTMLWords: 0   Characters: 0
URL:https://www.discoverhollywood.com/event/cinespia-beverly-hills-cop/
LOCATION:Hollywood Forever Cemetery\, 6000 Santa Monica Blvd.\, Hollywood\, California
END:VEVENT
BEGIN:VEVENT
DTSTART;TZID=Asia/Kolkata:20050718T000000
DTEND;TZID=Asia/Kolkata:20050718T000000
DTSTAMP:20260423T015825
CREATED:20250701T091555Z
LAST-MODIFIED:20250701T091555Z
UID:10003794-1121644800-1121644800@www.discoverhollywood.com
SUMMARY:Cinespia: Big
DESCRIPTION:DesignHTMLWords: 0   Characters: 0
URL:https://www.discoverhollywood.com/event/cinespia-big/
LOCATION:Hollywood Forever Cemetery\, 6000 Santa Monica Blvd.\, Hollywood\, California
END:VEVENT
BEGIN:VEVENT
DTSTART;TZID=Asia/Kolkata:20050716T000000
DTEND;TZID=Asia/Kolkata:20050716T000000
DTSTAMP:20260423T015825
CREATED:20250701T091555Z
LAST-MODIFIED:20250701T091555Z
UID:10003795-1121472000-1121472000@www.discoverhollywood.com
SUMMARY:Cinespia: Casablanca
DESCRIPTION:DesignHTMLWords: 0   Characters: 0
URL:https://www.discoverhollywood.com/event/cinespia-casablanca/
LOCATION:Hollywood Forever Cemetery\, 6000 Santa Monica Blvd.\, Hollywood\, California
END:VEVENT
BEGIN:VEVENT
DTSTART;TZID=Asia/Kolkata:20050714T000000
DTEND;TZID=Asia/Kolkata:20050714T000000
DTSTAMP:20260423T015825
CREATED:20250701T091637Z
LAST-MODIFIED:20250701T091637Z
UID:10003796-1121299200-1121299200@www.discoverhollywood.com
SUMMARY:Cinespia: Drive
DESCRIPTION:DesignHTMLWords: 0   Characters: 0
URL:https://www.discoverhollywood.com/event/cinespia-drive/
LOCATION:Hollywood Forever Cemetery\, 6000 Santa Monica Blvd.\, Hollywood\, California
END:VEVENT
BEGIN:VEVENT
DTSTART;TZID=Asia/Kolkata:20050712T000000
DTEND;TZID=Asia/Kolkata:20050712T000000
DTSTAMP:20260423T015825
CREATED:20250701T091637Z
LAST-MODIFIED:20250701T091637Z
UID:10003797-1121126400-1121126400@www.discoverhollywood.com
SUMMARY:Cinespia: Footloose
DESCRIPTION:DesignHTMLWords: 0   Characters: 0
URL:https://www.discoverhollywood.com/event/cinespia-footloose/
LOCATION:Hollywood Forever Cemetery\, 6000 Santa Monica Blvd.\, Hollywood\, California
END:VEVENT
BEGIN:VEVENT
DTSTART;TZID=Asia/Kolkata:20050710T000000
DTEND;TZID=Asia/Kolkata:20050710T000000
DTSTAMP:20260423T015825
CREATED:20250701T091637Z
LAST-MODIFIED:20250701T091637Z
UID:10003798-1120953600-1120953600@www.discoverhollywood.com
SUMMARY:Cinespia: Halloween
DESCRIPTION:The terrifying original in the cemetery%21 Presented as a 4k restoration on the big screen for the 40th anniversary of one of the greatest horror films of all times.%26nbsp%3b%3cdiv%3e\n	%3cbr%3e\n%3c/div%3e\n%3cdiv%3e\n	%3ca href%3d%22http%3a//www.hollywoodforever.com/culture%22 target%3d%22_blank%22%3e%26nbsp%3bwww.hollywoodforever.com/culture%3c/a%3e\n%3c/div%3eDesignHTMLWords: 30   Characters: 196
URL:https://www.discoverhollywood.com/event/cinespia-halloween/
LOCATION:Hollywood Forever Cemetery\, 6000 Santa Monica Blvd.\, Hollywood\, California
END:VEVENT
BEGIN:VEVENT
DTSTART;TZID=Asia/Kolkata:20050708T000000
DTEND;TZID=Asia/Kolkata:20050708T000000
DTSTAMP:20260423T015825
CREATED:20250701T091637Z
LAST-MODIFIED:20250701T091637Z
UID:10003799-1120780800-1120780800@www.discoverhollywood.com
SUMMARY:Cinespia: Legally Blonde
DESCRIPTION:%3cspan%3ePractice your bend and snap and watch giddy Elle give the drab law school a makeover from the inside out%21 Selma Blair%2c Luke Wilson%2c Jennifer Coolidge%2c and Ali Larter also star in this sublime slice of 2000s pop optimism%21 Bring beer and wine%2c a picnic and dress up for our custom Legally Blonde themed photo booth.%3c/span%3eDesignHTMLWords: 56   Characters: 306
URL:https://www.discoverhollywood.com/event/cinespia-legally-blonde/
LOCATION:Hollywood Forever Cemetery\, 6000 Santa Monica Blvd.\, Hollywood\, California
END:VEVENT
BEGIN:VEVENT
DTSTART;TZID=Asia/Kolkata:20050706T000000
DTEND;TZID=Asia/Kolkata:20050706T000000
DTSTAMP:20260423T015825
CREATED:20250701T091637Z
LAST-MODIFIED:20250701T091637Z
UID:10003800-1120608000-1120608000@www.discoverhollywood.com
SUMMARY:Cinespia: Now and Then
DESCRIPTION:DesignHTMLWords: 0   Characters: 0
URL:https://www.discoverhollywood.com/event/cinespia-now-and-then/
LOCATION:Hollywood Forever Cemetery\, 6000 Santa Monica Blvd.\, Hollywood\, California
END:VEVENT
END:VCALENDAR