BEGIN:VCALENDAR
VERSION:2.0
PRODID:-//Discover Hollywood Magazine - ECPv6.15.17//NONSGML v1.0//EN
CALSCALE:GREGORIAN
METHOD:PUBLISH
X-ORIGINAL-URL:https://www.discoverhollywood.com
X-WR-CALDESC:Events for Discover Hollywood Magazine
REFRESH-INTERVAL;VALUE=DURATION:PT1H
X-Robots-Tag:noindex
X-PUBLISHED-TTL:PT1H
BEGIN:VTIMEZONE
TZID:Asia/Kolkata
BEGIN:STANDARD
TZOFFSETFROM:+0530
TZOFFSETTO:+0530
TZNAME:IST
DTSTART:20120101T000000
END:STANDARD
END:VTIMEZONE
BEGIN:VEVENT
DTSTART;TZID=Asia/Kolkata:20230215T000000
DTEND;TZID=Asia/Kolkata:20230215T000000
DTSTAMP:20260422T064532
CREATED:20250630T090125Z
LAST-MODIFIED:20250630T090125Z
UID:10001131-1676419200-1676419200@www.discoverhollywood.com
SUMMARY:2010 Video Music Awards benefit for LIFEbeat with Ke$ha and B.o.B
DESCRIPTION:DesignHTMLWords: 0   Characters: 0
URL:https://www.discoverhollywood.com/event/2010-video-music-awards-benefit-for-lifebeat-with-keha-and-b-o-b-2/
LOCATION:House of Blues\, 8430 Sunset Blvd\, Hollywood\, California
END:VEVENT
BEGIN:VEVENT
DTSTART;TZID=Asia/Kolkata:20221226T000000
DTEND;TZID=Asia/Kolkata:20221226T000000
DTSTAMP:20260422T064532
CREATED:20250630T090210Z
LAST-MODIFIED:20250630T090210Z
UID:10001148-1672012800-1672012800@www.discoverhollywood.com
SUMMARY:2015 XG Extreme Guitar Tour
DESCRIPTION:%3cbr%3eDesignHTMLWords: 0   Characters: 0
URL:https://www.discoverhollywood.com/event/2015-xg-extreme-guitar-tour-2/
LOCATION:House of Blues\, 8430 Sunset Blvd\, Hollywood\, California
END:VEVENT
BEGIN:VEVENT
DTSTART;TZID=Asia/Kolkata:20220711T000000
DTEND;TZID=Asia/Kolkata:20220711T000000
DTSTAMP:20260422T064532
CREATED:20250630T090455Z
LAST-MODIFIED:20250630T090455Z
UID:10001204-1657497600-1657497600@www.discoverhollywood.com
SUMMARY:3 Doors Down
DESCRIPTION:DesignHTMLWords: 0   Characters: 0
URL:https://www.discoverhollywood.com/event/3-doors-down-2/
LOCATION:House of Blues\, 8430 Sunset Blvd\, Hollywood\, California
END:VEVENT
BEGIN:VEVENT
DTSTART;TZID=Asia/Kolkata:20200225T000000
DTEND;TZID=Asia/Kolkata:20200225T000000
DTSTAMP:20260422T064532
CREATED:20250630T100523Z
LAST-MODIFIED:20250630T100523Z
UID:10001493-1582588800-1582588800@www.discoverhollywood.com
SUMMARY:ABC
DESCRIPTION:DesignHTMLWords: 0   Characters: 0
URL:https://www.discoverhollywood.com/event/abc-2/
LOCATION:House of Blues\, 8430 Sunset Blvd\, Hollywood\, California
END:VEVENT
BEGIN:VEVENT
DTSTART;TZID=Asia/Kolkata:20200216T000000
DTEND;TZID=Asia/Kolkata:20200216T000000
DTSTAMP:20260422T064532
CREATED:20250630T100724Z
LAST-MODIFIED:20250630T100724Z
UID:10001496-1581811200-1581811200@www.discoverhollywood.com
SUMMARY:Abigail Williams
DESCRIPTION:%3cbr%3eDesignHTMLWords: 0   Characters: 0
URL:https://www.discoverhollywood.com/event/abigail-williams-2/
LOCATION:House of Blues\, 8430 Sunset Blvd\, Hollywood\, California
END:VEVENT
BEGIN:VEVENT
DTSTART;TZID=Asia/Kolkata:20190901T000000
DTEND;TZID=Asia/Kolkata:20190901T000000
DTSTAMP:20260422T064532
CREATED:20250630T102803Z
LAST-MODIFIED:20250630T102803Z
UID:10001547-1567296000-1567296000@www.discoverhollywood.com
SUMMARY:Adan Valdez Presents Gustavo Galindo with Octaviored and Aro Solar
DESCRIPTION:DesignHTMLWords: 0   Characters: 0
URL:https://www.discoverhollywood.com/event/adan-valdez-presents-gustavo-galindo-with-octaviored-and-aro-solar-2/
LOCATION:House of Blues\, 8430 Sunset Blvd\, Hollywood\, California
END:VEVENT
BEGIN:VEVENT
DTSTART;TZID=Asia/Kolkata:20190829T000000
DTEND;TZID=Asia/Kolkata:20190829T000000
DTSTAMP:20260422T064532
CREATED:20250630T102804Z
LAST-MODIFIED:20250630T102804Z
UID:10001548-1567036800-1567036800@www.discoverhollywood.com
SUMMARY:Adan Valdez Presents: Pastilla
DESCRIPTION:DesignHTMLWords: 0   Characters: 0
URL:https://www.discoverhollywood.com/event/adan-valdez-presents-pastilla-2/
LOCATION:House of Blues\, 8430 Sunset Blvd\, Hollywood\, California
END:VEVENT
BEGIN:VEVENT
DTSTART;TZID=Asia/Kolkata:20190826T000000
DTEND;TZID=Asia/Kolkata:20190826T000000
DTSTAMP:20260422T064532
CREATED:20250630T102804Z
LAST-MODIFIED:20250630T102804Z
UID:10001549-1566777600-1566777600@www.discoverhollywood.com
SUMMARY:Adan Valdez: Casa Rockera 80's
DESCRIPTION:DesignHTMLWords: 0   Characters: 0
URL:https://www.discoverhollywood.com/event/adan-valdez-casa-rockera-80s-2/
LOCATION:House of Blues\, 8430 Sunset Blvd\, Hollywood\, California
END:VEVENT
BEGIN:VEVENT
DTSTART;TZID=Asia/Kolkata:20190522T000000
DTEND;TZID=Asia/Kolkata:20190522T000000
DTSTAMP:20260422T064532
CREATED:20250630T102948Z
LAST-MODIFIED:20250630T102948Z
UID:10001581-1558483200-1558483200@www.discoverhollywood.com
SUMMARY:After Midnight
DESCRIPTION:7%3a30 Chattavon Bratts\n%3cbr%3e\n8%3a30 Erika Davidson\n%3cbr%3e\n9%3a30 Lauren Roze\n%3cbr%3e\n10%3a30 After Midnight\n%3cbr%3e\n11%3a30 Jordan Booth\n%3cbr%3eDesignHTMLWords: 15   Characters: 93
URL:https://www.discoverhollywood.com/event/after-midnight-2/
LOCATION:House of Blues\, 8430 Sunset Blvd\, Hollywood\, California
END:VEVENT
BEGIN:VEVENT
DTSTART;TZID=Asia/Kolkata:20190107T000000
DTEND;TZID=Asia/Kolkata:20190107T000000
DTSTAMP:20260422T064532
CREATED:20250630T103203Z
LAST-MODIFIED:20250630T103203Z
UID:10001626-1546819200-1546819200@www.discoverhollywood.com
SUMMARY:Al Di Meola
DESCRIPTION:DesignHTMLWords: 0   Characters: 0
URL:https://www.discoverhollywood.com/event/al-di-meola-2/
LOCATION:House of Blues\, 8430 Sunset Blvd\, Hollywood\, California
END:VEVENT
BEGIN:VEVENT
DTSTART;TZID=Asia/Kolkata:20180328T000000
DTEND;TZID=Asia/Kolkata:20180328T000000
DTSTAMP:20260422T064532
CREATED:20250630T103648Z
LAST-MODIFIED:20250630T103648Z
UID:10001721-1522195200-1522195200@www.discoverhollywood.com
SUMMARY:Alkaline Trio w/Cursive\, The Dear & Departed
DESCRIPTION:DesignHTMLWords: 0   Characters: 0
URL:https://www.discoverhollywood.com/event/alkaline-trio-w-cursive-the-dear-departed-2/
LOCATION:House of Blues\, 8430 Sunset Blvd\, Hollywood\, California
END:VEVENT
BEGIN:VEVENT
DTSTART;TZID=Asia/Kolkata:20180211T000000
DTEND;TZID=Asia/Kolkata:20180211T000000
DTSTAMP:20260422T064532
CREATED:20250630T103925Z
LAST-MODIFIED:20250630T103925Z
UID:10001736-1518307200-1518307200@www.discoverhollywood.com
SUMMARY:All My Rowdy Friends
DESCRIPTION:%3cbr%3eDesignHTMLWords: 0   Characters: 0
URL:https://www.discoverhollywood.com/event/all-my-rowdy-friends-2/
LOCATION:House of Blues\, 8430 Sunset Blvd\, Hollywood\, California
END:VEVENT
BEGIN:VEVENT
DTSTART;TZID=Asia/Kolkata:20180106T000000
DTEND;TZID=Asia/Kolkata:20180106T000000
DTSTAMP:20260422T064532
CREATED:20250630T103955Z
LAST-MODIFIED:20250630T103955Z
UID:10001748-1515196800-1515196800@www.discoverhollywood.com
SUMMARY:All Stars Weekend
DESCRIPTION:DesignHTMLWords: 0   Characters: 0
URL:https://www.discoverhollywood.com/event/all-stars-weekend-2/
LOCATION:House of Blues\, 8430 Sunset Blvd\, Hollywood\, California
END:VEVENT
BEGIN:VEVENT
DTSTART;TZID=Asia/Kolkata:20171110T000000
DTEND;TZID=Asia/Kolkata:20171110T000000
DTSTAMP:20260422T064532
CREATED:20250630T104055Z
LAST-MODIFIED:20250630T104055Z
UID:10001767-1510272000-1510272000@www.discoverhollywood.com
SUMMARY:Allstar Weekend with Stephen Jerzak\, The Scene Aesthetic\, and Action Item\, Loventures
DESCRIPTION:DesignHTMLWords: 0   Characters: 0
URL:https://www.discoverhollywood.com/event/allstar-weekend-with-stephen-jerzak-the-scene-aesthetic-and-action-item-loventures-2/
LOCATION:House of Blues\, 8430 Sunset Blvd\, Hollywood\, California
END:VEVENT
BEGIN:VEVENT
DTSTART;TZID=Asia/Kolkata:20170908T000000
DTEND;TZID=Asia/Kolkata:20170908T000000
DTSTAMP:20260422T064532
CREATED:20250630T104155Z
LAST-MODIFIED:20250630T104155Z
UID:10001788-1504828800-1504828800@www.discoverhollywood.com
SUMMARY:Alter Bridge\, Taddy Porter\, Like A Storm
DESCRIPTION:DesignHTMLWords: 0   Characters: 0
URL:https://www.discoverhollywood.com/event/alter-bridge-taddy-porter-like-a-storm-2/
LOCATION:House of Blues\, 8430 Sunset Blvd\, Hollywood\, California
END:VEVENT
BEGIN:VEVENT
DTSTART;TZID=Asia/Kolkata:20170827T000000
DTEND;TZID=Asia/Kolkata:20170827T000000
DTSTAMP:20260422T064532
CREATED:20250630T104211Z
LAST-MODIFIED:20250630T104211Z
UID:10001792-1503792000-1503792000@www.discoverhollywood.com
SUMMARY:Alvester Martin
DESCRIPTION:%3cbr%3eDesignHTMLWords: 0   Characters: 0
URL:https://www.discoverhollywood.com/event/alvester-martin-2/
LOCATION:House of Blues\, 8430 Sunset Blvd\, Hollywood\, California
END:VEVENT
BEGIN:VEVENT
DTSTART;TZID=Asia/Kolkata:20170312T000000
DTEND;TZID=Asia/Kolkata:20170312T000000
DTSTAMP:20260422T064532
CREATED:20250630T105357Z
LAST-MODIFIED:20250630T105357Z
UID:10001848-1489276800-1489276800@www.discoverhollywood.com
SUMMARY:Amon Amarth
DESCRIPTION:DesignHTMLWords: 0   Characters: 0
URL:https://www.discoverhollywood.com/event/amon-amarth-2/
LOCATION:House of Blues\, 8430 Sunset Blvd\, Hollywood\, California
END:VEVENT
BEGIN:VEVENT
DTSTART;TZID=Asia/Kolkata:20160925T000000
DTEND;TZID=Asia/Kolkata:20160925T000000
DTSTAMP:20260422T064532
CREATED:20250630T105734Z
LAST-MODIFIED:20250630T105734Z
UID:10001904-1474761600-1474761600@www.discoverhollywood.com
SUMMARY:An Evening with Collective Soul
DESCRIPTION:DesignHTMLWords: 0   Characters: 0
URL:https://www.discoverhollywood.com/event/an-evening-with-collective-soul-2/
LOCATION:House of Blues\, 8430 Sunset Blvd\, Hollywood\, California
END:VEVENT
BEGIN:VEVENT
DTSTART;TZID=Asia/Kolkata:20160117T000000
DTEND;TZID=Asia/Kolkata:20160117T000000
DTSTAMP:20260422T064532
CREATED:20250630T110038Z
LAST-MODIFIED:20250630T110038Z
UID:10001988-1452988800-1452988800@www.discoverhollywood.com
SUMMARY:Anberlin - The Final Tour
DESCRIPTION:%3cbr%3eDesignHTMLWords: 0   Characters: 0
URL:https://www.discoverhollywood.com/event/anberlin-the-final-tour-2/
LOCATION:House of Blues\, 8430 Sunset Blvd\, Hollywood\, California
END:VEVENT
BEGIN:VEVENT
DTSTART;TZID=Asia/Kolkata:20160114T000000
DTEND;TZID=Asia/Kolkata:20160114T000000
DTSTAMP:20260422T064532
CREATED:20250630T110038Z
LAST-MODIFIED:20250630T110038Z
UID:10001989-1452729600-1452729600@www.discoverhollywood.com
SUMMARY:Anberlin Feat: Crash Kings & Civil Twilight
DESCRIPTION:DesignHTMLWords: 0   Characters: 0
URL:https://www.discoverhollywood.com/event/anberlin-feat-crash-kings-civil-twilight-2/
LOCATION:House of Blues\, 8430 Sunset Blvd\, Hollywood\, California
END:VEVENT
BEGIN:VEVENT
DTSTART;TZID=Asia/Kolkata:20150916T000000
DTEND;TZID=Asia/Kolkata:20150916T000000
DTSTAMP:20260422T064533
CREATED:20250630T113435Z
LAST-MODIFIED:20250630T113435Z
UID:10002037-1442361600-1442361600@www.discoverhollywood.com
SUMMARY:Andy Grammer with The Rescues
DESCRIPTION:DesignHTMLWords: 0   Characters: 0
URL:https://www.discoverhollywood.com/event/andy-grammer-with-the-rescues/
LOCATION:House of Blues\, 8430 Sunset Blvd\, Hollywood\, California
END:VEVENT
BEGIN:VEVENT
DTSTART;TZID=Asia/Kolkata:20150906T000000
DTEND;TZID=Asia/Kolkata:20150906T000000
DTSTAMP:20260422T064533
CREATED:20250630T113450Z
LAST-MODIFIED:20250630T113450Z
UID:10002042-1441497600-1441497600@www.discoverhollywood.com
SUMMARY:Andy McKee
DESCRIPTION:%3cbr%3eDesignHTMLWords: 0   Characters: 0
URL:https://www.discoverhollywood.com/event/andy-mckee/
LOCATION:House of Blues\, 8430 Sunset Blvd\, Hollywood\, California
END:VEVENT
BEGIN:VEVENT
DTSTART;TZID=Asia/Kolkata:20150119T000000
DTEND;TZID=Asia/Kolkata:20150119T000000
DTSTAMP:20260422T064533
CREATED:20250630T114035Z
LAST-MODIFIED:20250630T114035Z
UID:10002157-1421625600-1421625600@www.discoverhollywood.com
SUMMARY:AP Tour featuring Four Year Strong\, Gallows\, Title Fight\, The Swellers\, & Sharks
DESCRIPTION:DesignHTMLWords: 0   Characters: 0
URL:https://www.discoverhollywood.com/event/ap-tour-featuring-four-year-strong-gallows-title-fight-the-swellers-sharks/
LOCATION:House of Blues\, 8430 Sunset Blvd\, Hollywood\, California
END:VEVENT
BEGIN:VEVENT
DTSTART;TZID=Asia/Kolkata:20150117T000000
DTEND;TZID=Asia/Kolkata:20150117T000000
DTSTAMP:20260422T064533
CREATED:20250630T114035Z
LAST-MODIFIED:20250630T114035Z
UID:10002158-1421452800-1421452800@www.discoverhollywood.com
SUMMARY:AP Tour featuring Never Shout Never w/special guests Hey Monday\, The Cab\, Every Avenue\, and The Summer Set
DESCRIPTION:DesignHTMLWords: 0   Characters: 0
URL:https://www.discoverhollywood.com/event/ap-tour-featuring-never-shout-never-w-special-guests-hey-monday-the-cab-every-avenue-and-the-summer-set/
LOCATION:House of Blues\, 8430 Sunset Blvd\, Hollywood\, California
END:VEVENT
BEGIN:VEVENT
DTSTART;TZID=Asia/Kolkata:20141226T000000
DTEND;TZID=Asia/Kolkata:20141226T000000
DTSTAMP:20260422T064533
CREATED:20250630T114106Z
LAST-MODIFIED:20250630T114106Z
UID:10002169-1419552000-1419552000@www.discoverhollywood.com
SUMMARY:Appetite 4 Destruction
DESCRIPTION:DesignHTMLWords: 0   Characters: 0
URL:https://www.discoverhollywood.com/event/appetite-4-destruction/
LOCATION:House of Blues\, 8430 Sunset Blvd\, Hollywood\, California
END:VEVENT
BEGIN:VEVENT
DTSTART;TZID=Asia/Kolkata:20141212T000000
DTEND;TZID=Asia/Kolkata:20141212T000000
DTSTAMP:20260422T064533
CREATED:20250630T114135Z
LAST-MODIFIED:20250630T114135Z
UID:10002176-1418342400-1418342400@www.discoverhollywood.com
SUMMARY:Arch Enemy
DESCRIPTION:DesignHTMLWords: 0   Characters: 0
URL:https://www.discoverhollywood.com/event/arch-enemy/
LOCATION:House of Blues\, 8430 Sunset Blvd\, Hollywood\, California
END:VEVENT
BEGIN:VEVENT
DTSTART;TZID=Asia/Kolkata:20140919T000000
DTEND;TZID=Asia/Kolkata:20140919T000000
DTSTAMP:20260422T064533
CREATED:20250630T114335Z
LAST-MODIFIED:20250630T114335Z
UID:10002218-1411084800-1411084800@www.discoverhollywood.com
SUMMARY:Armored Saint\, Holy Grail\, Riot Brides
DESCRIPTION:DesignHTMLWords: 0   Characters: 0
URL:https://www.discoverhollywood.com/event/armored-saint-holy-grail-riot-brides/
LOCATION:House of Blues\, 8430 Sunset Blvd\, Hollywood\, California
END:VEVENT
BEGIN:VEVENT
DTSTART;TZID=Asia/Kolkata:20140629T000000
DTEND;TZID=Asia/Kolkata:20140629T000000
DTSTAMP:20260422T064533
CREATED:20250630T114536Z
LAST-MODIFIED:20250630T114536Z
UID:10002259-1404000000-1404000000@www.discoverhollywood.com
SUMMARY:Artwork Jamal
DESCRIPTION:DesignHTMLWords: 0   Characters: 0
URL:https://www.discoverhollywood.com/event/artwork-jamal/
LOCATION:House of Blues\, 8430 Sunset Blvd\, Hollywood\, California
END:VEVENT
BEGIN:VEVENT
DTSTART;TZID=Asia/Kolkata:20140301T000000
DTEND;TZID=Asia/Kolkata:20140301T000000
DTSTAMP:20260422T064533
CREATED:20250630T115827Z
LAST-MODIFIED:20250630T115827Z
UID:10002319-1393632000-1393632000@www.discoverhollywood.com
SUMMARY:Attila
DESCRIPTION:%3cbr%3eDesignHTMLWords: 0   Characters: 0
URL:https://www.discoverhollywood.com/event/attila/
LOCATION:House of Blues\, 8430 Sunset Blvd\, Hollywood\, California
END:VEVENT
BEGIN:VEVENT
DTSTART;TZID=Asia/Kolkata:20130720T000000
DTEND;TZID=Asia/Kolkata:20130720T000000
DTSTAMP:20260422T064533
CREATED:20250630T120422Z
LAST-MODIFIED:20250630T120422Z
UID:10002431-1374278400-1374278400@www.discoverhollywood.com
SUMMARY:Badfish--A Tribute to Sublime with Pacific Dub and Scotty Don't
DESCRIPTION:DesignHTMLWords: 0   Characters: 0
URL:https://www.discoverhollywood.com/event/badfish-a-tribute-to-sublime-with-pacific-dub-and-scotty-dont/
LOCATION:House of Blues\, 8430 Sunset Blvd\, Hollywood\, California
END:VEVENT
END:VCALENDAR