BEGIN:VCALENDAR
VERSION:2.0
PRODID:-//Discover Hollywood Magazine - ECPv6.15.17//NONSGML v1.0//EN
CALSCALE:GREGORIAN
METHOD:PUBLISH
X-WR-CALNAME:Discover Hollywood Magazine
X-ORIGINAL-URL:https://www.discoverhollywood.com
X-WR-CALDESC:Events for Discover Hollywood Magazine
REFRESH-INTERVAL;VALUE=DURATION:PT1H
X-Robots-Tag:noindex
X-PUBLISHED-TTL:PT1H
BEGIN:VTIMEZONE
TZID:America/Los_Angeles
BEGIN:DAYLIGHT
TZOFFSETFROM:-0800
TZOFFSETTO:-0700
TZNAME:PDT
DTSTART:20250309T100000
END:DAYLIGHT
BEGIN:STANDARD
TZOFFSETFROM:-0700
TZOFFSETTO:-0800
TZNAME:PST
DTSTART:20251102T090000
END:STANDARD
BEGIN:DAYLIGHT
TZOFFSETFROM:-0800
TZOFFSETTO:-0700
TZNAME:PDT
DTSTART:20260308T100000
END:DAYLIGHT
BEGIN:STANDARD
TZOFFSETFROM:-0700
TZOFFSETTO:-0800
TZNAME:PST
DTSTART:20261101T090000
END:STANDARD
BEGIN:DAYLIGHT
TZOFFSETFROM:-0800
TZOFFSETTO:-0700
TZNAME:PDT
DTSTART:20270314T100000
END:DAYLIGHT
BEGIN:STANDARD
TZOFFSETFROM:-0700
TZOFFSETTO:-0800
TZNAME:PST
DTSTART:20271107T090000
END:STANDARD
END:VTIMEZONE
BEGIN:VTIMEZONE
TZID:Asia/Kolkata
BEGIN:STANDARD
TZOFFSETFROM:+0530
TZOFFSETTO:+0530
TZNAME:IST
DTSTART:19960101T000000
END:STANDARD
END:VTIMEZONE
BEGIN:VEVENT
DTSTART;TZID=America/Los_Angeles:20260320T190000
DTEND;TZID=America/Los_Angeles:20260320T210000
DTSTAMP:20260421T221355
CREATED:20260312T220532Z
LAST-MODIFIED:20260312T220532Z
UID:10030613-1774033200-1774040400@www.discoverhollywood.com
SUMMARY:Hesh Pierre & His People (Concert)
DESCRIPTION:Experience an evening defined by the smooth\, soul-stirring energy of Hesh Pierre & His People. This performance is a masterclass in R&B greatness\, blending sophisticated arrangements with a deep\, rhythmic heart that feels both classic and refreshingly modern. \nThe “vibe” is one of effortless cool and intimate connection. Led by the charismatic Hesh Pierre\, this collective of exceptionally talented musicians creates a soundscape that is as refined as it is soulful. Their chemistry on stage turns every note into a shared experience\, offering a welcoming atmosphere where technical brilliance meets heartfelt storytelling. \nWhether you are a lifelong devotee of the genre or simply looking for a night of world-class artistry\, Hesh Pierre & His People provide the perfect backdrop. It is an invitation to settle in and lose yourself in a performance characterized by grace\, energy\, and the pure joy of live musical collaboration.
URL:https://www.discoverhollywood.com/event/hesh-pierre-his-people-concert/
LOCATION:Hudson Guild Theatre\, 6539 Santa Monica Blvd.\, Hollywood\, California
CATEGORIES:music
END:VEVENT
BEGIN:VEVENT
DTSTART;TZID=America/Los_Angeles:20260309T193000
DTEND;TZID=America/Los_Angeles:20260309T223000
DTSTAMP:20260421T221355
CREATED:20260307T221259Z
LAST-MODIFIED:20260307T221259Z
UID:10030443-1773084600-1773095400@www.discoverhollywood.com
SUMMARY:The Typist
DESCRIPTION:A Jazz-Infused Affair: The Typist Premieres at Hudson Guild Theatre\nHOLLYWOOD\, CA – The spirit of 1960s Bohemia arrives on Theatre Row this winter as the jazz-infused drama The Typist opens at the Hudson Guild Theatre. Running from Friday\, January 30\, through Monday\, March 9\, 2026\, the production offers a sultry\, high-stakes look at creative obsession and mid-century romance. \nSet in the summer of 1961\, the play transports audiences to a bourbon-soaked basement apartment in Greenwich Village. The story follows a novelist racing against a publishing deadline who hires a typist to bring his manuscript to life. What begins as a strictly professional rhythm of dictation and coffee quickly evolves into a combustible relationship\, fueled by the smoky atmosphere of the era’s jazz underground. \nA Midnight Beat Production\nCapturing the “Beat Generation” aesthetic\, The Typist uses its 90-minute runtime to explore the tension between the creator and the muse. The production is a centerpiece of the Hudson Theatre’s upcoming season\, joining a diverse lineup of new American works in the heart of Hollywood’s historic theatre district.
URL:https://www.discoverhollywood.com/event/the-typist-2/
LOCATION:Hudson Guild Theatre\, 6539 Santa Monica Blvd.\, Hollywood\, California
CATEGORIES:Theater
END:VEVENT
BEGIN:VEVENT
DTSTART;TZID=America/Los_Angeles:20260308T150000
DTEND;TZID=America/Los_Angeles:20260308T180000
DTSTAMP:20260421T221355
CREATED:20260307T221149Z
LAST-MODIFIED:20260307T221149Z
UID:10030442-1772982000-1772992800@www.discoverhollywood.com
SUMMARY:The Typist
DESCRIPTION:A Jazz-Infused Affair: The Typist Premieres at Hudson Guild Theatre\nHOLLYWOOD\, CA – The spirit of 1960s Bohemia arrives on Theatre Row this winter as the jazz-infused drama The Typist opens at the Hudson Guild Theatre. Running from Friday\, January 30\, through Monday\, March 9\, 2026\, the production offers a sultry\, high-stakes look at creative obsession and mid-century romance. \nSet in the summer of 1961\, the play transports audiences to a bourbon-soaked basement apartment in Greenwich Village. The story follows a novelist racing against a publishing deadline who hires a typist to bring his manuscript to life. What begins as a strictly professional rhythm of dictation and coffee quickly evolves into a combustible relationship\, fueled by the smoky atmosphere of the era’s jazz underground. \nA Midnight Beat Production\nCapturing the “Beat Generation” aesthetic\, The Typist uses its 90-minute runtime to explore the tension between the creator and the muse. The production is a centerpiece of the Hudson Theatre’s upcoming season\, joining a diverse lineup of new American works in the heart of Hollywood’s historic theatre district.
URL:https://www.discoverhollywood.com/event/the-typist/
LOCATION:Hudson Guild Theatre\, 6539 Santa Monica Blvd.\, Hollywood\, California
CATEGORIES:Theater
END:VEVENT
BEGIN:VEVENT
DTSTART;TZID=America/Los_Angeles:20260307T200000
DTEND;TZID=America/Los_Angeles:20260307T230000
DTSTAMP:20260421T221355
CREATED:20260227T094436Z
LAST-MODIFIED:20260307T221033Z
UID:10030144-1772913600-1772924400@www.discoverhollywood.com
SUMMARY:The Typist
DESCRIPTION:A Jazz-Infused Affair: The Typist Premieres at Hudson Guild Theatre\nHOLLYWOOD\, CA – The spirit of 1960s Bohemia arrives on Theatre Row this winter as the jazz-infused drama The Typist opens at the Hudson Guild Theatre. Running from Friday\, January 30\, through Monday\, March 9\, 2026\, the production offers a sultry\, high-stakes look at creative obsession and mid-century romance. \nSet in the summer of 1961\, the play transports audiences to a bourbon-soaked basement apartment in Greenwich Village. The story follows a novelist racing against a publishing deadline who hires a typist to bring his manuscript to life. What begins as a strictly professional rhythm of dictation and coffee quickly evolves into a combustible relationship\, fueled by the smoky atmosphere of the era’s jazz underground. \nA Midnight Beat Production\nCapturing the “Beat Generation” aesthetic\, The Typist uses its 90-minute runtime to explore the tension between the creator and the muse. The production is a centerpiece of the Hudson Theatre’s upcoming season\, joining a diverse lineup of new American works in the heart of Hollywood’s historic theatre district.
URL:https://www.discoverhollywood.com/event/the-typist-4/
LOCATION:Hudson Guild Theatre\, 6539 Santa Monica Blvd.\, Hollywood\, California
CATEGORIES:Theater
END:VEVENT
BEGIN:VEVENT
DTSTART;TZID=Asia/Kolkata:20260125T170000
DTEND;TZID=Asia/Kolkata:20260125T203000
DTSTAMP:20260421T221355
CREATED:20260108T113701Z
LAST-MODIFIED:20260108T113701Z
UID:10026765-1769360400-1769373000@www.discoverhollywood.com
SUMMARY:A Winter Classic: SNOW QUEEN (Performed in Russian)
DESCRIPTION:A Winter Classic: SNOW QUEEN (Performed in Russian)\nHOLLYWOOD\, CA – A timeless masterpiece of world literature arrives at the Hudson Backstage Theatre this winter for a limited special engagement. “SNOW QUEEN\,” a family-oriented production performed entirely in Russian\, will take the stage on Saturday\, January 24\, and Sunday\, January 25\, 2026. \nThis production is based on the celebrated play by Evgeny Shwartz\, who reimagined Hans Christian Andersen’s classic fairy tale as a poignant reflection on the values and challenges of modern life. Shwartz’s version is renowned for its blend of romance and wisdom\, emphasizing a deep faith in the triumph of sincerity over cynicism. \nA Journey of Light vs. Darkness\nThe story follows the courageous journey to rescue a loved one from the icy grasp of the Snow Queen. In this adaptation\, the familiar narrative is elevated by: \n\n\nThematic Depth: A focus on the enduring power of the human heart and the struggle of light against darkness. \n\n\nCultural Heritage: A rare opportunity for Russian-speaking audiences and families to experience this iconic literary work in its traditional dramatic form. \n\n\nAtmospheric Production: Designed for audiences of all ages\, the play captures the whimsical yet serious spirit of Shwartz’s storytelling.
URL:https://www.discoverhollywood.com/event/a-winter-classic-snow-queen-performed-in-russian/2026-01-25/
LOCATION:Hudson Guild Theatre\, 6539 Santa Monica Blvd.\, Hollywood\, California
END:VEVENT
BEGIN:VEVENT
DTSTART;TZID=Asia/Kolkata:20260124T160000
DTEND;TZID=Asia/Kolkata:20260124T203000
DTSTAMP:20260421T221355
CREATED:20260108T113701Z
LAST-MODIFIED:20260108T113701Z
UID:10026764-1769270400-1769286600@www.discoverhollywood.com
SUMMARY:A Winter Classic: SNOW QUEEN (Performed in Russian)
DESCRIPTION:A Winter Classic: SNOW QUEEN (Performed in Russian)\nHOLLYWOOD\, CA – A timeless masterpiece of world literature arrives at the Hudson Backstage Theatre this winter for a limited special engagement. “SNOW QUEEN\,” a family-oriented production performed entirely in Russian\, will take the stage on Saturday\, January 24\, and Sunday\, January 25\, 2026. \nThis production is based on the celebrated play by Evgeny Shwartz\, who reimagined Hans Christian Andersen’s classic fairy tale as a poignant reflection on the values and challenges of modern life. Shwartz’s version is renowned for its blend of romance and wisdom\, emphasizing a deep faith in the triumph of sincerity over cynicism. \nA Journey of Light vs. Darkness\nThe story follows the courageous journey to rescue a loved one from the icy grasp of the Snow Queen. In this adaptation\, the familiar narrative is elevated by: \n\n\nThematic Depth: A focus on the enduring power of the human heart and the struggle of light against darkness. \n\n\nCultural Heritage: A rare opportunity for Russian-speaking audiences and families to experience this iconic literary work in its traditional dramatic form. \n\n\nAtmospheric Production: Designed for audiences of all ages\, the play captures the whimsical yet serious spirit of Shwartz’s storytelling.
URL:https://www.discoverhollywood.com/event/a-winter-classic-snow-queen-performed-in-russian/2026-01-24/
LOCATION:Hudson Guild Theatre\, 6539 Santa Monica Blvd.\, Hollywood\, California
END:VEVENT
BEGIN:VEVENT
DTSTART;TZID=Asia/Kolkata:20260115T193000
DTEND;TZID=Asia/Kolkata:20260115T223000
DTSTAMP:20260421T221355
CREATED:20260108T104424Z
LAST-MODIFIED:20260108T104424Z
UID:10026705-1768505400-1768516200@www.discoverhollywood.com
SUMMARY:Mind Magic: A Night of Laughter and Astonishment
DESCRIPTION:Reality Reimagined: Mind Magic – A Night of Laughter and Astonishment\nLOS ANGELES\, CA – Prepare for an evening where the boundaries of the possible are pushed to their limits. The acclaimed mentalism showcase “Mind Magic: A Night of Laughter and Astonishment\,” starring the enigmatic Dr. Steve Taubman\, is set for a premier one-night event at The Hudson Theatre on Thursday\, January 15\, 2026. \nThe show is not a traditional magic performance of rabbits and hats; instead\, it is a sophisticated blend of “sleight-of-mind\,” psychology\, and improvisational comedy. Dr. Taubman\, a physician turned world-class mentalist\, uses his deep understanding of the subconscious to create an interactive experience that leaves audiences both gasping in disbelief and doubled over in laughter. \nA Journey into the Subconscious\nDr. Taubman’s “Mind Magic” has earned high praise from some of the most recognizable names in entertainment\, with celebrity fans including Steve Martin\, Alec Baldwin\, and Sigourney Weaver. Legendary comedian John Cleese once remarked of the performance\, “Best I’ve ever seen! Truly extraordinary! You’re a brilliant fellow!” \nThe show is meticulously curated to be both astonishing and transformational. Through a series of rapid-fire psychological mysteries and interactive illusions\, Dr. Taubman casts a “shadow of doubt” on the limits of human perception. Participants from the audience often find themselves the stars of the evening\, witnessing firsthand the incredible power of their own minds.
URL:https://www.discoverhollywood.com/event/mind-magic-a-night-of-laughter-and-astonishment/
LOCATION:Hudson Guild Theatre\, 6539 Santa Monica Blvd.\, Hollywood\, California
END:VEVENT
BEGIN:VEVENT
DTSTART;TZID=Asia/Kolkata:20220729T000000
DTEND;TZID=Asia/Kolkata:20220729T000000
DTSTAMP:20260421T221355
CREATED:20250630T090440Z
LAST-MODIFIED:20250630T090440Z
UID:10001198-1659052800-1659052800@www.discoverhollywood.com
SUMMARY:2Cents Variety Series 2018
DESCRIPTION:The 2Cents Spring Variety Series presents three weekends of entirely different shows and artists coming together for one big mashup of ART%21 %3ca href%3d%22https%3a//www.plays411.com/newsite/show/play_info.asp%3fshow_id%3d4801%22 target%3d%22_blank%22%3ewww.plays411.com/newsite/show/play_info.asp%3fshow_id%3d4801%3c/a%3eDesignHTMLWords: 23   Characters: 189
URL:https://www.discoverhollywood.com/event/2cents-variety-series-2018-2/
LOCATION:Hudson Guild Theatre\, 6539 Santa Monica Blvd.\, Hollywood\, California
END:VEVENT
BEGIN:VEVENT
DTSTART;TZID=Asia/Kolkata:20210604T000000
DTEND;TZID=Asia/Kolkata:20210604T000000
DTSTAMP:20260421T221355
CREATED:20250630T094419Z
LAST-MODIFIED:20250630T094419Z
UID:10001338-1622764800-1622764800@www.discoverhollywood.com
SUMMARY:A Death Defying Escape
DESCRIPTION:%3cspan%3eAmerica’s first female magician discovers that her most difficult illusion is a death-defying escape from the secrets of her%26nbsp%3b%3c/span%3e\n%3cspan%3epast. A story told with jaw-dropping magic%2c Jewishness%2c and lesbian love. Written by and starring Judy Carter.%3c/span%3eDesignHTMLWords: 36   Characters: 229
URL:https://www.discoverhollywood.com/event/a-death-defying-escape-2/
LOCATION:Hudson Guild Theatre\, 6539 Santa Monica Blvd.\, Hollywood\, California
END:VEVENT
BEGIN:VEVENT
DTSTART;TZID=Asia/Kolkata:20201109T000000
DTEND;TZID=Asia/Kolkata:20201109T000000
DTSTAMP:20260421T221355
CREATED:20250630T095241Z
LAST-MODIFIED:20250630T095241Z
UID:10001407-1604880000-1604880000@www.discoverhollywood.com
SUMMARY:A Picnic at the Asylum
DESCRIPTION:DesignHTMLWords: 0   Characters: 0
URL:https://www.discoverhollywood.com/event/a-picnic-at-the-asylum-2/
LOCATION:Hudson Guild Theatre\, 6539 Santa Monica Blvd.\, Hollywood\, California
END:VEVENT
BEGIN:VEVENT
DTSTART;TZID=Asia/Kolkata:20180301T000000
DTEND;TZID=Asia/Kolkata:20180301T000000
DTSTAMP:20260421T221355
CREATED:20250630T103910Z
LAST-MODIFIED:20250630T103910Z
UID:10001730-1519862400-1519862400@www.discoverhollywood.com
SUMMARY:All Brown\, All Chingon
DESCRIPTION:DesignHTMLWords: 0   Characters: 0
URL:https://www.discoverhollywood.com/event/all-brown-all-chingon-2/
LOCATION:Hudson Guild Theatre\, 6539 Santa Monica Blvd.\, Hollywood\, California
END:VEVENT
BEGIN:VEVENT
DTSTART;TZID=Asia/Kolkata:20150618T000000
DTEND;TZID=Asia/Kolkata:20150618T000000
DTSTAMP:20260421T221355
CREATED:20250630T113650Z
LAST-MODIFIED:20250630T113650Z
UID:10002082-1434585600-1434585600@www.discoverhollywood.com
SUMMARY:Anita Bryant's Playboy Interview
DESCRIPTION:%3cbr%3eDesignHTMLWords: 0   Characters: 0
URL:https://www.discoverhollywood.com/event/anita-bryants-playboy-interview/
LOCATION:Hudson Guild Theatre\, 6539 Santa Monica Blvd.\, Hollywood\, California
END:VEVENT
BEGIN:VEVENT
DTSTART;TZID=Asia/Kolkata:20140524T000000
DTEND;TZID=Asia/Kolkata:20140524T000000
DTSTAMP:20260421T221355
CREATED:20250630T114635Z
LAST-MODIFIED:20250630T114635Z
UID:10002277-1400889600-1400889600@www.discoverhollywood.com
SUMMARY:Asexuality! The Solo Musical
DESCRIPTION:%3cdiv%3eOne performance only. Written and performed by transgender artist Rebecca McGlynn is an autobiographical musical comedy about writer%27s pre-transition life. Winner of Top of The Fringe %28Best Overall%29 and Fringe First %28Best World Premiere%29 Awards at this year%27s Hollywood Fringe Festival%3c/div%3eDesignHTMLWords: 41   Characters: 276
URL:https://www.discoverhollywood.com/event/asexuality-the-solo-musical-2/
LOCATION:Hudson Guild Theatre\, 6539 Santa Monica Blvd.\, Hollywood\, California
END:VEVENT
BEGIN:VEVENT
DTSTART;TZID=Asia/Kolkata:20120508T000000
DTEND;TZID=Asia/Kolkata:20120508T000000
DTSTAMP:20260421T221355
CREATED:20250630T122633Z
LAST-MODIFIED:20250630T122633Z
UID:10002650-1336435200-1336435200@www.discoverhollywood.com
SUMMARY:Behind The Lie
DESCRIPTION:DesignHTMLWords: 0   Characters: 0
URL:https://www.discoverhollywood.com/event/behind-the-lie/
LOCATION:Hudson Guild Theatre\, 6539 Santa Monica Blvd.\, Hollywood\, California
END:VEVENT
BEGIN:VEVENT
DTSTART;TZID=Asia/Kolkata:20120426T000000
DTEND;TZID=Asia/Kolkata:20120426T000000
DTSTAMP:20260421T221355
CREATED:20250630T122652Z
LAST-MODIFIED:20250630T122652Z
UID:10002656-1335398400-1335398400@www.discoverhollywood.com
SUMMARY:Being Richard Greene - Solo Show
DESCRIPTION:%3cspan%3eLynne Jassem%2c%3c/span%3e\n%3cspan%3e%26nbsp%3btap dancer%2c mime%2c comic%2c monologist%2c singer%2c takes you%3c/span%3e\n%3cspan%3e%26nbsp%3bthrough pivotal moments in her life with all the skill of a seasoned entertainer. Q%26amp%3bA after the show.%3c/span%3e\n%3cdiv%3e\n	%3cspan class%3d%22mediumtext%22%3eRunning time%3a 55 minutes.%3c/span%3e\n	%3cspan%3e%3c/span%3e\n	%3cbr style%3d%22box-sizing%3aborder-box%3b color%3argb%2835%2c 35%2c 35%29%3b font-family%3a-apple-system%2c BlinkMacSystemFont%2c %26quot%3bSegoe UI%26quot%3b%2c Roboto%2c %26quot%3bHelvetica Neue%26quot%3b%2c Arial%2c sans-serif%2c %26quot%3bApple ColorDesignHTMLWords: 32   Characters: 187
URL:https://www.discoverhollywood.com/event/being-richard-greene-solo-show/
LOCATION:Hudson Guild Theatre\, 6539 Santa Monica Blvd.\, Hollywood\, California
END:VEVENT
BEGIN:VEVENT
DTSTART;TZID=Asia/Kolkata:20100720T000000
DTEND;TZID=Asia/Kolkata:20100720T000000
DTSTAMP:20260421T221355
CREATED:20250630T131014Z
LAST-MODIFIED:20250716T122121Z
UID:10002980-1279584000-1279584000@www.discoverhollywood.com
SUMMARY:Blindsided
DESCRIPTION:DesignHTMLWords: 0   Characters: 0
URL:https://www.discoverhollywood.com/event/blindsided/
LOCATION:Hudson Guild Theatre\, 6539 Santa Monica Blvd.\, Hollywood\, California
END:VEVENT
BEGIN:VEVENT
DTSTART;TZID=Asia/Kolkata:20090522T000000
DTEND;TZID=Asia/Kolkata:20090522T000000
DTSTAMP:20260421T221355
CREATED:20250630T131415Z
LAST-MODIFIED:20250716T130819Z
UID:10003192-1242950400-1242950400@www.discoverhollywood.com
SUMMARY:Breakup Addict
DESCRIPTION:%3cspan%3eJourney of a woman who hits rock bottom after having two simultaneous crash-and-burn relationships with unavailable men. Written and performed by Paige Willhide.%3c/span%3e\n%3cdiv%3e\n	%3cspan%3eRuns 75 minutes%3c/span%3e\n%3c/div%3eDesignHTMLWords: 26   Characters: 173
URL:https://www.discoverhollywood.com/event/breakup-addict/
LOCATION:Hudson Guild Theatre\, 6539 Santa Monica Blvd.\, Hollywood\, California
END:VEVENT
BEGIN:VEVENT
DTSTART;TZID=Asia/Kolkata:20060502T000000
DTEND;TZID=Asia/Kolkata:20060502T000000
DTSTAMP:20260421T221355
CREATED:20250701T083514Z
LAST-MODIFIED:20250701T083514Z
UID:10003650-1146528000-1146528000@www.discoverhollywood.com
SUMMARY:Chicken In A Box
DESCRIPTION:%3cbr%3eDesignHTMLWords: 0   Characters: 0
URL:https://www.discoverhollywood.com/event/chicken-in-a-box/
LOCATION:Hudson Guild Theatre\, 6539 Santa Monica Blvd.\, Hollywood\, California
END:VEVENT
BEGIN:VEVENT
DTSTART;TZID=Asia/Kolkata:20060424T000000
DTEND;TZID=Asia/Kolkata:20060424T000000
DTSTAMP:20260421T221355
CREATED:20250701T083524Z
LAST-MODIFIED:20250701T083524Z
UID:10003654-1145836800-1145836800@www.discoverhollywood.com
SUMMARY:Chicks Who Rock & Roll
DESCRIPTION:DesignHTMLWords: 0   Characters: 0
URL:https://www.discoverhollywood.com/event/chicks-who-rock-roll/
LOCATION:Hudson Guild Theatre\, 6539 Santa Monica Blvd.\, Hollywood\, California
END:VEVENT
BEGIN:VEVENT
DTSTART;TZID=Asia/Kolkata:20050206T000000
DTEND;TZID=Asia/Kolkata:20050206T000000
DTSTAMP:20260421T221355
CREATED:20250701T093513Z
LAST-MODIFIED:20250701T093513Z
UID:10003875-1107648000-1107648000@www.discoverhollywood.com
SUMMARY:Clooney\, Cowell\, Pitt & Me! Amusing Encounters with the A-List
DESCRIPTION:DesignHTMLWords: 0   Characters: 0
URL:https://www.discoverhollywood.com/event/clooney-cowell-pitt-me-amusing-encounters-with-the-a-list/
LOCATION:Hudson Guild Theatre\, 6539 Santa Monica Blvd.\, Hollywood\, California
END:VEVENT
BEGIN:VEVENT
DTSTART;TZID=Asia/Kolkata:20041220T000000
DTEND;TZID=Asia/Kolkata:20041220T000000
DTSTAMP:20260421T221355
CREATED:20250701T093552Z
LAST-MODIFIED:20250701T093552Z
UID:10003899-1103500800-1103500800@www.discoverhollywood.com
SUMMARY:Cockroach
DESCRIPTION:DesignHTMLWords: 0   Characters: 0
URL:https://www.discoverhollywood.com/event/cockroach/
LOCATION:Hudson Guild Theatre\, 6539 Santa Monica Blvd.\, Hollywood\, California
END:VEVENT
BEGIN:VEVENT
DTSTART;TZID=Asia/Kolkata:20040707T000000
DTEND;TZID=Asia/Kolkata:20040707T000000
DTSTAMP:20260421T221355
CREATED:20250701T094913Z
LAST-MODIFIED:20250701T094913Z
UID:10003982-1089158400-1089158400@www.discoverhollywood.com
SUMMARY:COMING OF AGE AT 65
DESCRIPTION:DesignHTMLWords: 0   Characters: 0
URL:https://www.discoverhollywood.com/event/coming-of-age-at-65/
LOCATION:Hudson Guild Theatre\, 6539 Santa Monica Blvd.\, Hollywood\, California
END:VEVENT
BEGIN:VEVENT
DTSTART;TZID=Asia/Kolkata:20040410T000000
DTEND;TZID=Asia/Kolkata:20040410T000000
DTSTAMP:20260421T221355
CREATED:20250701T104609Z
LAST-MODIFIED:20250701T104609Z
UID:10004026-1081555200-1081555200@www.discoverhollywood.com
SUMMARY:Conscious Getting Unstuck Homeless to Hollywood
DESCRIPTION:World Premiere%3b A life-altering story for everyone about how one woman overcame drug abuse%2c homelessness%2c female to female HIV transmission%2c sexual abuse%2c and ultimately learned forgiveness and leave a legacy.%26nbsp%3b Born into an American Gangster family with no hope of escaping%2c and after receiving help from a therapist%2c who encouraged Conscious to remember lost memories%2c she excelled after forgiving those who tortured her…..DesignHTMLWords: 63   Characters: 411
URL:https://www.discoverhollywood.com/event/conscious-getting-unstuck-homeless-to-hollywood/
LOCATION:Hudson Guild Theatre\, 6539 Santa Monica Blvd.\, Hollywood\, California
END:VEVENT
BEGIN:VEVENT
DTSTART;TZID=Asia/Kolkata:20021205T000000
DTEND;TZID=Asia/Kolkata:20021205T000000
DTSTAMP:20260421T221355
CREATED:20250701T113255Z
LAST-MODIFIED:20250701T113255Z
UID:10004272-1039046400-1039046400@www.discoverhollywood.com
SUMMARY:Danny & the Deep Blue Sea
DESCRIPTION:%3cspan%3eA thirsty Bronx reject finds her dangerous counterpart in this volatile love story.%3c/span%3e\n%3cdiv%3e\n	%3cspan%3e%3cspan%3eRuns 80 minutes.%3cbr%3e%3c/span%3e%3c/span%3e\n	%3cdiv%3e\n		%3cspan%3ewww.hudsontheatre.com%3c/span%3e\n	%3c/div%3e\n%3c/div%3eDesignHTMLWords: 17   Characters: 119
URL:https://www.discoverhollywood.com/event/danny-the-deep-blue-sea/
LOCATION:Hudson Guild Theatre\, 6539 Santa Monica Blvd.\, Hollywood\, California
END:VEVENT
BEGIN:VEVENT
DTSTART;TZID=Asia/Kolkata:20020829T000000
DTEND;TZID=Asia/Kolkata:20020829T000000
DTSTAMP:20260421T221355
CREATED:20250701T115923Z
LAST-MODIFIED:20250701T115923Z
UID:10004321-1030579200-1030579200@www.discoverhollywood.com
SUMMARY:Dating! Adults Embracing Failure
DESCRIPTION:%3cimg class%3d%22%22 alt%3d%22%22 src%3d%22images/DAEF_TinyAwesomeThings_Art4419.jpg%22 height%3d%22450%22 width%3d%22300%22%3eDesignHTMLWords: 0   Characters: 0
URL:https://www.discoverhollywood.com/event/dating-adults-embracing-failure/
LOCATION:Hudson Guild Theatre\, 6539 Santa Monica Blvd.\, Hollywood\, California
END:VEVENT
BEGIN:VEVENT
DTSTART;TZID=Asia/Kolkata:20020206T000000
DTEND;TZID=Asia/Kolkata:20020206T000000
DTSTAMP:20260421T221355
CREATED:20250701T120512Z
LAST-MODIFIED:20250701T120513Z
UID:10004423-1012953600-1012953600@www.discoverhollywood.com
SUMMARY:Dead Men Have No Voice
DESCRIPTION:DesignHTMLWords: 0   Characters: 0
URL:https://www.discoverhollywood.com/event/dead-men-have-no-voice/
LOCATION:Hudson Guild Theatre\, 6539 Santa Monica Blvd.\, Hollywood\, California
END:VEVENT
BEGIN:VEVENT
DTSTART;TZID=Asia/Kolkata:20001008T000000
DTEND;TZID=Asia/Kolkata:20001008T000000
DTSTAMP:20260421T221355
CREATED:20250701T123312Z
LAST-MODIFIED:20250701T123312Z
UID:10004656-970963200-970963200@www.discoverhollywood.com
SUMMARY:Discovered
DESCRIPTION:%3cspan style%3d%22margin%3a0px%3b color%3ablack%3b font-family%3aVerdana%2csans-serif%3b font-size%3a9pt%3b%22%3e%3cb%3e“Discovered” is a poetic%2c comedic%2c autobiographical solo show narrated by Dufflyn Lammers. In this fearlessly personal tour-de-force%2c she explores addiction%2c identity%2c family history%2c and the ultimate truth of unconditional love. %3c/b%3e%3c/span%3eDesignHTMLWords: 30   Characters: 219
URL:https://www.discoverhollywood.com/event/discovered/
LOCATION:Hudson Guild Theatre\, 6539 Santa Monica Blvd.\, Hollywood\, California
END:VEVENT
BEGIN:VEVENT
DTSTART;TZID=Asia/Kolkata:19990216T000000
DTEND;TZID=Asia/Kolkata:19990216T000000
DTSTAMP:20260421T221355
CREATED:20250701T133835Z
LAST-MODIFIED:20250702T044455Z
UID:10005011-919123200-919123200@www.discoverhollywood.com
SUMMARY:Eddie Izzard: Work in Progress:
DESCRIPTION:DesignHTMLWords: 0   Characters: 0
URL:https://www.discoverhollywood.com/event/eddie-izzard-work-in-progress/
LOCATION:Hudson Guild Theatre\, 6539 Santa Monica Blvd.\, Hollywood\, California
END:VEVENT
BEGIN:VEVENT
DTSTART;TZID=Asia/Kolkata:19971001T000000
DTEND;TZID=Asia/Kolkata:19971001T000000
DTSTAMP:20260421T221355
CREATED:20250703T061419Z
LAST-MODIFIED:20250703T061419Z
UID:10005514-875664000-875664000@www.discoverhollywood.com
SUMMARY:Finding My Light
DESCRIPTION:%3cspan%3eBarbara Brownell and her array of characters reveal how her love of light carried her through a difficult childhood%2c to Broadway and Hollywood stages and beyond%2c and helped illuminate the truth of her own existence that lay hidden in the shadows for 65 years.%3c/span%3e\n%3cdiv%3e\n	%3cspan%3eRunning time 70 minutes%3c/span%3e\n%3c/div%3eDesignHTMLWords: 48   Characters: 280
URL:https://www.discoverhollywood.com/event/finding-my-light/
LOCATION:Hudson Guild Theatre\, 6539 Santa Monica Blvd.\, Hollywood\, California
END:VEVENT
BEGIN:VEVENT
DTSTART;TZID=Asia/Kolkata:19970820T000000
DTEND;TZID=Asia/Kolkata:19970820T000000
DTSTAMP:20260421T221355
CREATED:20250703T061649Z
LAST-MODIFIED:20250703T061649Z
UID:10005556-872035200-872035200@www.discoverhollywood.com
SUMMARY:Fishers of Men
DESCRIPTION:%3c%21–%5bif gte mso 9%5d%3e\n	%3cxml%3e%3c/xml%3e\n%3c%21%5bendif%5d–%3e\n%3cp%3e%3cem%3e%3cb%3e%3cspan%3e%3c/span%3e%3c/b%3e%3c/em%3e\n	%3cspan class%3d%22mediumtext%22%3eFishers of Men is a one-man theatrical presentation depicting the final moments of Simon Peter%27s life and how those moments changed the life of one man forever%21 %3c/span%3e\n	%3cspan%3e%3cspan%3e%3c/span%3e%3c/span%3e\n%3c/p%3eDesignHTMLWords: 27   Characters: 157
URL:https://www.discoverhollywood.com/event/fishers-of-men/
LOCATION:Hudson Guild Theatre\, 6539 Santa Monica Blvd.\, Hollywood\, California
END:VEVENT
END:VCALENDAR