BEGIN:VCALENDAR
VERSION:2.0
PRODID:-//Discover Hollywood Magazine - ECPv6.15.17//NONSGML v1.0//EN
CALSCALE:GREGORIAN
METHOD:PUBLISH
X-ORIGINAL-URL:https://www.discoverhollywood.com
X-WR-CALDESC:Events for Discover Hollywood Magazine
REFRESH-INTERVAL;VALUE=DURATION:PT1H
X-Robots-Tag:noindex
X-PUBLISHED-TTL:PT1H
BEGIN:VTIMEZONE
TZID:Asia/Kolkata
BEGIN:STANDARD
TZOFFSETFROM:+0530
TZOFFSETTO:+0530
TZNAME:IST
DTSTART:19880101T000000
END:STANDARD
END:VTIMEZONE
BEGIN:VEVENT
DTSTART;TZID=Asia/Kolkata:20020829T000000
DTEND;TZID=Asia/Kolkata:20020829T000000
DTSTAMP:20260422T012746
CREATED:20250701T115923Z
LAST-MODIFIED:20250701T115923Z
UID:10004321-1030579200-1030579200@www.discoverhollywood.com
SUMMARY:Dating! Adults Embracing Failure
DESCRIPTION:%3cimg class%3d%22%22 alt%3d%22%22 src%3d%22images/DAEF_TinyAwesomeThings_Art4419.jpg%22 height%3d%22450%22 width%3d%22300%22%3eDesignHTMLWords: 0   Characters: 0
URL:https://www.discoverhollywood.com/event/dating-adults-embracing-failure/
LOCATION:Hudson Guild Theatre\, 6539 Santa Monica Blvd.\, Hollywood\, California
END:VEVENT
BEGIN:VEVENT
DTSTART;TZID=Asia/Kolkata:20020206T000000
DTEND;TZID=Asia/Kolkata:20020206T000000
DTSTAMP:20260422T012746
CREATED:20250701T120512Z
LAST-MODIFIED:20250701T120513Z
UID:10004423-1012953600-1012953600@www.discoverhollywood.com
SUMMARY:Dead Men Have No Voice
DESCRIPTION:DesignHTMLWords: 0   Characters: 0
URL:https://www.discoverhollywood.com/event/dead-men-have-no-voice/
LOCATION:Hudson Guild Theatre\, 6539 Santa Monica Blvd.\, Hollywood\, California
END:VEVENT
BEGIN:VEVENT
DTSTART;TZID=Asia/Kolkata:20001008T000000
DTEND;TZID=Asia/Kolkata:20001008T000000
DTSTAMP:20260422T012746
CREATED:20250701T123312Z
LAST-MODIFIED:20250701T123312Z
UID:10004656-970963200-970963200@www.discoverhollywood.com
SUMMARY:Discovered
DESCRIPTION:%3cspan style%3d%22margin%3a0px%3b color%3ablack%3b font-family%3aVerdana%2csans-serif%3b font-size%3a9pt%3b%22%3e%3cb%3e“Discovered” is a poetic%2c comedic%2c autobiographical solo show narrated by Dufflyn Lammers. In this fearlessly personal tour-de-force%2c she explores addiction%2c identity%2c family history%2c and the ultimate truth of unconditional love. %3c/b%3e%3c/span%3eDesignHTMLWords: 30   Characters: 219
URL:https://www.discoverhollywood.com/event/discovered/
LOCATION:Hudson Guild Theatre\, 6539 Santa Monica Blvd.\, Hollywood\, California
END:VEVENT
BEGIN:VEVENT
DTSTART;TZID=Asia/Kolkata:19990216T000000
DTEND;TZID=Asia/Kolkata:19990216T000000
DTSTAMP:20260422T012746
CREATED:20250701T133835Z
LAST-MODIFIED:20250702T044455Z
UID:10005011-919123200-919123200@www.discoverhollywood.com
SUMMARY:Eddie Izzard: Work in Progress:
DESCRIPTION:DesignHTMLWords: 0   Characters: 0
URL:https://www.discoverhollywood.com/event/eddie-izzard-work-in-progress/
LOCATION:Hudson Guild Theatre\, 6539 Santa Monica Blvd.\, Hollywood\, California
END:VEVENT
BEGIN:VEVENT
DTSTART;TZID=Asia/Kolkata:19971001T000000
DTEND;TZID=Asia/Kolkata:19971001T000000
DTSTAMP:20260422T012746
CREATED:20250703T061419Z
LAST-MODIFIED:20250703T061419Z
UID:10005514-875664000-875664000@www.discoverhollywood.com
SUMMARY:Finding My Light
DESCRIPTION:%3cspan%3eBarbara Brownell and her array of characters reveal how her love of light carried her through a difficult childhood%2c to Broadway and Hollywood stages and beyond%2c and helped illuminate the truth of her own existence that lay hidden in the shadows for 65 years.%3c/span%3e\n%3cdiv%3e\n	%3cspan%3eRunning time 70 minutes%3c/span%3e\n%3c/div%3eDesignHTMLWords: 48   Characters: 280
URL:https://www.discoverhollywood.com/event/finding-my-light/
LOCATION:Hudson Guild Theatre\, 6539 Santa Monica Blvd.\, Hollywood\, California
END:VEVENT
BEGIN:VEVENT
DTSTART;TZID=Asia/Kolkata:19970820T000000
DTEND;TZID=Asia/Kolkata:19970820T000000
DTSTAMP:20260422T012746
CREATED:20250703T061649Z
LAST-MODIFIED:20250703T061649Z
UID:10005556-872035200-872035200@www.discoverhollywood.com
SUMMARY:Fishers of Men
DESCRIPTION:%3c%21–%5bif gte mso 9%5d%3e\n	%3cxml%3e%3c/xml%3e\n%3c%21%5bendif%5d–%3e\n%3cp%3e%3cem%3e%3cb%3e%3cspan%3e%3c/span%3e%3c/b%3e%3c/em%3e\n	%3cspan class%3d%22mediumtext%22%3eFishers of Men is a one-man theatrical presentation depicting the final moments of Simon Peter%27s life and how those moments changed the life of one man forever%21 %3c/span%3e\n	%3cspan%3e%3cspan%3e%3c/span%3e%3c/span%3e\n%3c/p%3eDesignHTMLWords: 27   Characters: 157
URL:https://www.discoverhollywood.com/event/fishers-of-men/
LOCATION:Hudson Guild Theatre\, 6539 Santa Monica Blvd.\, Hollywood\, California
END:VEVENT
BEGIN:VEVENT
DTSTART;TZID=Asia/Kolkata:19970802T000000
DTEND;TZID=Asia/Kolkata:19970802T000000
DTSTAMP:20260422T012746
CREATED:20250703T061751Z
LAST-MODIFIED:20250703T061751Z
UID:10005574-870480000-870480000@www.discoverhollywood.com
SUMMARY:Flamencodanza
DESCRIPTION:DesignHTMLWords: 0   Characters: 0
URL:https://www.discoverhollywood.com/event/flamencodanza/
LOCATION:Hudson Guild Theatre\, 6539 Santa Monica Blvd.\, Hollywood\, California
END:VEVENT
BEGIN:VEVENT
DTSTART;TZID=Asia/Kolkata:19970105T000000
DTEND;TZID=Asia/Kolkata:19970105T000000
DTSTAMP:20260422T012746
CREATED:20250703T062620Z
LAST-MODIFIED:20250703T062620Z
UID:10005779-852422400-852422400@www.discoverhollywood.com
SUMMARY:Frigorific
DESCRIPTION:www.hudsontheatre.comDesignHTMLWords: 1   Characters: 19
URL:https://www.discoverhollywood.com/event/frigorific/
LOCATION:Hudson Guild Theatre\, 6539 Santa Monica Blvd.\, Hollywood\, California
END:VEVENT
BEGIN:VEVENT
DTSTART;TZID=Asia/Kolkata:19960101T000000
DTEND;TZID=Asia/Kolkata:19960101T000000
DTSTAMP:20260422T012746
CREATED:20250703T083930Z
LAST-MODIFIED:20250703T083930Z
UID:10006149-820454400-820454400@www.discoverhollywood.com
SUMMARY:Going\, Going… Gone!
DESCRIPTION:Set in the press box of a major Los Angeles baseball stadium%2c a hilarious yet poignant new comedy from Emmy Award-winning writer %28%3cem%3eM*A*S*H*%2c Cheers%2c The Simpsons%3c/em%3e%29 and 8-year host of popular radio show %27Dodger Talk%27\n%3cstrong%3eKen Levine%3c/strong%3e about four sports journalists whose lives are changed during the course of one game.DesignHTMLWords: 51   Characters: 299
URL:https://www.discoverhollywood.com/event/going-going-gone/
LOCATION:Hudson Guild Theatre\, 6539 Santa Monica Blvd.\, Hollywood\, California
END:VEVENT
BEGIN:VEVENT
DTSTART;TZID=Asia/Kolkata:19951203T000000
DTEND;TZID=Asia/Kolkata:19951203T000000
DTSTAMP:20260422T012746
CREATED:20250703T084111Z
LAST-MODIFIED:20250703T084111Z
UID:10006178-817948800-817948800@www.discoverhollywood.com
SUMMARY:Good Fisherman Know A Lot About Sex
DESCRIPTION:%3cspan%3eA family of four go on a Hawaiian vacation to heal from a tragic event that happened in the previous year. For Ally%2c this is an opportunity to foster a more %22normal%22 relationship with her family again…not that families are ever actually normal…especially when trapped on a fishing boat together for several hours.%3c/span%3e\n%3cbr style%3d%22box-sizing%3aborder-box%3b color%3argb%2835%2c 35%2c 35%29%3b font-family%3aVerdana%2c Geneva%2c Helvetica%2c sans-serif%3b font-size%3a12px%3b background-color%3argb%28255%2c 255%2c 255%29%3b%22%3e\n%3cbr style%3d%22box-DesignHTMLWords: 53   Characters: 306
URL:https://www.discoverhollywood.com/event/good-fisherman-know-a-lot-about-sex/
LOCATION:Hudson Guild Theatre\, 6539 Santa Monica Blvd.\, Hollywood\, California
END:VEVENT
BEGIN:VEVENT
DTSTART;TZID=Asia/Kolkata:19951123T000000
DTEND;TZID=Asia/Kolkata:19951123T000000
DTSTAMP:20260422T012746
CREATED:20250703T084131Z
LAST-MODIFIED:20250703T084131Z
UID:10006188-817084800-817084800@www.discoverhollywood.com
SUMMARY:Good People
DESCRIPTION:Here’s what Variety had to say about the Broadway production of “Good People”%3a %22David Lindsay-Abaire pays his respects to his old South Boston neighborhood with this tough and tender play about the insurmountable class divide between those who make it out of this blue-collar Irish neighborhood and those who find themselves left behind. The scrappy characters have tremendous appeal%2c and the moral dilemma they grapple with—is it strength of character or just a few lucky breaks that determines a person’s fate%3fDesignHTMLWords: 81   Characters: 505
URL:https://www.discoverhollywood.com/event/good-people/
LOCATION:Hudson Guild Theatre\, 6539 Santa Monica Blvd.\, Hollywood\, California
END:VEVENT
BEGIN:VEVENT
DTSTART;TZID=Asia/Kolkata:19950612T000000
DTEND;TZID=Asia/Kolkata:19950612T000000
DTSTAMP:20260422T012746
CREATED:20250703T084539Z
LAST-MODIFIED:20250703T084539Z
UID:10006352-802915200-802915200@www.discoverhollywood.com
SUMMARY:Gruesome Playground Injuries
DESCRIPTION:A new production of Rajiv Joseph%27s darkly comic tale about love%2c pain and friendship. What is the path we take to find love in a harsh world%3f %3cb%3eSara Rae Foster %3c/b%3e%28Showtime%27s\n%3ci%3eMasters of Sex%2c %3c/i%3eTNT%27s\n%3ci%3eMob City%3c/i%3e%29 and\n%3cb%3eJeff Ward%3c/b%3e %28title role in Lifetime%27s\n%3ci%3eManson%27s Lost Girls%3c/i%3e%29 star in this\n%3cb%3e%3c/b%3ehilarious and heartbreaking love story about the intimacy between two people who allow their defenses to drop and their wounds to show.\n%3cbr%3eDesignHTMLWords: 72   Characters: 397
URL:https://www.discoverhollywood.com/event/gruesome-playground-injuries/
LOCATION:Hudson Guild Theatre\, 6539 Santa Monica Blvd.\, Hollywood\, California
END:VEVENT
BEGIN:VEVENT
DTSTART;TZID=Asia/Kolkata:19940628T000000
DTEND;TZID=Asia/Kolkata:19940628T000000
DTSTAMP:20260422T012746
CREATED:20250703T093807Z
LAST-MODIFIED:20250703T093807Z
UID:10006416-772761600-772761600@www.discoverhollywood.com
SUMMARY:Holding Court
DESCRIPTION:%3cspan%3eOne Woman Show by actress and comedian Courtney Scheuerman. A true%2c Heroes Journey%2c this is a story of one woman%27s hilariously poignant path to discovering herself as the hero of her own story.%3c/span%3eDesignHTMLWords: 33   Characters: 188
URL:https://www.discoverhollywood.com/event/holding-court/
LOCATION:Hudson Guild Theatre\, 6539 Santa Monica Blvd.\, Hollywood\, California
END:VEVENT
BEGIN:VEVENT
DTSTART;TZID=Asia/Kolkata:19940609T000000
DTEND;TZID=Asia/Kolkata:19940609T000000
DTSTAMP:20260422T012746
CREATED:20250703T093841Z
LAST-MODIFIED:20250703T093841Z
UID:10006435-771120000-771120000@www.discoverhollywood.com
SUMMARY:Holly Would
DESCRIPTION:%3cspan class%3d%22mediumtext%22%3eHollywood – 1930%3a A tale of calculated mistaken identity takes a surprising turn in this hilarious farce comedy when a fresh-faced%2c bright-eyed Holly Wouldchester arrives on set%2c ready for her close up in Greta Garbo’s second talkee. There is only one problem… she is not who she says she is. With the help of her longtime confidant ReRe%2c can Holly overcome a series of backstage mishaps%2c a frustrated director%2c a meddling Italian countess and a very unhappy Garbo on her quest%3f%3c/span%3eDesignHTMLWords: 80   Characters: 465
URL:https://www.discoverhollywood.com/event/holly-would/
LOCATION:Hudson Guild Theatre\, 6539 Santa Monica Blvd.\, Hollywood\, California
END:VEVENT
BEGIN:VEVENT
DTSTART;TZID=Asia/Kolkata:19940607T000000
DTEND;TZID=Asia/Kolkata:19940607T000000
DTSTAMP:20260422T012746
CREATED:20250703T094041Z
LAST-MODIFIED:20250703T094041Z
UID:10006437-770947200-770947200@www.discoverhollywood.com
SUMMARY:Hollywood and Broadway
DESCRIPTION:%3cspan class%3d%22mediumtext%22%3eHollywood meets Broadway in this hilarious world premiere comedy. Set in 1951 at the famous but now defunct Hotel Astor in New York City%2c legendary stars Tallulah Bankhead and Gloria Swanson are set to receive the prestigious Page One Award for Entertainment. Both actresses are introduced by Ms. Aileen Pringle but with the help of a snooping butler and a very eager Hotel Reception Clerk%2c mayhem and lunacy prevail as both actresses compete to be the Diva of the evening.%3c/span%3eDesignHTMLWords: 80   Characters: 467
URL:https://www.discoverhollywood.com/event/hollywood-and-broadway/
LOCATION:Hudson Guild Theatre\, 6539 Santa Monica Blvd.\, Hollywood\, California
END:VEVENT
BEGIN:VEVENT
DTSTART;TZID=Asia/Kolkata:19940518T000000
DTEND;TZID=Asia/Kolkata:19940518T000000
DTSTAMP:20260422T012746
CREATED:20250703T094635Z
LAST-MODIFIED:20250703T094635Z
UID:10006457-769219200-769219200@www.discoverhollywood.com
SUMMARY:Hollywood Diary
DESCRIPTION:%3cp%3e%3cspan%3eA fictional encounter at the filming of Hush Hush Sweet Charlotte between famous Hollywood gossip columnist Hedda Hopper interviewing all time star Mary Astor about her big return to the big screen but wanting to know details of Mary’s scandalous%2c tell all%2c revealing diary. Once used as evidence against Mary%2c in her own divorce trial.%3c/span%3e%3c/p%3eDesignHTMLWords: 55   Characters: 331
URL:https://www.discoverhollywood.com/event/hollywood-diary/
LOCATION:Hudson Guild Theatre\, 6539 Santa Monica Blvd.\, Hollywood\, California
END:VEVENT
BEGIN:VEVENT
DTSTART;TZID=Asia/Kolkata:19940515T000000
DTEND;TZID=Asia/Kolkata:19940515T000000
DTSTAMP:20260422T012746
CREATED:20250703T094637Z
LAST-MODIFIED:20250703T094637Z
UID:10006460-768960000-768960000@www.discoverhollywood.com
SUMMARY:Hollywood Facade
DESCRIPTION:%3cbr%3eDesignHTMLWords: 0   Characters: 0
URL:https://www.discoverhollywood.com/event/hollywood-facade/
LOCATION:Hudson Guild Theatre\, 6539 Santa Monica Blvd.\, Hollywood\, California
END:VEVENT
BEGIN:VEVENT
DTSTART;TZID=Asia/Kolkata:19940114T000000
DTEND;TZID=Asia/Kolkata:19940114T000000
DTSTAMP:20260422T012746
CREATED:20250703T105539Z
LAST-MODIFIED:20250703T105539Z
UID:10006581-758505600-758505600@www.discoverhollywood.com
SUMMARY:How I lost my Virginity at 29
DESCRIPTION:%3c%21–%5bif gte mso 9%5d%3e\n	%3cxml%3e%3c/xml%3e\n%3c%21%5bendif%5d–%3e\n%3cp%3e%3cspan%3e%3cspan%3eNY native Brian Schiller’s funny and poignant coming of age story about his social and sexual development.%3c/span%3e%3c/span%3e\n	%3cb%3e%3cspan%3e%3cb%3e%3cspan%3e%3c/span%3e%3c/b%3e%3c/span%3e%3c/b%3e\n%3c/p%3e\n%3c%21–%5bif gte mso 9%5d%3e\n	%3cxml%3e\n		%3cw%3aWordDocument%3e\n			%3cw%3aView%3eNormal%3c/w%3aView%3e\n			%3cw%3aZoom%3e0%3c/w%3aZoom%3e\n			%3cw%3aTrackMoves/%3e\n			%3cw%3aTra%3c/body%3e–%3eDesignHTMLWords: 17   Characters: 105
URL:https://www.discoverhollywood.com/event/how-i-lost-my-virginity-at-29/
LOCATION:Hudson Guild Theatre\, 6539 Santa Monica Blvd.\, Hollywood\, California
END:VEVENT
BEGIN:VEVENT
DTSTART;TZID=Asia/Kolkata:19930628T000000
DTEND;TZID=Asia/Kolkata:19930628T000000
DTSTAMP:20260422T012746
CREATED:20250703T110112Z
LAST-MODIFIED:20250703T110112Z
UID:10006781-741225600-741225600@www.discoverhollywood.com
SUMMARY:In The Event of An Actual Emergency
DESCRIPTION:DesignHTMLWords: 0   Characters: 0
URL:https://www.discoverhollywood.com/event/in-the-event-of-an-actual-emergency-2/
LOCATION:Hudson Guild Theatre\, 6539 Santa Monica Blvd.\, Hollywood\, California
END:VEVENT
BEGIN:VEVENT
DTSTART;TZID=Asia/Kolkata:19930627T000000
DTEND;TZID=Asia/Kolkata:19930627T000000
DTSTAMP:20260422T012746
CREATED:20250703T110113Z
LAST-MODIFIED:20250703T110113Z
UID:10006782-741139200-741139200@www.discoverhollywood.com
SUMMARY:In The Event of An Actual Emergency
DESCRIPTION:%3cp align%3d%22center%22%3e%3cspan%3eA provocative story of two neighboring families and their volatile relationship with the truth and each other.%3c/span%3e%3c/p%3eDesignHTMLWords: 17   Characters: 109
URL:https://www.discoverhollywood.com/event/in-the-event-of-an-actual-emergency-3/
LOCATION:Hudson Guild Theatre\, 6539 Santa Monica Blvd.\, Hollywood\, California
END:VEVENT
BEGIN:VEVENT
DTSTART;TZID=Asia/Kolkata:19930531T000000
DTEND;TZID=Asia/Kolkata:19930531T000000
DTSTAMP:20260422T012746
CREATED:20250703T110204Z
LAST-MODIFIED:20250703T110204Z
UID:10006809-738806400-738806400@www.discoverhollywood.com
SUMMARY:Inconceivable
DESCRIPTION:West Coast Premiere by Meirav Zur is a totally true one-woman semi-festile quasi-%22Musical%22 comedy.%26nbsp%3b%3cdiv%3eRuns 60 minutes%3c/div%3eDesignHTMLWords: 17   Characters: 109
URL:https://www.discoverhollywood.com/event/inconceivable/
LOCATION:Hudson Guild Theatre\, 6539 Santa Monica Blvd.\, Hollywood\, California
END:VEVENT
BEGIN:VEVENT
DTSTART;TZID=Asia/Kolkata:19930219T000000
DTEND;TZID=Asia/Kolkata:19930219T000000
DTSTAMP:20260422T012746
CREATED:20250703T111104Z
LAST-MODIFIED:20250703T111104Z
UID:10006910-730080000-730080000@www.discoverhollywood.com
SUMMARY:Is it History or Is It His Story?
DESCRIPTION:%3cspan%3eKirsten has been tasked to find heroes in American History for her drama class. She finds amazing women that she never learned about in school and that are currently%2c barely covered in history books. Written and performed by Kirsten Laurel Caplan%3c/span%3e\n%3cdiv%3e\n	%3cspan%3eRuns 60 minutes%3c/span%3e\n%3c/div%3eDesignHTMLWords: 44   Characters: 259
URL:https://www.discoverhollywood.com/event/is-it-history-or-is-it-his-story/
LOCATION:Hudson Guild Theatre\, 6539 Santa Monica Blvd.\, Hollywood\, California
END:VEVENT
BEGIN:VEVENT
DTSTART;TZID=Asia/Kolkata:19930217T000000
DTEND;TZID=Asia/Kolkata:19930217T000000
DTSTAMP:20260422T012746
CREATED:20250703T111105Z
LAST-MODIFIED:20250703T111105Z
UID:10006912-729907200-729907200@www.discoverhollywood.com
SUMMARY:Is It Too Ambitious? (Because We Invited Jeff Goldblum)
DESCRIPTION:%3cspan%3eAn original one act comedy exploring the honest relationship between two narcissists%2c who will do anything to repair their broken friendship and chase their dreams.%26nbsp%3b%3c/span%3e\n%3cdiv%3e\n	%3cspan%3e%3cbr%3e%3c/span%3e\n%3c/div%3e\n%3cdiv%3e\n	%3cspan%3e%3cspan%3e%3ca href%3d%22https%3a//www.plays411.com/newsite/show/play_info.asp%3fshow_id%3d4874%22 target%3d%22_blank%22%3ehttps%3a//www.plays411.com/newsite/show/play_info.asp%3fshow_id%3d4874%3c/a%3e%3c/span%3e%3c/span%3e\n%3c/div%3eDesignHTMLWords: 26   Characters: 223
URL:https://www.discoverhollywood.com/event/is-it-too-ambitious-because-we-invited-jeff-goldblum/
LOCATION:Hudson Guild Theatre\, 6539 Santa Monica Blvd.\, Hollywood\, California
END:VEVENT
BEGIN:VEVENT
DTSTART;TZID=Asia/Kolkata:19930122T000000
DTEND;TZID=Asia/Kolkata:19930122T000000
DTSTAMP:20260422T012746
CREATED:20250703T111220Z
LAST-MODIFIED:20250703T111220Z
UID:10006938-727660800-727660800@www.discoverhollywood.com
SUMMARY:It's Good 2 Be Crazy
DESCRIPTION:DesignHTMLWords: 0   Characters: 0
URL:https://www.discoverhollywood.com/event/its-good-2-be-crazy/
LOCATION:Hudson Guild Theatre\, 6539 Santa Monica Blvd.\, Hollywood\, California
END:VEVENT
BEGIN:VEVENT
DTSTART;TZID=Asia/Kolkata:19920410T000000
DTEND;TZID=Asia/Kolkata:19920410T000000
DTSTAMP:20260422T012746
CREATED:20250703T114512Z
LAST-MODIFIED:20250703T114512Z
UID:10007225-702864000-702864000@www.discoverhollywood.com
SUMMARY:Jeb & Jeremiah: Alive in 2010!!!
DESCRIPTION:DesignHTMLWords: 0   Characters: 0
URL:https://www.discoverhollywood.com/event/jeb-jeremiah-alive-in-2010-2/
LOCATION:Hudson Guild Theatre\, 6539 Santa Monica Blvd.\, Hollywood\, California
END:VEVENT
BEGIN:VEVENT
DTSTART;TZID=Asia/Kolkata:19901217T000000
DTEND;TZID=Asia/Kolkata:19901217T000000
DTSTAMP:20260422T012746
CREATED:20250709T085740Z
LAST-MODIFIED:20250709T085740Z
UID:10008365-661392000-661392000@www.discoverhollywood.com
SUMMARY:Lemons Lemons Lemons Lemons Lemons
DESCRIPTION:USA PREMIERE – Lemons Lemons Lemons Lemons Lemons explores how we communicate in our everyday lives%2c and how that could be affected by censorship%2c oppression and loss of free speech. Bernadette and Oliver are two people that meet%2c fall in love and move in together%2c like people do.DesignHTMLWords: 47   Characters: 274
URL:https://www.discoverhollywood.com/event/lemons-lemons-lemons-lemons-lemons/
LOCATION:Hudson Guild Theatre\, 6539 Santa Monica Blvd.\, Hollywood\, California
END:VEVENT
BEGIN:VEVENT
DTSTART;TZID=Asia/Kolkata:19901029T000000
DTEND;TZID=Asia/Kolkata:19901029T000000
DTSTAMP:20260422T012746
CREATED:20250703T122541Z
LAST-MODIFIED:20250703T122541Z
UID:10007754-657158400-657158400@www.discoverhollywood.com
SUMMARY:Kate's Last Dance
DESCRIPTION:%3cspan%3eIn his new solo-performance play%2c %22Kate%27s Last Dance%22%2c Kevin Bone navigates through the company politics tug-of-war with personal experiences that might bring up the question%2c %22What would YOU do%3f%22%3c/span%3e\n%3cdiv%3e\n	%3cspan%3eRuns 60 minutes%3c/span%3e\n%3c/div%3eDesignHTMLWords: 32   Characters: 200
URL:https://www.discoverhollywood.com/event/kates-last-dance/
LOCATION:Hudson Guild Theatre\, 6539 Santa Monica Blvd.\, Hollywood\, California
END:VEVENT
BEGIN:VEVENT
DTSTART;TZID=Asia/Kolkata:19900915T000000
DTEND;TZID=Asia/Kolkata:19900915T000000
DTSTAMP:20260422T012746
CREATED:20250709T091400Z
LAST-MODIFIED:20250709T091400Z
UID:10008458-653356800-653356800@www.discoverhollywood.com
SUMMARY:Like Blood From A Cheap Tiger
DESCRIPTION:Like Blood From A Cheap Cigar is a personal glimpse inside the intense%2c damaged %27with or without you%27 relationship between George%2c an overgrown%2c past-his-prime %27bad boy%27 and Margo%2c his significantly younger girlfriend who%27s been driven to the brink of hilarious insanity by her irrational and uncontrollable love for him.DesignHTMLWords: 49   Characters: 309
URL:https://www.discoverhollywood.com/event/like-blood-from-a-cheap-tiger/
LOCATION:Hudson Guild Theatre\, 6539 Santa Monica Blvd.\, Hollywood\, California
END:VEVENT
BEGIN:VEVENT
DTSTART;TZID=Asia/Kolkata:19900329T000000
DTEND;TZID=Asia/Kolkata:19900329T000000
DTSTAMP:20260422T012746
CREATED:20250709T094217Z
LAST-MODIFIED:20250709T094217Z
UID:10008628-638668800-638668800@www.discoverhollywood.com
SUMMARY:Long Live the King
DESCRIPTION:DesignHTMLWords: 0   Characters: 0
URL:https://www.discoverhollywood.com/event/long-live-the-king/
LOCATION:Hudson Guild Theatre\, 6539 Santa Monica Blvd.\, Hollywood\, California
END:VEVENT
BEGIN:VEVENT
DTSTART;TZID=Asia/Kolkata:19890215T000000
DTEND;TZID=Asia/Kolkata:19890215T000000
DTSTAMP:20260422T012746
CREATED:20250709T123520Z
LAST-MODIFIED:20250709T123520Z
UID:10008775-603504000-603504000@www.discoverhollywood.com
SUMMARY:Mandrake's End
DESCRIPTION:DesignHTMLWords: 0   Characters: 0
URL:https://www.discoverhollywood.com/event/mandrakes-end/
LOCATION:Hudson Guild Theatre\, 6539 Santa Monica Blvd.\, Hollywood\, California
END:VEVENT
END:VCALENDAR