BEGIN:VCALENDAR
VERSION:2.0
PRODID:-//Discover Hollywood Magazine - ECPv6.15.20//NONSGML v1.0//EN
CALSCALE:GREGORIAN
METHOD:PUBLISH
X-ORIGINAL-URL:https://www.discoverhollywood.com
X-WR-CALDESC:Events for Discover Hollywood Magazine
REFRESH-INTERVAL;VALUE=DURATION:PT1H
X-Robots-Tag:noindex
X-PUBLISHED-TTL:PT1H
BEGIN:VTIMEZONE
TZID:Asia/Kolkata
BEGIN:STANDARD
TZOFFSETFROM:+0530
TZOFFSETTO:+0530
TZNAME:IST
DTSTART:19690101T000000
END:STANDARD
END:VTIMEZONE
BEGIN:VEVENT
DTSTART;TZID=Asia/Kolkata:19710207T000000
DTEND;TZID=Asia/Kolkata:19710207T000000
DTSTAMP:20260424T102523
CREATED:20250716T070757Z
LAST-MODIFIED:20250716T070757Z
UID:10014702-34732800-34732800@www.discoverhollywood.com
SUMMARY:Treya's Last Dance
DESCRIPTION:%3cspan%3eBolshy%2c whip-smart and with backchat to spare%2c Treya%27s living it up in London%21%3c/span%3e\n%3cbr style%3d%22box-sizing%3aborder-box%3b color%3argb%2835%2c 35%2c 35%29%3b font-family%3aVerdana%2c Geneva%2c Helvetica%2c sans-serif%3b font-size%3a12px%3b background-color%3argb%28255%2c 255%2c 255%29%3b%22%3e\n%3cspan%3eTurns out it takes more than chat to heal some wounds. Funny%2c messy%2c beautiful . . . it%27s life as we know it%2c on stage.%3c/span%3e\n%3cdiv%3e\n	%3cbr style%3d%22box-sizing%3aborder-box%3b color%3argb%2835%2c 35%2c 35%29%3b font-family%3aVerdana%2c Geneva%2c Helvetica%2c sans-serif%3b fonDesignHTMLWords: 35   Characters: 184
URL:https://www.discoverhollywood.com/event/treyas-last-dance/
LOCATION:Hudson Guild Theatre\, 6539 Santa Monica Blvd.\, Hollywood\, California
END:VEVENT
BEGIN:VEVENT
DTSTART;TZID=Asia/Kolkata:20260424T102523
DTEND;TZID=Asia/Kolkata:20260424T102523
DTSTAMP:20260424T102523
CREATED:20250716T084134Z
LAST-MODIFIED:20250716T084134Z
UID:10015443-0-0@www.discoverhollywood.com
SUMMARY:Women On The Verge
DESCRIPTION:%3cbr%3eDesignHTMLWords: 0   Characters: 0
URL:https://www.discoverhollywood.com/event/women-on-the-verge/
LOCATION:Hudson Guild Theatre\, 6539 Santa Monica Blvd.\, Hollywood\, California
END:VEVENT
BEGIN:VEVENT
DTSTART;TZID=Asia/Kolkata:20260424T102523
DTEND;TZID=Asia/Kolkata:20260424T102523
DTSTAMP:20260424T102523
CREATED:20250716T082832Z
LAST-MODIFIED:20250716T082832Z
UID:10015331-0-0@www.discoverhollywood.com
SUMMARY:Who Am I? A Human Revolution
DESCRIPTION:%3cspan%3eA one-woman musical dramedy show that explores Helema%27s discovery of who she is by reflecting upon the challenging and joyful relationships she has developed in her life.%26nbsp%3b%3c/span%3e\n%3cdiv%3e\n	%3cspan%3eRuns 80 minutes%3c/span%3e\n%3c/div%3eDesignHTMLWords: 30   Characters: 184
URL:https://www.discoverhollywood.com/event/who-am-i-a-human-revolution/
LOCATION:Hudson Guild Theatre\, 6539 Santa Monica Blvd.\, Hollywood\, California
END:VEVENT
BEGIN:VEVENT
DTSTART;TZID=Asia/Kolkata:20260424T102523
DTEND;TZID=Asia/Kolkata:20260424T102523
DTSTAMP:20260424T102523
CREATED:20250716T082512Z
LAST-MODIFIED:20250716T082512Z
UID:10015232-0-0@www.discoverhollywood.com
SUMMARY:Welcome to Heretofore
DESCRIPTION:%3cspan%3eWELCOME TO HERETOFORE a world premiere comedy written by Steve Nevil%2c directed by Elayne Heilveil%2c %3c/span%3e\n%3cspan%3e%3cspan id%3d%22yiv6682165432yui_3_16_0_ym19_1_1494361562779_15439%22%3etakes place in an abandoned Wild West town%2c well after the Gold Rush%2c where an old man is taken care of every day by his faithful companion. Into their midst comes a female force-of-nature who will by day%27s end change both of their lives forever.%3c/span%3e%3c/span%3eDesignHTMLWords: 60   Characters: 336
URL:https://www.discoverhollywood.com/event/welcome-to-heretofore/
LOCATION:Hudson Guild Theatre\, 6539 Santa Monica Blvd.\, Hollywood\, California
END:VEVENT
BEGIN:VEVENT
DTSTART;TZID=Asia/Kolkata:20260424T102523
DTEND;TZID=Asia/Kolkata:20260424T102523
DTSTAMP:20260424T102523
CREATED:20250716T082459Z
LAST-MODIFIED:20250716T082459Z
UID:10015218-0-0@www.discoverhollywood.com
SUMMARY:Weapon of Mass Seduction & Lightweight
DESCRIPTION:Two one woman one-actsDesignHTMLWords: 4   Characters: 21
URL:https://www.discoverhollywood.com/event/weapon-of-mass-seduction-lightweight/
LOCATION:Hudson Guild Theatre\, 6539 Santa Monica Blvd.\, Hollywood\, California
END:VEVENT
BEGIN:VEVENT
DTSTART;TZID=Asia/Kolkata:20260424T102523
DTEND;TZID=Asia/Kolkata:20260424T102523
DTSTAMP:20260424T102523
CREATED:20250716T082202Z
LAST-MODIFIED:20250716T082202Z
UID:10015108-0-0@www.discoverhollywood.com
SUMMARY:Waking Up to All of Me
DESCRIPTION:%3cspan%3eThe integration of the inner child and the empowered woman.%3c/span%3e\n%3cdiv%3e\n	%3cspan%3eRuns 75 minutes%3c/span%3e\n%3c/div%3eDesignHTMLWords: 13   Characters: 74
URL:https://www.discoverhollywood.com/event/waking-up-to-all-of-me/
LOCATION:Hudson Guild Theatre\, 6539 Santa Monica Blvd.\, Hollywood\, California
END:VEVENT
BEGIN:VEVENT
DTSTART;TZID=Asia/Kolkata:20260424T102523
DTEND;TZID=Asia/Kolkata:20260424T102523
DTSTAMP:20260424T102523
CREATED:20250716T081437Z
LAST-MODIFIED:20250716T081437Z
UID:10014898-0-0@www.discoverhollywood.com
SUMMARY:Untitled: We're Doing A Play
DESCRIPTION:DesignHTMLWords: 0   Characters: 0
URL:https://www.discoverhollywood.com/event/untitled-were-doing-a-play/
LOCATION:Hudson Guild Theatre\, 6539 Santa Monica Blvd.\, Hollywood\, California
END:VEVENT
BEGIN:VEVENT
DTSTART;TZID=Asia/Kolkata:20260424T102523
DTEND;TZID=Asia/Kolkata:20260424T102523
DTSTAMP:20260424T102523
CREATED:20250709T083458Z
LAST-MODIFIED:20250709T083458Z
UID:10008196-0-0@www.discoverhollywood.com
SUMMARY:Lake House Project
DESCRIPTION:DesignHTMLWords: 0   Characters: 0
URL:https://www.discoverhollywood.com/event/lake-house-project/
LOCATION:Hudson Guild Theatre\, 6539 Santa Monica Blvd.\, Hollywood\, California
END:VEVENT
END:VCALENDAR