BEGIN:VCALENDAR
VERSION:2.0
PRODID:-//Discover Hollywood Magazine - ECPv6.15.17//NONSGML v1.0//EN
CALSCALE:GREGORIAN
METHOD:PUBLISH
X-ORIGINAL-URL:https://www.discoverhollywood.com
X-WR-CALDESC:Events for Discover Hollywood Magazine
REFRESH-INTERVAL;VALUE=DURATION:PT1H
X-Robots-Tag:noindex
X-PUBLISHED-TTL:PT1H
BEGIN:VTIMEZONE
TZID:Asia/Kolkata
BEGIN:STANDARD
TZOFFSETFROM:+0530
TZOFFSETTO:+0530
TZNAME:IST
DTSTART:19690101T000000
END:STANDARD
END:VTIMEZONE
BEGIN:VEVENT
DTSTART;TZID=Asia/Kolkata:20210701T000000
DTEND;TZID=Asia/Kolkata:20210701T000000
DTSTAMP:20260422T035234
CREATED:20250630T093940Z
LAST-MODIFIED:20250630T093940Z
UID:10001329-1625097600-1625097600@www.discoverhollywood.com
SUMMARY:A Christmas Carol with Charles Dickens
DESCRIPTION:%3cp%3eBased on Charles Dickens%27 own performance script.\n	%3cbr%3e\n	%3cbr%3e\n	In his lifetime%2c Dickens was famous for performing dramatic interpretations of his own work. In %26nbsp%3bwhat has become our holiday tradition%2c ISC re-creates %28with a great deal of artisitc license%29 the experience.%3c/p%3e\n%3cp%3eDavid Melville plays Charles Dickens performing nearly all the characters in A Christmas Carol. He is joined by a young actress%2c and what follows is an evening of wry humor%2c romance and redemption.%3c/p%3eDesignHTMLWords: 72   Characters: 443
URL:https://www.discoverhollywood.com/event/a-christmas-carol-with-charles-dickens-2/
LOCATION:Independent Shakespeare Company\, 3191 Casitas Blvd. Ste 130\, Los Angeles\, California\, 90039.0
END:VEVENT
BEGIN:VEVENT
DTSTART;TZID=Asia/Kolkata:20171213T000000
DTEND;TZID=Asia/Kolkata:20171213T000000
DTSTAMP:20260422T035234
CREATED:20250630T104025Z
LAST-MODIFIED:20250630T104025Z
UID:10001756-1513123200-1513123200@www.discoverhollywood.com
SUMMARY:All's Well That Ends Well
DESCRIPTION:Shakespeare%27s rarely performed play features an extraordinary heroine.DesignHTMLWords: 8   Characters: 68
URL:https://www.discoverhollywood.com/event/alls-well-that-ends-well-2/
LOCATION:Independent Shakespeare Company\, 3191 Casitas Blvd. Ste 130\, Los Angeles\, California\, 90039.0
END:VEVENT
BEGIN:VEVENT
DTSTART;TZID=Asia/Kolkata:20080421T000000
DTEND;TZID=Asia/Kolkata:20080421T000000
DTSTAMP:20260422T035234
CREATED:20250701T063346Z
LAST-MODIFIED:20250701T063346Z
UID:10003385-1208736000-1208736000@www.discoverhollywood.com
SUMMARY:C.3.3.: Oscar Wilde in Prison
DESCRIPTION:%3cspan%3eReading followed by a post-show discussion with playwright Scott Carter.%26nbsp%3b%3c/span%3e\n%3cdiv%3e\n	%3cspan%3e%3cbr%3e%3c/span%3e\n%3c/div%3e\n%3cdiv%3e\n	%3cspan%3e%3ca href%3d%22http%3a//www.atwatercrossing.com/get-here/%22 target%3d%22_blank%22%3ehttp%3a//www.atwatercrossing.com/get-here/%3c/a%3e%3c/span%3e\n%3c/div%3eDesignHTMLWords: 11   Characters: 110
URL:https://www.discoverhollywood.com/event/c-3-3-oscar-wilde-in-prison/
LOCATION:Independent Shakespeare Company\, 3191 Casitas Blvd. Ste 130\, Los Angeles\, California\, 90039.0
END:VEVENT
BEGIN:VEVENT
DTSTART;TZID=Asia/Kolkata:19991209T000000
DTEND;TZID=Asia/Kolkata:19991209T000000
DTSTAMP:20260422T035234
CREATED:20250701T125842Z
LAST-MODIFIED:20250701T125842Z
UID:10004808-944697600-944697600@www.discoverhollywood.com
SUMMARY:Dr. Pinch & the Pinchtones in the War on Pinchmas
DESCRIPTION:Dr Pinch and the Pinchtones are back for the subversive holiday vaudeville that includes swing music%2c offensive humor%2c nudity…and a visit from Krampus.DesignHTMLWords: 23   Characters: 147
URL:https://www.discoverhollywood.com/event/dr-pinch-the-pinchtones-in-the-war-on-pinchmas/
LOCATION:Independent Shakespeare Company\, 3191 Casitas Blvd. Ste 130\, Los Angeles\, California\, 90039.0
END:VEVENT
BEGIN:VEVENT
DTSTART;TZID=Asia/Kolkata:19991207T000000
DTEND;TZID=Asia/Kolkata:19991207T000000
DTSTAMP:20260422T035234
CREATED:20250701T125842Z
LAST-MODIFIED:20250701T125842Z
UID:10004809-944524800-944524800@www.discoverhollywood.com
SUMMARY:Dr. Pinch's Holiday Spectacular
DESCRIPTION:%3cspan%3eOur annual holiday vaudeville extraordinaire returns%21 Dr. Pinch welcomes special guests for an evening of swinging music%2c inappropriate comedy%2c burlesque%2c magic…and a rousing round of hide the pickle. %3c/span%3eDesignHTMLWords: 28   Characters: 194
URL:https://www.discoverhollywood.com/event/dr-pinchs-holiday-spectacular/
LOCATION:Independent Shakespeare Company\, 3191 Casitas Blvd. Ste 130\, Los Angeles\, California\, 90039.0
END:VEVENT
BEGIN:VEVENT
DTSTART;TZID=Asia/Kolkata:19980620T000000
DTEND;TZID=Asia/Kolkata:19980620T000000
DTSTAMP:20260422T035234
CREATED:20250702T052247Z
LAST-MODIFIED:20250702T052247Z
UID:10005252-898300800-898300800@www.discoverhollywood.com
SUMMARY:Essie Jones
DESCRIPTION:A staged reading of a new musical.%26nbsp%3b%26nbsp%3b%3cdiv%3e\n	%3cbr%3e\n%3c/div%3e\n%3cdiv%3e\n	%3ca href%3d%22https%3a//independentshakespeare.secure.force.com/ticket/%23details_a0S4400000RfO8zEAF%22 target%3d%22_blank%22%3eindependentshakespeare.secure.force.com/ticket/%23details_a0S4400000RfO8zEAF%3c/a%3e\n%3c/div%3eDesignHTMLWords: 8   Characters: 107
URL:https://www.discoverhollywood.com/event/essie-jones/
LOCATION:Independent Shakespeare Company\, 3191 Casitas Blvd. Ste 130\, Los Angeles\, California\, 90039.0
END:VEVENT
BEGIN:VEVENT
DTSTART;TZID=Asia/Kolkata:19950730T000000
DTEND;TZID=Asia/Kolkata:19950730T000000
DTSTAMP:20260422T035234
CREATED:20250703T084447Z
LAST-MODIFIED:20250703T084447Z
UID:10006304-807062400-807062400@www.discoverhollywood.com
SUMMARY:Griffith Park Free Shakespeare Festival 15th Anniversary Season Kickoff Party
DESCRIPTION:Join ISC ensemble members for music%2c dancing%2c and grilling on the patio. All proceeds go to support the 15th Anniversary season in Griffith Park. %3ca href%3d%22http%3a//www.iscla.org/kickoff-the-15th%3futm_source%3dIndependent%2bShakespeare%2bCo.%26amp%3butm_campaign%3d8f23204edf-EMAIL_CAMPAIGN_2017_04_18%26amp%3butm_medium%3demail%26amp%3butm_term%3d0_ff4ac33c72-8f23204edf-267908109%22 target%3d%22_blank%22%3ewww.iscla.org/kickoff-the-15th%3c/a%3eDesignHTMLWords: 25   Characters: 168
URL:https://www.discoverhollywood.com/event/griffith-park-free-shakespeare-festival-15th-anniversary-season-kickoff-party/
LOCATION:Independent Shakespeare Company\, 3191 Casitas Blvd. Ste 130\, Los Angeles\, California\, 90039.0
END:VEVENT
BEGIN:VEVENT
DTSTART;TZID=Asia/Kolkata:19950729T000000
DTEND;TZID=Asia/Kolkata:19950729T000000
DTSTAMP:20260422T035234
CREATED:20250703T084448Z
LAST-MODIFIED:20250703T084448Z
UID:10006305-806976000-806976000@www.discoverhollywood.com
SUMMARY:Griffith Park Free Shakespeare Festival Season Kickoff Party
DESCRIPTION:DesignHTMLWords: 0   Characters: 0
URL:https://www.discoverhollywood.com/event/griffith-park-free-shakespeare-festival-season-kickoff-party/
LOCATION:Independent Shakespeare Company\, 3191 Casitas Blvd. Ste 130\, Los Angeles\, California\, 90039.0
END:VEVENT
BEGIN:VEVENT
DTSTART;TZID=Asia/Kolkata:19930929T000000
DTEND;TZID=Asia/Kolkata:19930929T000000
DTSTAMP:20260422T035234
CREATED:20250703T105804Z
LAST-MODIFIED:20250703T105804Z
UID:10006688-749260800-749260800@www.discoverhollywood.com
SUMMARY:Iambic lab
DESCRIPTION:%3cp%3e%3ca href%3d%22http%3a//www.iscla.org/in-the-studio%22%3ehttp%3a//www.iscla.org/in-the-studio%3c/a%3e%3c/p%3eDesignHTMLWords: 1   Characters: 29
URL:https://www.discoverhollywood.com/event/iambic-lab/
LOCATION:Independent Shakespeare Company\, 3191 Casitas Blvd. Ste 130\, Los Angeles\, California\, 90039.0
END:VEVENT
BEGIN:VEVENT
DTSTART;TZID=Asia/Kolkata:19930928T000000
DTEND;TZID=Asia/Kolkata:19930928T000000
DTSTAMP:20260422T035234
CREATED:20250703T105804Z
LAST-MODIFIED:20250703T105804Z
UID:10006689-749174400-749174400@www.discoverhollywood.com
SUMMARY:Iambic Lab: Theater Making
DESCRIPTION:%3cbr%3eDesignHTMLWords: 0   Characters: 0
URL:https://www.discoverhollywood.com/event/iambic-lab-theater-making/
LOCATION:Independent Shakespeare Company\, 3191 Casitas Blvd. Ste 130\, Los Angeles\, California\, 90039.0
END:VEVENT
BEGIN:VEVENT
DTSTART;TZID=Asia/Kolkata:19910215T000000
DTEND;TZID=Asia/Kolkata:19910215T000000
DTSTAMP:20260422T035234
CREATED:20250703T122038Z
LAST-MODIFIED:20250703T122038Z
UID:10007645-666576000-666576000@www.discoverhollywood.com
SUMMARY:Julius Caesar
DESCRIPTION:ISC%27s first-ever production of Shakespeare%27s great play of social upheaval and shifting allegiances.%3cdiv%3e\n	%3cbr%3e\n%3c/div%3e\n%3cdiv%3e\n	%3ca href%3d%22http%3a//www.atwatercrossing.com/get-here/%22 target%3d%22_blank%22%3ehttp%3a//www.atwatercrossing.com/get-here/%3c/a%3e\n%3c/div%3eDesignHTMLWords: 14   Characters: 135
URL:https://www.discoverhollywood.com/event/julius-caesar-2/
LOCATION:Independent Shakespeare Company\, 3191 Casitas Blvd. Ste 130\, Los Angeles\, California\, 90039.0
END:VEVENT
BEGIN:VEVENT
DTSTART;TZID=Asia/Kolkata:19901030T000000
DTEND;TZID=Asia/Kolkata:19901030T000000
DTSTAMP:20260422T035234
CREATED:20250709T090824Z
LAST-MODIFIED:20250709T090824Z
UID:10008413-657244800-657244800@www.discoverhollywood.com
SUMMARY:Letters from Home
DESCRIPTION:Through song%2c storytelling%2c and the letters written to her father during the genocide%2c Kalean Ung probes the boundary between her family’s history and her own experience as a bi-racial%2c first generation American. First presented as a reading at our iambic lab series%2c this extraordinary collaboration between father and daughter takes the next step in its development in the ISC Studio before embarking on tour.DesignHTMLWords: 64   Characters: 403
URL:https://www.discoverhollywood.com/event/letters-from-home/
LOCATION:Independent Shakespeare Company\, 3191 Casitas Blvd. Ste 130\, Los Angeles\, California\, 90039.0
END:VEVENT
BEGIN:VEVENT
DTSTART;TZID=Asia/Kolkata:19851208T000000
DTEND;TZID=Asia/Kolkata:19851208T000000
DTSTAMP:20260422T035234
CREATED:20250710T121359Z
LAST-MODIFIED:20250716T063229Z
UID:10009940-502848000-502848000@www.discoverhollywood.com
SUMMARY:Noel Coward's Private Lives
DESCRIPTION:%3cem%3ePrivate Lives%3c/em%3e\n%3cspan%3eis an adult play%2c and depicts drinking%2c smoking%2c and implied sexual behavior. It also draws a portrait of a relationship between a man and a woman who engage in physical and verbal fights %28albeit fights that are portrayed in a theatrical and somewhat comical way.%29%3c/span%3e\n%3cdiv%3e\n	%3cspan%3e%3cbr%3e%3c/span%3e\n%3c/div%3e\n%3cdiv%3e\n	%3cspan%3e%3cspan%3eTickets%3a iscla.org/privatelives%3c/span%3e%3c/span%3e\n%3c/div%3eDesignHTMLWords: 49   Characters: 303
URL:https://www.discoverhollywood.com/event/noel-cowards-private-lives/
LOCATION:Independent Shakespeare Company\, 3191 Casitas Blvd. Ste 130\, Los Angeles\, California\, 90039.0
END:VEVENT
BEGIN:VEVENT
DTSTART;TZID=Asia/Kolkata:19850225T000000
DTEND;TZID=Asia/Kolkata:19850225T000000
DTSTAMP:20260422T035234
CREATED:20250710T123408Z
LAST-MODIFIED:20250710T123408Z
UID:10010226-478137600-478137600@www.discoverhollywood.com
SUMMARY:Othello
DESCRIPTION:In this tightly-wound adaptation%2c seven actors bring to life Shakespeare%27s great treatise on alienation.%3cp%3eOthello%2c decorated and revered%2c marries Desdemona%2c the daughter of a local aristocrat. This unexpected pairing dredges up some unpleasant truths about his adopted community and sets in motion a sequence of events that allows Othello to fall prey to the progressively more brutal machinations of Iago. %3c/p%3eDesignHTMLWords: 60   Characters: 397
URL:https://www.discoverhollywood.com/event/othello/
LOCATION:Independent Shakespeare Company\, 3191 Casitas Blvd. Ste 130\, Los Angeles\, California\, 90039.0
END:VEVENT
BEGIN:VEVENT
DTSTART;TZID=Asia/Kolkata:19820504T000000
DTEND;TZID=Asia/Kolkata:19820504T000000
DTSTAMP:20260422T035234
CREATED:20250714T094445Z
LAST-MODIFIED:20250714T094445Z
UID:10010824-389318400-389318400@www.discoverhollywood.com
SUMMARY:Red Barn
DESCRIPTION:An original musical based on an old case.%26nbsp%3b The past never stays buried.DesignHTMLWords: 13   Characters: 69
URL:https://www.discoverhollywood.com/event/red-barn/
LOCATION:Independent Shakespeare Company\, 3191 Casitas Blvd. Ste 130\, Los Angeles\, California\, 90039.0
END:VEVENT
BEGIN:VEVENT
DTSTART;TZID=Asia/Kolkata:19820503T000000
DTEND;TZID=Asia/Kolkata:19820503T000000
DTSTAMP:20260422T035234
CREATED:20250714T094445Z
LAST-MODIFIED:20250714T094445Z
UID:10010825-389232000-389232000@www.discoverhollywood.com
SUMMARY:Red Barn
DESCRIPTION:%3cp%3eSomewhere at the intersection of%26nbsp%3b%3cem%3eTommy%26nbsp%3b%3c/em%3eand\n	%3cem%3eSweeney Todd%3c/em%3e%2c%26nbsp%3b\n	%3ca href%3d%22http%3a//www.iscla.org/%22%3eRED BARN %3c/a%3eupends expectations about musicals.\n%3c/p%3e\n%3cp%3eIn 1827%2c in a bucolic village%2c Maria Martin disappeared. What followed was a series of events both macabre and surreal that culminated in the largest public hanging in English history. Based on a true story%2c this workshop production features a live rock band%2c English beer%2c and plenty of blood. Not for children.%3c/p%3eDesignHTMLWords: 67   Characters: 405
URL:https://www.discoverhollywood.com/event/red-barn-2/
LOCATION:Independent Shakespeare Company\, 3191 Casitas Blvd. Ste 130\, Los Angeles\, California\, 90039.0
END:VEVENT
BEGIN:VEVENT
DTSTART;TZID=Asia/Kolkata:19790721T000000
DTEND;TZID=Asia/Kolkata:19790721T000000
DTSTAMP:20260422T035235
CREATED:20250714T115843Z
LAST-MODIFIED:20250714T115843Z
UID:10011820-301363200-301363200@www.discoverhollywood.com
SUMMARY:Seven Devils and a French Nun
DESCRIPTION:%3cspan%3eThe little nun whose devils made her as big as a rock star%21%26nbsp%3b%26nbsp%3b%3c/span%3e\n%3cdiv%3e\n	%3cspan%3e%3cbr%3e%3c/span%3e\n%3c/div%3e\n%3cdiv%3e\n	%3cspan%3e%3ca href%3d%22http%3a//www.atwatercrossing.com/get-here/%22 target%3d%22_blank%22%3ehttp%3a//www.atwatercrossing.com/get-here/%3c/a%3e%3c/span%3e\n%3c/div%3eDesignHTMLWords: 14   Characters: 99
URL:https://www.discoverhollywood.com/event/seven-devils-and-a-french-nun/
LOCATION:Independent Shakespeare Company\, 3191 Casitas Blvd. Ste 130\, Los Angeles\, California\, 90039.0
END:VEVENT
BEGIN:VEVENT
DTSTART;TZID=Asia/Kolkata:19770702T000000
DTEND;TZID=Asia/Kolkata:19770702T000000
DTSTAMP:20260422T035235
CREATED:20250715T092045Z
LAST-MODIFIED:20250715T092045Z
UID:10012570-236649600-236649600@www.discoverhollywood.com
SUMMARY:Strange Eventful History
DESCRIPTION:In STRANGE EVENTFUL HISTORY%2c an actor %28David Melville%29 is preparing to play Richard III in a rapidly approaching production. But his leading lady just quit%2c and her replacement %28Erika Soto%29 doesn’t have the faintest idea what’s going on. Adding to the confusion%2c the director is nowhere to be found and his stage manager %28Sam Breen%29 has it in for him. As the three characters wrestle with the complicated family soap opera that is the history of England%27s royalty%2c they uncover truths about Shakespeare’s kings %28DesignHTMLWords: 84   Characters: 496
URL:https://www.discoverhollywood.com/event/strange-eventful-history/
LOCATION:Independent Shakespeare Company\, 3191 Casitas Blvd. Ste 130\, Los Angeles\, California\, 90039.0
END:VEVENT
BEGIN:VEVENT
DTSTART;TZID=Asia/Kolkata:19740603T000000
DTEND;TZID=Asia/Kolkata:19740603T000000
DTSTAMP:20260422T035235
CREATED:20250715T122259Z
LAST-MODIFIED:20250715T122259Z
UID:10013510-139449600-139449600@www.discoverhollywood.com
SUMMARY:The Hunchback of Seville
DESCRIPTION:%3cp%3e%3cb%3eLocked in a tower%2c the too-smart-for-the-1500%27s%2c Maxima Terriblé Segunda %28renowned cartographer and adopted sister of Queen Isabella of Spain%29%2c is faced with a dilemma%3a how to save her lover%2c obey the dying Queen and countenance her spoiled niece%2c the Infanta Juana. The play is at turns bitingly satirical and absurdly funny. Told with a sharp%2c sassy verve%2c these three intelligent women clash over their differing convictions on colonialism%2c greed%2c religion and loyalty. %3c/b%3e%3c/p%3eDesignHTMLWords: 72   Characters: 452
URL:https://www.discoverhollywood.com/event/the-hunchback-of-seville/
LOCATION:Independent Shakespeare Company\, 3191 Casitas Blvd. Ste 130\, Los Angeles\, California\, 90039.0
END:VEVENT
BEGIN:VEVENT
DTSTART;TZID=Asia/Kolkata:19731008T000000
DTEND;TZID=Asia/Kolkata:19731008T000000
DTSTAMP:20260422T035235
CREATED:20250715T125047Z
LAST-MODIFIED:20250715T125047Z
UID:10013748-118886400-118886400@www.discoverhollywood.com
SUMMARY:The MisMatch Game
DESCRIPTION:%3cb%3e%3ci%3eThe MisMatch Game%3c/i%3e%3c/b%3e regularly fills the house at its irregularly scheduled gigs at the Renberg Theatre. Audiences keep coming back for the razor%27s-edge improv and the racy%2c anarchic%2c and decidedly un-PC wit and wildness. The Advocate honored\n%3cb%3e%3ci%3eThe MisMatch Game %3c/i%3e%3c/b%3ewith a %2210 Best Theatre%22 citation that said%2c %22This recurring Los Angeles happening re-imagines the %2770s TV game show\n%3ci%3eThe Match Game %3c/i%3ewith full-camp press and excellent sub-lebrity impersonations.%22DesignHTMLWords: 69   Characters: 436
URL:https://www.discoverhollywood.com/event/the-mismatch-game/
LOCATION:Independent Shakespeare Company\, 3191 Casitas Blvd. Ste 130\, Los Angeles\, California\, 90039.0
END:VEVENT
BEGIN:VEVENT
DTSTART;TZID=Asia/Kolkata:19730219T000000
DTEND;TZID=Asia/Kolkata:19730219T000000
DTSTAMP:20260422T035235
CREATED:20250716T052441Z
LAST-MODIFIED:20250716T052441Z
UID:10013979-98928000-98928000@www.discoverhollywood.com
SUMMARY:The Redemption of Oscar Wilde
DESCRIPTION:%3cp%3eIn January 1897%2c two years after Wilde entered prison following a conviction of gross indecency%2c he began a letter addressed to his love%2c Alfred Lord Douglas%2c whom he blamed for his ruin. Wilde was allowed one page of paper at a time and%2c when that paper was filled up%2c it was confiscated by the prison guards. He was then given a new sheet. He could not again refer to the already written pages. That is centerpiece of this play%3a hearing a fallen giant reconstruct his soul%2c page by page.%3c/p%3eDesignHTMLWords: 89   Characters: 476
URL:https://www.discoverhollywood.com/event/the-redemption-of-oscar-wilde/
LOCATION:Independent Shakespeare Company\, 3191 Casitas Blvd. Ste 130\, Los Angeles\, California\, 90039.0
END:VEVENT
BEGIN:VEVENT
DTSTART;TZID=Asia/Kolkata:19721113T000000
DTEND;TZID=Asia/Kolkata:19721113T000000
DTSTAMP:20260422T035235
CREATED:20250716T052910Z
LAST-MODIFIED:20250716T052910Z
UID:10014077-90460800-90460800@www.discoverhollywood.com
SUMMARY:The Snow Geese
DESCRIPTION:%3cp%3e%3cb%3eIn %3c/b%3e\n	%3cb%3eTHE SNOW GEESE%3c/b%3e\n	%3cb%3e%2c Sharr White %28%3ci%3eThe Other Place%3c/i%3e%29 conjurs an American family at the end of an era. On November 1%2c 1917%2c the newly widowed Elizabeth Gaesling %28played by Melissa Chalsma%29 gathers her family together for a final shooting party before her charismatic eldest son heads off to war. By the next morning%2c the champagne%27s all gone%2c the secrets are all out%2c and their world will never be the same.%3c/b%3e\n%3c/p%3eDesignHTMLWords: 71   Characters: 389
URL:https://www.discoverhollywood.com/event/the-snow-geese/
LOCATION:Independent Shakespeare Company\, 3191 Casitas Blvd. Ste 130\, Los Angeles\, California\, 90039.0
END:VEVENT
BEGIN:VEVENT
DTSTART;TZID=Asia/Kolkata:19720830T000000
DTEND;TZID=Asia/Kolkata:19720830T000000
DTSTAMP:20260422T035235
CREATED:20250716T053430Z
LAST-MODIFIED:20250716T053430Z
UID:10014152-83980800-83980800@www.discoverhollywood.com
SUMMARY:The Tempest
DESCRIPTION:Presented at top of Old Zoo area in Griffith ParkDesignHTMLWords: 10   Characters: 49
URL:https://www.discoverhollywood.com/event/the-tempest-3/
LOCATION:Independent Shakespeare Company\, 3191 Casitas Blvd. Ste 130\, Los Angeles\, California\, 90039.0
END:VEVENT
BEGIN:VEVENT
DTSTART;TZID=Asia/Kolkata:19720716T000000
DTEND;TZID=Asia/Kolkata:19720716T000000
DTSTAMP:20260422T035235
CREATED:20250716T055952Z
LAST-MODIFIED:20250716T055952Z
UID:10014197-80092800-80092800@www.discoverhollywood.com
SUMMARY:The Twelve Days of Pinchmas !
DESCRIPTION:%3ch2 align%3d%22left%22%3e\n	%3cspan%3e%3cspan%3eDr. Pinch and the very fetching Pinchtones will fill you to the brim with holiday cheer.%3c/span%3e%3c/span%3e\n%3c/h2%3eDesignHTMLWords: 16   Characters: 86
URL:https://www.discoverhollywood.com/event/the-twelve-days-of-pinchmas/
LOCATION:Independent Shakespeare Company\, 3191 Casitas Blvd. Ste 130\, Los Angeles\, California\, 90039.0
END:VEVENT
BEGIN:VEVENT
DTSTART;TZID=Asia/Kolkata:19720712T000000
DTEND;TZID=Asia/Kolkata:19720712T000000
DTSTAMP:20260422T035235
CREATED:20250716T060002Z
LAST-MODIFIED:20250716T060002Z
UID:10014201-79747200-79747200@www.discoverhollywood.com
SUMMARY:The Two Gentlemen of Verona
DESCRIPTION:DesignHTMLWords: 0   Characters: 0
URL:https://www.discoverhollywood.com/event/the-two-gentlemen-of-verona/
LOCATION:Independent Shakespeare Company\, 3191 Casitas Blvd. Ste 130\, Los Angeles\, California\, 90039.0
END:VEVENT
BEGIN:VEVENT
DTSTART;TZID=Asia/Kolkata:20260422T035235
DTEND;TZID=Asia/Kolkata:20260422T035235
DTSTAMP:20260422T035235
CREATED:20250716T080404Z
LAST-MODIFIED:20250716T080404Z
UID:10014766-0-0@www.discoverhollywood.com
SUMMARY:Twelfth Night
DESCRIPTION:%3cspan%3eA cloud hangs over the country of Illyria as Countess Olivia mourns and Duke Orsino pines. %3c/span%3e\n%3cspan%3eBut when Viola %28a young woman with a big secret%29 washes onshore%2c it soon becomes clear that you can’t keep the human spirit down for long.%3c/span%3e\n%3cbr style%3d%22overflow-wrap%3abreak-word%3b color%3argb%28119%2c 119%2c 119%29%3b font-family%3aproxima-nova%3b font-size%3a16px%3b white-space%3apre-wrap%3b background-color%3argb%28255%2c 255%2c 255%29%3b%22%3e\n%3cbr style%3d%22overflow-wrap%3abreak-word%3b color%3argb%28119%2c 119%2c 119%29%3b font-family%3aproxima-novDesignHTMLWords: 42   Characters: 224
URL:https://www.discoverhollywood.com/event/twelfth-night/
LOCATION:Independent Shakespeare Company\, 3191 Casitas Blvd. Ste 130\, Los Angeles\, California\, 90039.0
END:VEVENT
END:VCALENDAR