BEGIN:VCALENDAR
VERSION:2.0
PRODID:-//Discover Hollywood Magazine - ECPv6.15.17//NONSGML v1.0//EN
CALSCALE:GREGORIAN
METHOD:PUBLISH
X-WR-CALNAME:Discover Hollywood Magazine
X-ORIGINAL-URL:https://www.discoverhollywood.com
X-WR-CALDESC:Events for Discover Hollywood Magazine
REFRESH-INTERVAL;VALUE=DURATION:PT1H
X-Robots-Tag:noindex
X-PUBLISHED-TTL:PT1H
BEGIN:VTIMEZONE
TZID:Asia/Kolkata
BEGIN:STANDARD
TZOFFSETFROM:+0530
TZOFFSETTO:+0530
TZNAME:IST
DTSTART:19690101T000000
END:STANDARD
END:VTIMEZONE
BEGIN:VEVENT
DTSTART;TZID=Asia/Kolkata:20251011T140000
DTEND;TZID=Asia/Kolkata:20251011T170000
DTSTAMP:20260422T185730
CREATED:20251006T190344Z
LAST-MODIFIED:20251006T190344Z
UID:10020858-1760191200-1760202000@www.discoverhollywood.com
SUMMARY:Ichinosuke Umekawa: An Afternoon of Japanese Classical Dance
DESCRIPTION:Discover the beauty of buyo\, Japanese classical dance\, where a single gesture can express blossoms in the wind or a fleeting moment of longing. Though it stands as its own art form today\, buyo draws inspiration from two of Japan’s most iconic theater traditions: kabuki\, known for its vibrant costumes\, bold makeup\, and dynamic storytelling\, and noh\, a centuries-old form of refined\, meditative theater marked by elegant restraint and symbolic masks.
URL:https://www.discoverhollywood.com/event/ichinosuke-umekawa-an-afternoon-of-japanese-classical-dance/
LOCATION:Japan House\, 6801 Hollywood Blvd\, Hollywood\, California\, 90028.0
END:VEVENT
BEGIN:VEVENT
DTSTART;TZID=Asia/Kolkata:20061023T000000
DTEND;TZID=Asia/Kolkata:20061023T000000
DTSTAMP:20260422T185730
CREATED:20250701T081449Z
LAST-MODIFIED:20250701T081449Z
UID:10003563-1161561600-1161561600@www.discoverhollywood.com
SUMMARY:Character Drawing for Kids!
DESCRIPTION:%3cspan%3eIllustrator/Animator MinoMiyabi will guide kids through the easy steps of combining simple shapes to create their own unique characters.%26nbsp%3b%3c/span%3e\n%3cdiv%3e\n	%3cspan%3e%3cbr%3e%3c/span%3e\n%3c/div%3e\n%3cdiv%3e\n	%3cspan%3e%3cspan%3e%3ca href%3d%22https%3a//www.japanhouse.jp/losangeles/events/character-drawing-kids-march.html%22 target%3d%22_blank%22%3ehttps%3a//www.japanhouse.jp/losangeles/events/character-drawing-kids-march.html%3c/a%3e%3c/span%3e%3c/span%3e\n%3c/div%3eDesignHTMLWords: 20   Characters: 209
URL:https://www.discoverhollywood.com/event/character-drawing-for-kids/
LOCATION:Japan House\, 6801 Hollywood Blvd\, Hollywood\, California\, 90028.0
END:VEVENT
BEGIN:VEVENT
DTSTART;TZID=Asia/Kolkata:19990210T000000
DTEND;TZID=Asia/Kolkata:19990210T000000
DTSTAMP:20260422T185730
CREATED:20250701T134009Z
LAST-MODIFIED:20250702T044511Z
UID:10005017-918604800-918604800@www.discoverhollywood.com
SUMMARY:Edosenke Tea Ceremony
DESCRIPTION:Tracing back to the ninth century%2c the Japanese tea ceremony involves the simple act of preparing and receiving tea with mutual appreciation and respect%3cdiv%3e\n	%3cbr%3e\n%3c/div%3e\n%3cdiv%3e\n	Space is limited%2c register%26nbsp%3b%26nbsp%3b%3ca href%3d%22https%3a//jhlateaceremonyandikebana.eventbrite.com/%22 target%3d%22_blank%22 style%3d%22margin%3a0px%3b padding%3a0px%3b max-height%3a999999px%3b color%3argb%280%2c 0%2c 238%29%3b text-decoration-line%3anone%3b font-family%3a%26quot%3bSabon W01%26quot%3b%3b font-size%3a14px%3b opacity%3a1%3b%22%3ehere%3c/a%3e%26nbsp%3b.%26nbsp%3b\n	%3cbr style%3d%22margin%3a0px%3b paddDesignHTMLWords: 29   Characters: 185
URL:https://www.discoverhollywood.com/event/edosenke-tea-ceremony/
LOCATION:Japan House\, 6801 Hollywood Blvd\, Hollywood\, California\, 90028.0
END:VEVENT
BEGIN:VEVENT
DTSTART;TZID=Asia/Kolkata:19981203T000000
DTEND;TZID=Asia/Kolkata:19981203T000000
DTSTAMP:20260422T185730
CREATED:20250702T044841Z
LAST-MODIFIED:20250702T044841Z
UID:10005086-912643200-912643200@www.discoverhollywood.com
SUMMARY:Elements of Character Design for Manga & Comics
DESCRIPTION:%3cspan%3e%26nbsp%3bIllustrator/Animator MinoMiyabi will offer comic enthusiasts%2c emerging manga artists%2c and doodlers alike%2c fundamental tutorials on refining character design to enhance the expressiveness and storytelling value of individual characters.%26nbsp%3b%3c/span%3e\n%3cdiv%3e\n	%3cspan%3e%3cbr%3e%3c/span%3e\n%3c/div%3e\n%3cdiv%3e\n	%3cspan%3e%3cspan%3e%3ca href%3d%22https%3a//www.japanhouse.jp/losangeles/events/elements-of-character-design-for-manga-and-comics-march.html%22 target%3d%22_blank%22%3ehttps%3a//www.japanhouse.jp/losangeles/events/elements-of-characDesignHTMLWords: 29   Characters: 292
URL:https://www.discoverhollywood.com/event/elements-of-character-design-for-manga-comics/
LOCATION:Japan House\, 6801 Hollywood Blvd\, Hollywood\, California\, 90028.0
END:VEVENT
BEGIN:VEVENT
DTSTART;TZID=Asia/Kolkata:19980421T000000
DTEND;TZID=Asia/Kolkata:19980421T000000
DTSTAMP:20260422T185730
CREATED:20250702T053244Z
LAST-MODIFIED:20250702T053244Z
UID:10005312-893116800-893116800@www.discoverhollywood.com
SUMMARY:Explore the Roots of MANGA!  Action in Print: Visual Narrative in Edo-Period Popular Literature
DESCRIPTION:%3cdiv%3e\n	%3cspan%3eIn this lavishly illustrated talk Dr. Ellis TINIOS will introduce illustrated popular fiction produced for a mass audience in Japan in the eighteenth and nineteenth centuries.%3c/span%3e\n%3c/div%3e\n%3cdiv%3e\n	%3cbr%3e\n%3c/div%3e\n%3ca href%3d%22https%3a//www.japanhouse.jp/losangeles/events/explore-the-roots-of-manga.html%22 target%3d%22_blank%22%3ehttps%3a//www.japanhouse.jp/losangeles/events/explore-the-roots-of-manga.html%3c/a%3eDesignHTMLWords: 27   Characters: 243
URL:https://www.discoverhollywood.com/event/explore-the-roots-of-manga-action-in-print-visual-narrative-in-edo-period-popular-literature/
LOCATION:Japan House\, 6801 Hollywood Blvd\, Hollywood\, California\, 90028.0
END:VEVENT
BEGIN:VEVENT
DTSTART;TZID=Asia/Kolkata:19920702T000000
DTEND;TZID=Asia/Kolkata:19920702T000000
DTSTAMP:20260422T185730
CREATED:20250703T111758Z
LAST-MODIFIED:20250703T111758Z
UID:10007142-710035200-710035200@www.discoverhollywood.com
SUMMARY:Japan 47 Artisans thru Jan 5
DESCRIPTION:japanhouse.jp/losangeles/exhibition/japan-47-artisans.htmlDesignHTMLWords: 1   Characters: 54
URL:https://www.discoverhollywood.com/event/japan-47-artisans-thru-jan-5/
LOCATION:Japan House\, 6801 Hollywood Blvd\, Hollywood\, California\, 90028.0
END:VEVENT
BEGIN:VEVENT
DTSTART;TZID=Asia/Kolkata:19920701T000000
DTEND;TZID=Asia/Kolkata:19920701T000000
DTSTAMP:20260422T185730
CREATED:20250703T111807Z
LAST-MODIFIED:20250703T111807Z
UID:10007143-709948800-709948800@www.discoverhollywood.com
SUMMARY:Japan House Los Angeles - Grand Opening
DESCRIPTION:JAPAN HOUSE Los Angeles serves to showcase the best of Japanese art%2c design%2c gastronomy%2c innovation%2c technology%2c and more%2c offering a rich experience that intrigues the five senses. I%3ca href%3d%22https%3a//www.japanhouse.jp/losangeles/%22 target%3d%22_blank%22%3ewww.japanhouse.jp/losangeles%3c/a%3eDesignHTMLWords: 28   Characters: 202
URL:https://www.discoverhollywood.com/event/japan-house-los-angeles-grand-opening/
LOCATION:Japan House\, 6801 Hollywood Blvd\, Hollywood\, California\, 90028.0
END:VEVENT
BEGIN:VEVENT
DTSTART;TZID=Asia/Kolkata:19920627T000000
DTEND;TZID=Asia/Kolkata:19920627T000000
DTSTAMP:20260422T185730
CREATED:20250703T111808Z
LAST-MODIFIED:20250703T111808Z
UID:10007147-709603200-709603200@www.discoverhollywood.com
SUMMARY:Japanese Food Expo 2020
DESCRIPTION:%3ca href%3d%22https%3a//www.japanfoodculture.org/japanesefoodexpo/%22%3ehttps%3a//www.japanfoodculture.org/japanesefoodexpo/%3c/a%3eDesignHTMLWords: 1   Characters: 47
URL:https://www.discoverhollywood.com/event/japanese-food-expo-2020/
LOCATION:Japan House\, 6801 Hollywood Blvd\, Hollywood\, California\, 90028.0
END:VEVENT
BEGIN:VEVENT
DTSTART;TZID=Asia/Kolkata:19920626T000000
DTEND;TZID=Asia/Kolkata:19920626T000000
DTSTAMP:20260422T185730
CREATED:20250703T111817Z
LAST-MODIFIED:20250703T111817Z
UID:10007148-709516800-709516800@www.discoverhollywood.com
SUMMARY:Japanese Food Lab Chef Series by Gemma Matsuyama | Japanese Sweets
DESCRIPTION:In this workshop%2c Gemma Matsuyama%2c pastry chef at n/naka %28featured in Netflix%27s %22Chef%27s Table%22 Season 1%29%2c will present a class on wagashi %28Japanese sweets%29%2c followed by a wagashi-making demonstration and tasting.DesignHTMLWords: 31   Characters: 198
URL:https://www.discoverhollywood.com/event/japanese-food-lab-chef-series-by-gemma-matsuyama-japanese-sweets/
LOCATION:Japan House\, 6801 Hollywood Blvd\, Hollywood\, California\, 90028.0
END:VEVENT
BEGIN:VEVENT
DTSTART;TZID=Asia/Kolkata:19870222T000000
DTEND;TZID=Asia/Kolkata:19870222T000000
DTSTAMP:20260422T185730
CREATED:20250710T101742Z
LAST-MODIFIED:20250710T101742Z
UID:10009499-540950400-540950400@www.discoverhollywood.com
SUMMARY:Movies & Bites | The Chef of South Polar
DESCRIPTION:%3cspan%3eA combined screening/tasting event featuring acclaimed food stylist Nami Iijima and 2009 comedy film %22The Chef of South Polar %28Nankyoku Ryorinin%29.%22%26nbsp%3b%26nbsp%3b%3c/span%3e\n%3cspan%3eFollowing the screening%2c participants will be treated to a tasting of dishes included in the movie.%3c/span%3e\n%3cdiv%3e\n	%3cspan%3e%3cbr%3e%3c/span%3e\n%3c/div%3e\n%3cdiv%3e\n	%3cspan%3e%3ca href%3d%22https%3a//www.eventbrite.com/e/movie-bites-the-chef-of-south-polar-tickets-54433254329%22 target%3d%22_blank%22%3ewww.eventbrite.com/e/movie-bites-the-chef-of-south-polar-ticketsDesignHTMLWords: 38   Characters: 300
URL:https://www.discoverhollywood.com/event/movies-bites-the-chef-of-south-polar/
LOCATION:Japan House\, 6801 Hollywood Blvd\, Hollywood\, California\, 90028.0
END:VEVENT
BEGIN:VEVENT
DTSTART;TZID=Asia/Kolkata:19850827T000000
DTEND;TZID=Asia/Kolkata:19850827T000000
DTSTAMP:20260422T185730
CREATED:20250710T121922Z
LAST-MODIFIED:20250716T064104Z
UID:10010043-493948800-493948800@www.discoverhollywood.com
SUMMARY:Ogasawara-ryu Tea Ceremony
DESCRIPTION:%3cspan%3eTracing back to the ninth century%2c the Japanese tea ceremony involves the simple act of preparing and receiving tea with mutual appreciation and respect%3c/span%3e\n%3cdiv%3e\n	%3cspan%3e%3cbr%3e%3c/span%3e\n%3c/div%3e\n%3cdiv%3e\n	%3cspan%3eSpace is limited%2c register%26nbsp%3b%3c/span%3e\n	%3ca href%3d%22https%3a//jhlateaceremonyandikebana.eventbrite.com/%22 target%3d%22_blank%22 style%3d%22margin%3a0px%3b padding%3a0px%3b max-height%3a999999px%3b color%3argb%280%2c 0%2c 238%29%3b text-decoration-line%3anone%3b font-family%3a%26quot%3bSabon W01%26quot%3b%3b font-size%3a14px%3b opacity%3a1%3b%22%3ehere%3c/a%3eDesignHTMLWords: 29   Characters: 185
URL:https://www.discoverhollywood.com/event/ogasawara-ryu-tea-ceremony/
LOCATION:Japan House\, 6801 Hollywood Blvd\, Hollywood\, California\, 90028.0
END:VEVENT
BEGIN:VEVENT
DTSTART;TZID=Asia/Kolkata:19821218T000000
DTEND;TZID=Asia/Kolkata:19821218T000000
DTSTAMP:20260422T185730
CREATED:20250714T093325Z
LAST-MODIFIED:20250714T093325Z
UID:10010596-409017600-409017600@www.discoverhollywood.com
SUMMARY:Prototyping in Tokyo
DESCRIPTION:%22Prototyping in Tokyo” is an interactive exhibition highlighting the importance of prototypes as objects that link new technologies and society%2c offering a glimpse into possible future user experiences.%26nbsp%3b %3ca href%3d%22https%3a//www.japanhouse.jp/losangeles/exhibition/prototyping-in-tokyo.html%22 target%3d%22_blank%22%3ewww.japanhouse.jp/losangeles/exhibition/prototyping-in-tokyo.html%3c/a%3eDesignHTMLWords: 29   Characters: 261
URL:https://www.discoverhollywood.com/event/prototyping-in-tokyo/
LOCATION:Japan House\, 6801 Hollywood Blvd\, Hollywood\, California\, 90028.0
END:VEVENT
BEGIN:VEVENT
DTSTART;TZID=Asia/Kolkata:19720102T000000
DTEND;TZID=Asia/Kolkata:19720102T000000
DTSTAMP:20260422T185730
CREATED:20250716T061211Z
LAST-MODIFIED:20250716T061211Z
UID:10014393-63158400-63158400@www.discoverhollywood.com
SUMMARY:This is MANGA - The Art of Naoki Urasawa
DESCRIPTION:Opening of retrospective exhibition with acclaimed Japanese manga artist includes artist talk %26amp%3b book signing.%26nbsp%3b%26nbsp%3b%3cdiv%3e\n	%3cbr%3e\n%3c/div%3e\n%3cdiv%3e\n	%3ca href%3d%22https%3a//www.japanhouse.jp/losangeles/exhibition/this-is-manga-the-art-of-naoki-urasawa.html%22 target%3d%22_blank%22%3ehttps%3a//www.japanhouse.jp/losangeles/exhibition/this-is-manga-the-art-of-naoki-urasawa.html%3c/a%3e\n%3c/div%3eDesignHTMLWords: 15   Characters: 192
URL:https://www.discoverhollywood.com/event/this-is-manga-the-art-of-naoki-urasawa/
LOCATION:Japan House\, 6801 Hollywood Blvd\, Hollywood\, California\, 90028.0
END:VEVENT
BEGIN:VEVENT
DTSTART;TZID=Asia/Kolkata:20260422T185730
DTEND;TZID=Asia/Kolkata:20260422T185730
DTSTAMP:20260422T185730
CREATED:20250716T082205Z
LAST-MODIFIED:20250716T082205Z
UID:10015112-0-0@www.discoverhollywood.com
SUMMARY:Walk in U.S.\, Talk on Japan | Kyogen Workshop & Lecture
DESCRIPTION:This program will feature a special lecture and workshop by Tokuro Miyake the 10th%2c internationally renowned kyogen %28traditional comic theatre%29 performer.%26nbsp%3b%3cdiv%3e%3c/div%3e\n%3ca href%3d%22https%3a//www.eventbrite.com/e/walk-in-us-talk-on-japan-kyogen-workshop-lecture-tickets-56686775672%22 target%3d%22_blank%22%3e\n	%3cdiv%3e\n		%3cbr%3e\n	%3c/div%3e\n	%3cdiv%3e%26nbsp%3bwww.eventbrite.com/e/walk-in-us-talk-on-japan-kyogen-workshop-lecture-tickets-56686775672%3c/div%3e\n%3c/a%3e\n%3cdiv%3e%3c/div%3eDesignHTMLWords: 22   Characters: 232
URL:https://www.discoverhollywood.com/event/walk-in-u-s-talk-on-japan-kyogen-workshop-lecture/
LOCATION:Japan House\, 6801 Hollywood Blvd\, Hollywood\, California\, 90028.0
END:VEVENT
END:VCALENDAR