BEGIN:VCALENDAR
VERSION:2.0
PRODID:-//Discover Hollywood Magazine - ECPv6.15.17//NONSGML v1.0//EN
CALSCALE:GREGORIAN
METHOD:PUBLISH
X-ORIGINAL-URL:https://www.discoverhollywood.com
X-WR-CALDESC:Events for Discover Hollywood Magazine
REFRESH-INTERVAL;VALUE=DURATION:PT1H
X-Robots-Tag:noindex
X-PUBLISHED-TTL:PT1H
BEGIN:VTIMEZONE
TZID:Asia/Kolkata
BEGIN:STANDARD
TZOFFSETFROM:+0530
TZOFFSETTO:+0530
TZNAME:IST
DTSTART:19860101T000000
END:STANDARD
END:VTIMEZONE
BEGIN:VEVENT
DTSTART;TZID=Asia/Kolkata:20200507T000000
DTEND;TZID=Asia/Kolkata:20200507T000000
DTSTAMP:20260422T153231
CREATED:20250630T100018Z
LAST-MODIFIED:20250630T100018Z
UID:10001469-1588809600-1588809600@www.discoverhollywood.com
SUMMARY:A&M Entertainment
DESCRIPTION:%3cbr%3eDesignHTMLWords: 0   Characters: 0
URL:https://www.discoverhollywood.com/event/am-entertainment-2/
LOCATION:King King\, 6555 Hollywood Blvd.\, Hollywood\, California
END:VEVENT
BEGIN:VEVENT
DTSTART;TZID=Asia/Kolkata:20200416T000000
DTEND;TZID=Asia/Kolkata:20200416T000000
DTSTAMP:20260422T153231
CREATED:20250630T100420Z
LAST-MODIFIED:20250630T100420Z
UID:10001476-1586995200-1586995200@www.discoverhollywood.com
SUMMARY:Aaron Akins with Jr. Walker's All Star Band & Malik Pointer
DESCRIPTION:DesignHTMLWords: 0   Characters: 0
URL:https://www.discoverhollywood.com/event/aaron-akins-with-jr-walkers-all-star-band-malik-pointer-2/
LOCATION:King King\, 6555 Hollywood Blvd.\, Hollywood\, California
END:VEVENT
BEGIN:VEVENT
DTSTART;TZID=Asia/Kolkata:20190528T000000
DTEND;TZID=Asia/Kolkata:20190528T000000
DTSTAMP:20260422T153231
CREATED:20250630T102933Z
LAST-MODIFIED:20250630T102933Z
UID:10001579-1559001600-1559001600@www.discoverhollywood.com
SUMMARY:After Dark Take 3
DESCRIPTION:%3cbr%3eDesignHTMLWords: 0   Characters: 0
URL:https://www.discoverhollywood.com/event/after-dark-take-3-2/
LOCATION:King King\, 6555 Hollywood Blvd.\, Hollywood\, California
END:VEVENT
BEGIN:VEVENT
DTSTART;TZID=Asia/Kolkata:20141009T000000
DTEND;TZID=Asia/Kolkata:20141009T000000
DTSTAMP:20260422T153231
CREATED:20250630T114306Z
LAST-MODIFIED:20250630T114306Z
UID:10002208-1412812800-1412812800@www.discoverhollywood.com
SUMMARY:Aristocrats
DESCRIPTION:%3cbr%3eDesignHTMLWords: 0   Characters: 0
URL:https://www.discoverhollywood.com/event/aristocrats/
LOCATION:King King\, 6555 Hollywood Blvd.\, Hollywood\, California
END:VEVENT
BEGIN:VEVENT
DTSTART;TZID=Asia/Kolkata:20130628T000000
DTEND;TZID=Asia/Kolkata:20130628T000000
DTSTAMP:20260422T153231
CREATED:20250630T120431Z
LAST-MODIFIED:20250630T120431Z
UID:10002442-1372377600-1372377600@www.discoverhollywood.com
SUMMARY:Balance
DESCRIPTION:DesignHTMLWords: 0   Characters: 0
URL:https://www.discoverhollywood.com/event/balance/
LOCATION:King King\, 6555 Hollywood Blvd.\, Hollywood\, California
END:VEVENT
BEGIN:VEVENT
DTSTART;TZID=Asia/Kolkata:20011007T000000
DTEND;TZID=Asia/Kolkata:20011007T000000
DTSTAMP:20260422T153231
CREATED:20250701T120719Z
LAST-MODIFIED:20250701T120719Z
UID:10004484-1002412800-1002412800@www.discoverhollywood.com
SUMMARY:Deep
DESCRIPTION:%3cbr%3eDesignHTMLWords: 0   Characters: 0
URL:https://www.discoverhollywood.com/event/deep/
LOCATION:King King\, 6555 Hollywood Blvd.\, Hollywood\, California
END:VEVENT
BEGIN:VEVENT
DTSTART;TZID=Asia/Kolkata:20010325T000000
DTEND;TZID=Asia/Kolkata:20010325T000000
DTSTAMP:20260422T153231
CREATED:20250701T120913Z
LAST-MODIFIED:20250701T120913Z
UID:10004582-985478400-985478400@www.discoverhollywood.com
SUMMARY:Diamond Dogs
DESCRIPTION:%3cimg class%3d%22%22 alt%3d%22%22 src%3d%22images/02_DiamonDogs_poster10.jpg%22 height%3d%22386%22 width%3d%22250%22%3e\n%3cbr%3eDesignHTMLWords: 0   Characters: 0
URL:https://www.discoverhollywood.com/event/diamond-dogs/
LOCATION:King King\, 6555 Hollywood Blvd.\, Hollywood\, California
END:VEVENT
BEGIN:VEVENT
DTSTART;TZID=Asia/Kolkata:19990225T000000
DTEND;TZID=Asia/Kolkata:19990225T000000
DTSTAMP:20260422T153231
CREATED:20250701T133634Z
LAST-MODIFIED:20250702T044425Z
UID:10005002-919900800-919900800@www.discoverhollywood.com
SUMMARY:Eclectic
DESCRIPTION:%3cbr%3eDesignHTMLWords: 0   Characters: 0
URL:https://www.discoverhollywood.com/event/eclectic/
LOCATION:King King\, 6555 Hollywood Blvd.\, Hollywood\, California
END:VEVENT
BEGIN:VEVENT
DTSTART;TZID=Asia/Kolkata:19980411T000000
DTEND;TZID=Asia/Kolkata:19980411T000000
DTSTAMP:20260422T153231
CREATED:20250702T053648Z
LAST-MODIFIED:20250702T053648Z
UID:10005322-892252800-892252800@www.discoverhollywood.com
SUMMARY:Extropia
DESCRIPTION:DesignHTMLWords: 0   Characters: 0
URL:https://www.discoverhollywood.com/event/extropia/
LOCATION:King King\, 6555 Hollywood Blvd.\, Hollywood\, California
END:VEVENT
BEGIN:VEVENT
DTSTART;TZID=Asia/Kolkata:19970711T000000
DTEND;TZID=Asia/Kolkata:19970711T000000
DTSTAMP:20260422T153231
CREATED:20250703T061906Z
LAST-MODIFIED:20250703T061906Z
UID:10005592-868579200-868579200@www.discoverhollywood.com
SUMMARY:Folies King King
DESCRIPTION:DesignHTMLWords: 0   Characters: 0
URL:https://www.discoverhollywood.com/event/folies-king-king/
LOCATION:King King\, 6555 Hollywood Blvd.\, Hollywood\, California
END:VEVENT
BEGIN:VEVENT
DTSTART;TZID=Asia/Kolkata:19970114T000000
DTEND;TZID=Asia/Kolkata:19970114T000000
DTSTAMP:20260422T153231
CREATED:20250703T062545Z
LAST-MODIFIED:20250703T062545Z
UID:10005770-853200000-853200000@www.discoverhollywood.com
SUMMARY:Friday!
DESCRIPTION:%3cbr%3eDesignHTMLWords: 0   Characters: 0
URL:https://www.discoverhollywood.com/event/friday-2/
LOCATION:King King\, 6555 Hollywood Blvd.\, Hollywood\, California
END:VEVENT
BEGIN:VEVENT
DTSTART;TZID=Asia/Kolkata:19961122T000000
DTEND;TZID=Asia/Kolkata:19961122T000000
DTSTAMP:20260422T153231
CREATED:20250703T064254Z
LAST-MODIFIED:20250703T064254Z
UID:10005823-848620800-848620800@www.discoverhollywood.com
SUMMARY:Funk the House
DESCRIPTION:%3cbr%3eDesignHTMLWords: 0   Characters: 0
URL:https://www.discoverhollywood.com/event/funk-the-house/
LOCATION:King King\, 6555 Hollywood Blvd.\, Hollywood\, California
END:VEVENT
BEGIN:VEVENT
DTSTART;TZID=Asia/Kolkata:19960717T000000
DTEND;TZID=Asia/Kolkata:19960717T000000
DTSTAMP:20260422T153231
CREATED:20250703T065457Z
LAST-MODIFIED:20250703T065457Z
UID:10005951-837561600-837561600@www.discoverhollywood.com
SUMMARY:Gene Hunt
DESCRIPTION:Presented by West Coast Soul\n%3cbr%3eDesignHTMLWords: 5   Characters: 28
URL:https://www.discoverhollywood.com/event/gene-hunt/
LOCATION:King King\, 6555 Hollywood Blvd.\, Hollywood\, California
END:VEVENT
BEGIN:VEVENT
DTSTART;TZID=Asia/Kolkata:19960406T000000
DTEND;TZID=Asia/Kolkata:19960406T000000
DTSTAMP:20260422T153231
CREATED:20250703T065643Z
LAST-MODIFIED:20250703T065643Z
UID:10006053-828748800-828748800@www.discoverhollywood.com
SUMMARY:Giom and Lonely Boy
DESCRIPTION:%3cbr%3eDesignHTMLWords: 0   Characters: 0
URL:https://www.discoverhollywood.com/event/giom-and-lonely-boy/
LOCATION:King King\, 6555 Hollywood Blvd.\, Hollywood\, California
END:VEVENT
BEGIN:VEVENT
DTSTART;TZID=Asia/Kolkata:19960329T000000
DTEND;TZID=Asia/Kolkata:19960329T000000
DTSTAMP:20260422T153232
CREATED:20250703T065655Z
LAST-MODIFIED:20250703T065655Z
UID:10006061-828057600-828057600@www.discoverhollywood.com
SUMMARY:Girl Next Door
DESCRIPTION:%3cbr%3eDesignHTMLWords: 0   Characters: 0
URL:https://www.discoverhollywood.com/event/girl-next-door/
LOCATION:King King\, 6555 Hollywood Blvd.\, Hollywood\, California
END:VEVENT
BEGIN:VEVENT
DTSTART;TZID=Asia/Kolkata:19960328T000000
DTEND;TZID=Asia/Kolkata:19960328T000000
DTSTAMP:20260422T153232
CREATED:20250703T065655Z
LAST-MODIFIED:20250703T065655Z
UID:10006062-827971200-827971200@www.discoverhollywood.com
SUMMARY:Girl Next Door
DESCRIPTION:DesignHTMLWords: 0   Characters: 0
URL:https://www.discoverhollywood.com/event/girl-next-door-2/
LOCATION:King King\, 6555 Hollywood Blvd.\, Hollywood\, California
END:VEVENT
BEGIN:VEVENT
DTSTART;TZID=Asia/Kolkata:19950912T000000
DTEND;TZID=Asia/Kolkata:19950912T000000
DTSTAMP:20260422T153232
CREATED:20250703T084320Z
LAST-MODIFIED:20250703T084320Z
UID:10006260-810864000-810864000@www.discoverhollywood.com
SUMMARY:Great Dane
DESCRIPTION:%3cbr%3eDesignHTMLWords: 0   Characters: 0
URL:https://www.discoverhollywood.com/event/great-dane/
LOCATION:King King\, 6555 Hollywood Blvd.\, Hollywood\, California
END:VEVENT
BEGIN:VEVENT
DTSTART;TZID=Asia/Kolkata:19940513T000000
DTEND;TZID=Asia/Kolkata:19940513T000000
DTSTAMP:20260422T153232
CREATED:20250703T094644Z
LAST-MODIFIED:20250703T094644Z
UID:10006462-768787200-768787200@www.discoverhollywood.com
SUMMARY:Hollywood Fringe Benefit 2014
DESCRIPTION:%3cbr%3eDesignHTMLWords: 0   Characters: 0
URL:https://www.discoverhollywood.com/event/hollywood-fringe-benefit-2014/
LOCATION:King King\, 6555 Hollywood Blvd.\, Hollywood\, California
END:VEVENT
BEGIN:VEVENT
DTSTART;TZID=Asia/Kolkata:19940105T000000
DTEND;TZID=Asia/Kolkata:19940105T000000
DTSTAMP:20260422T153232
CREATED:20250703T105549Z
LAST-MODIFIED:20250703T105549Z
UID:10006590-757728000-757728000@www.discoverhollywood.com
SUMMARY:How to Survive the Apocalypse: A Burning Opera
DESCRIPTION:DesignHTMLWords: 0   Characters: 0
URL:https://www.discoverhollywood.com/event/how-to-survive-the-apocalypse-a-burning-opera/
LOCATION:King King\, 6555 Hollywood Blvd.\, Hollywood\, California
END:VEVENT
BEGIN:VEVENT
DTSTART;TZID=Asia/Kolkata:19931212T000000
DTEND;TZID=Asia/Kolkata:19931212T000000
DTSTAMP:20260422T153232
CREATED:20250703T105627Z
LAST-MODIFIED:20250703T105627Z
UID:10006614-755654400-755654400@www.discoverhollywood.com
SUMMARY:Hunky Dory
DESCRIPTION:DesignHTMLWords: 0   Characters: 0
URL:https://www.discoverhollywood.com/event/hunky-dory/
LOCATION:King King\, 6555 Hollywood Blvd.\, Hollywood\, California
END:VEVENT
BEGIN:VEVENT
DTSTART;TZID=Asia/Kolkata:19930317T000000
DTEND;TZID=Asia/Kolkata:19930317T000000
DTSTAMP:20260422T153232
CREATED:20250703T110930Z
LAST-MODIFIED:20250703T110930Z
UID:10006884-732326400-732326400@www.discoverhollywood.com
SUMMARY:Invaded by Unicorns 3.0
DESCRIPTION:%3cbr%3eDesignHTMLWords: 0   Characters: 0
URL:https://www.discoverhollywood.com/event/invaded-by-unicorns-3-0/
LOCATION:King King\, 6555 Hollywood Blvd.\, Hollywood\, California
END:VEVENT
BEGIN:VEVENT
DTSTART;TZID=Asia/Kolkata:19911117T000000
DTEND;TZID=Asia/Kolkata:19911117T000000
DTSTAMP:20260422T153232
CREATED:20250703T120453Z
LAST-MODIFIED:20250703T120453Z
UID:10007370-690336000-690336000@www.discoverhollywood.com
SUMMARY:JJ and The Spectacular
DESCRIPTION:%3cbr%3eDesignHTMLWords: 0   Characters: 0
URL:https://www.discoverhollywood.com/event/jj-and-the-spectacular/
LOCATION:King King\, 6555 Hollywood Blvd.\, Hollywood\, California
END:VEVENT
BEGIN:VEVENT
DTSTART;TZID=Asia/Kolkata:19910812T000000
DTEND;TZID=Asia/Kolkata:19910812T000000
DTSTAMP:20260422T153232
CREATED:20250703T120920Z
LAST-MODIFIED:20250703T120920Z
UID:10007467-681955200-681955200@www.discoverhollywood.com
SUMMARY:John Reilly
DESCRIPTION:%3cbr%3eDesignHTMLWords: 0   Characters: 0
URL:https://www.discoverhollywood.com/event/john-reilly/
LOCATION:King King\, 6555 Hollywood Blvd.\, Hollywood\, California
END:VEVENT
BEGIN:VEVENT
DTSTART;TZID=Asia/Kolkata:19900624T000000
DTEND;TZID=Asia/Kolkata:19900624T000000
DTSTAMP:20260422T153232
CREATED:20250709T060114Z
LAST-MODIFIED:20250709T060114Z
UID:10007881-646185600-646185600@www.discoverhollywood.com
SUMMARY:Kick In The Bass
DESCRIPTION:%3cbr%3eDesignHTMLWords: 0   Characters: 0
URL:https://www.discoverhollywood.com/event/kick-in-the-bass/
LOCATION:King King\, 6555 Hollywood Blvd.\, Hollywood\, California
END:VEVENT
BEGIN:VEVENT
DTSTART;TZID=Asia/Kolkata:19880825T000000
DTEND;TZID=Asia/Kolkata:19880825T000000
DTSTAMP:20260422T153232
CREATED:20250709T124456Z
LAST-MODIFIED:20250709T124456Z
UID:10008949-588470400-588470400@www.discoverhollywood.com
SUMMARY:Master Kev
DESCRIPTION:%3cbr%3eDesignHTMLWords: 0   Characters: 0
URL:https://www.discoverhollywood.com/event/master-kev/
LOCATION:King King\, 6555 Hollywood Blvd.\, Hollywood\, California
END:VEVENT
BEGIN:VEVENT
DTSTART;TZID=Asia/Kolkata:19880318T000000
DTEND;TZID=Asia/Kolkata:19880318T000000
DTSTAMP:20260422T153232
CREATED:20250710T095224Z
LAST-MODIFIED:20250710T095224Z
UID:10009109-574646400-574646400@www.discoverhollywood.com
SUMMARY:Mental Head Circus
DESCRIPTION:%3c%21–%5bif gte mso 9%5d%3e\n	%3cxml%3e%3c/xml%3e\n%3c%21%5bendif%5d–%3e\n%3cspan%3e\n	Welcome to%26nbsp%3b%3cspan id%3d%22yui_3_16_0_1_1425931037201_3298%22%3e%3c/span%3e\n	%3cspan%3ea sinister night of vaudeville antics%2c aerial hoopla and all the shenanigans these enchanted misfits can muster up.%26nbsp%3b This wicked little fascination is a brilliant gem of theatrics and an intoxicating formula of musical capers and emotional contemporary dance.%3c/span%3e\n	%3cspan%3e%3cspan id%3d%22yui_3_16_0_1_1425931037201_3300%22%3e%3cspan id%3d%22yui_3_16_0_1_1425931037201_3299%22%3e%3f%22 %3c/span%3e%3c/sDesignHTMLWords: 41   Characters: 268
URL:https://www.discoverhollywood.com/event/mental-head-circus/
LOCATION:King King\, 6555 Hollywood Blvd.\, Hollywood\, California
END:VEVENT
BEGIN:VEVENT
DTSTART;TZID=Asia/Kolkata:19880317T000000
DTEND;TZID=Asia/Kolkata:19880317T000000
DTSTAMP:20260422T153232
CREATED:20250710T095224Z
LAST-MODIFIED:20250710T095224Z
UID:10009110-574560000-574560000@www.discoverhollywood.com
SUMMARY:Mental Head Circus
DESCRIPTION:Terry Beeman%27s aerial fantasy circus filled with burlesque shenanigans returns to King King%27s former Hollywood home for an exclusive two-night-only engagement.DesignHTMLWords: 21   Characters: 154
URL:https://www.discoverhollywood.com/event/mental-head-circus-2/
LOCATION:King King\, 6555 Hollywood Blvd.\, Hollywood\, California
END:VEVENT
BEGIN:VEVENT
DTSTART;TZID=Asia/Kolkata:19880316T000000
DTEND;TZID=Asia/Kolkata:19880316T000000
DTSTAMP:20260422T153232
CREATED:20250710T095224Z
LAST-MODIFIED:20250710T095224Z
UID:10009111-574473600-574473600@www.discoverhollywood.com
SUMMARY:Mental Head Circus
DESCRIPTION:Terry Beeman%27s aerial fantasy circus filled with burlesque shenanigans returns to King King%27s former Hollywood home for an exclusive two-night-only engagement.DesignHTMLWords: 21   Characters: 154
URL:https://www.discoverhollywood.com/event/mental-head-circus-3/
LOCATION:King King\, 6555 Hollywood Blvd.\, Hollywood\, California
END:VEVENT
BEGIN:VEVENT
DTSTART;TZID=Asia/Kolkata:19870917T000000
DTEND;TZID=Asia/Kolkata:19870917T000000
DTSTAMP:20260422T153232
CREATED:20250710T101253Z
LAST-MODIFIED:20250710T101253Z
UID:10009292-558835200-558835200@www.discoverhollywood.com
SUMMARY:Minimal Sessions
DESCRIPTION:%3cbr%3eDesignHTMLWords: 0   Characters: 0
URL:https://www.discoverhollywood.com/event/minimal-sessions/
LOCATION:King King\, 6555 Hollywood Blvd.\, Hollywood\, California
END:VEVENT
BEGIN:VEVENT
DTSTART;TZID=Asia/Kolkata:19870329T000000
DTEND;TZID=Asia/Kolkata:19870329T000000
DTSTAMP:20260422T153232
CREATED:20250710T101642Z
LAST-MODIFIED:20250710T101642Z
UID:10009464-543974400-543974400@www.discoverhollywood.com
SUMMARY:Mortified!
DESCRIPTION:%3cp%3eHailed a %22cultural phenomenon%22 by %3cstrong%3eNewsweek%3c/strong%3e and celebrated by\n	%3cstrong%3eThis American Life%2c The Today Show%2c The Onion AV Club%2c %3c/strong%3e\n	%3cstrong%3eEntertainment Weekly %3c/strong%3eand beyond\n	%3cstrong%3e%2c %3c/strong%3e\n	%3ca target%3d%22_blank%22 href%3d%22http%3a//www.getmortified.com/about/%22%3e%3cstrong%3eMortified%3c/strong%3e%3c/a%3eis a comic excavation of the strange and extraordinary things we created as kids.Witness adults sharing their most embarrassing childhood artifacts %28journals%2c letters%2c poems%2c lyrics%2c plays%2cDesignHTMLWords: 49   Characters: 335
URL:https://www.discoverhollywood.com/event/mortified/
LOCATION:King King\, 6555 Hollywood Blvd.\, Hollywood\, California
END:VEVENT
END:VCALENDAR