BEGIN:VCALENDAR
VERSION:2.0
PRODID:-//Discover Hollywood Magazine - ECPv6.15.17//NONSGML v1.0//EN
CALSCALE:GREGORIAN
METHOD:PUBLISH
X-WR-CALNAME:Discover Hollywood Magazine
X-ORIGINAL-URL:https://www.discoverhollywood.com
X-WR-CALDESC:Events for Discover Hollywood Magazine
REFRESH-INTERVAL;VALUE=DURATION:PT1H
X-Robots-Tag:noindex
X-PUBLISHED-TTL:PT1H
BEGIN:VTIMEZONE
TZID:Asia/Kolkata
BEGIN:STANDARD
TZOFFSETFROM:+0530
TZOFFSETTO:+0530
TZNAME:IST
DTSTART:19690101T000000
END:STANDARD
END:VTIMEZONE
BEGIN:VEVENT
DTSTART;TZID=Asia/Kolkata:20200606T000000
DTEND;TZID=Asia/Kolkata:20200606T000000
DTSTAMP:20260422T203921
CREATED:20250630T095947Z
LAST-MODIFIED:20250630T095947Z
UID:10001459-1591401600-1591401600@www.discoverhollywood.com
SUMMARY:A Voice of Our Own
DESCRIPTION:DesignHTMLWords: 0   Characters: 0
URL:https://www.discoverhollywood.com/event/a-voice-of-our-own-2/
LOCATION:Knightsbridge Theatre L.A.\, 1944 Riverside Dr.\, Hollywood\, California
END:VEVENT
BEGIN:VEVENT
DTSTART;TZID=Asia/Kolkata:20160413T000000
DTEND;TZID=Asia/Kolkata:20160413T000000
DTSTAMP:20260422T203921
CREATED:20250630T105947Z
LAST-MODIFIED:20250630T105947Z
UID:10001959-1460505600-1460505600@www.discoverhollywood.com
SUMMARY:An Ideal Husband
DESCRIPTION:DesignHTMLWords: 0   Characters: 0
URL:https://www.discoverhollywood.com/event/an-ideal-husband-2/
LOCATION:Knightsbridge Theatre L.A.\, 1944 Riverside Dr.\, Hollywood\, California
END:VEVENT
BEGIN:VEVENT
DTSTART;TZID=Asia/Kolkata:20120111T000000
DTEND;TZID=Asia/Kolkata:20120111T000000
DTSTAMP:20260422T203921
CREATED:20250630T122832Z
LAST-MODIFIED:20250630T122832Z
UID:10002709-1326240000-1326240000@www.discoverhollywood.com
SUMMARY:Bergeracki
DESCRIPTION:DesignHTMLWords: 0   Characters: 0
URL:https://www.discoverhollywood.com/event/bergeracki/
LOCATION:Knightsbridge Theatre L.A.\, 1944 Riverside Dr.\, Hollywood\, California
END:VEVENT
BEGIN:VEVENT
DTSTART;TZID=Asia/Kolkata:20110408T000000
DTEND;TZID=Asia/Kolkata:20110408T000000
DTSTAMP:20260422T203921
CREATED:20250630T123220Z
LAST-MODIFIED:20250630T123221Z
UID:10002849-1302220800-1302220800@www.discoverhollywood.com
SUMMARY:Bikini Beach Bacchae
DESCRIPTION:DesignHTMLWords: 0   Characters: 0
URL:https://www.discoverhollywood.com/event/bikini-beach-bacchae/
LOCATION:Knightsbridge Theatre L.A.\, 1944 Riverside Dr.\, Hollywood\, California
END:VEVENT
BEGIN:VEVENT
DTSTART;TZID=Asia/Kolkata:20030512T000000
DTEND;TZID=Asia/Kolkata:20030512T000000
DTSTAMP:20260422T203921
CREATED:20250701T111807Z
LAST-MODIFIED:20250701T111807Z
UID:10004193-1052697600-1052697600@www.discoverhollywood.com
SUMMARY:Cyrano de Bergerac
DESCRIPTION:DesignHTMLWords: 0   Characters: 0
URL:https://www.discoverhollywood.com/event/cyrano-de-bergerac/
LOCATION:Knightsbridge Theatre L.A.\, 1944 Riverside Dr.\, Hollywood\, California
END:VEVENT
BEGIN:VEVENT
DTSTART;TZID=Asia/Kolkata:19980608T000000
DTEND;TZID=Asia/Kolkata:19980608T000000
DTSTAMP:20260422T203921
CREATED:20250702T052353Z
LAST-MODIFIED:20250702T052353Z
UID:10005264-897264000-897264000@www.discoverhollywood.com
SUMMARY:Eva Peron\, Enigma of a Destiny
DESCRIPTION:DesignHTMLWords: 0   Characters: 0
URL:https://www.discoverhollywood.com/event/eva-peron-enigma-of-a-destiny/
LOCATION:Knightsbridge Theatre L.A.\, 1944 Riverside Dr.\, Hollywood\, California
END:VEVENT
BEGIN:VEVENT
DTSTART;TZID=Asia/Kolkata:19960508T000000
DTEND;TZID=Asia/Kolkata:19960508T000000
DTSTAMP:20260422T203921
CREATED:20250703T065611Z
LAST-MODIFIED:20250703T065611Z
UID:10006021-831513600-831513600@www.discoverhollywood.com
SUMMARY:Ghost of a Chance
DESCRIPTION:DesignHTMLWords: 0   Characters: 0
URL:https://www.discoverhollywood.com/event/ghost-of-a-chance/
LOCATION:Knightsbridge Theatre L.A.\, 1944 Riverside Dr.\, Hollywood\, California
END:VEVENT
BEGIN:VEVENT
DTSTART;TZID=Asia/Kolkata:19960107T000000
DTEND;TZID=Asia/Kolkata:19960107T000000
DTSTAMP:20260422T203921
CREATED:20250703T083918Z
LAST-MODIFIED:20250703T083918Z
UID:10006143-820972800-820972800@www.discoverhollywood.com
SUMMARY:Godspell
DESCRIPTION:DesignHTMLWords: 0   Characters: 0
URL:https://www.discoverhollywood.com/event/godspell/
LOCATION:Knightsbridge Theatre L.A.\, 1944 Riverside Dr.\, Hollywood\, California
END:VEVENT
BEGIN:VEVENT
DTSTART;TZID=Asia/Kolkata:19900808T000000
DTEND;TZID=Asia/Kolkata:19900808T000000
DTSTAMP:20260422T203921
CREATED:20250709T091717Z
LAST-MODIFIED:20250709T091717Z
UID:10008496-650073600-650073600@www.discoverhollywood.com
SUMMARY:Lion in Winter
DESCRIPTION:DesignHTMLWords: 0   Characters: 0
URL:https://www.discoverhollywood.com/event/lion-in-winter/
LOCATION:Knightsbridge Theatre L.A.\, 1944 Riverside Dr.\, Hollywood\, California
END:VEVENT
BEGIN:VEVENT
DTSTART;TZID=Asia/Kolkata:19880511T000000
DTEND;TZID=Asia/Kolkata:19880511T000000
DTSTAMP:20260422T203921
CREATED:20250710T094639Z
LAST-MODIFIED:20250710T094639Z
UID:10009055-579312000-579312000@www.discoverhollywood.com
SUMMARY:Medea
DESCRIPTION:DesignHTMLWords: 0   Characters: 0
URL:https://www.discoverhollywood.com/event/medea/
LOCATION:Knightsbridge Theatre L.A.\, 1944 Riverside Dr.\, Hollywood\, California
END:VEVENT
BEGIN:VEVENT
DTSTART;TZID=Asia/Kolkata:19780616T000000
DTEND;TZID=Asia/Kolkata:19780616T000000
DTSTAMP:20260422T203921
CREATED:20250714T124643Z
LAST-MODIFIED:20250714T124643Z
UID:10012220-266803200-266803200@www.discoverhollywood.com
SUMMARY:Soda Pop
DESCRIPTION:DesignHTMLWords: 0   Characters: 0
URL:https://www.discoverhollywood.com/event/soda-pop/
LOCATION:Knightsbridge Theatre L.A.\, 1944 Riverside Dr.\, Hollywood\, California
END:VEVENT
BEGIN:VEVENT
DTSTART;TZID=Asia/Kolkata:19771005T000000
DTEND;TZID=Asia/Kolkata:19771005T000000
DTSTAMP:20260422T203921
CREATED:20250715T090714Z
LAST-MODIFIED:20250715T090714Z
UID:10012475-244857600-244857600@www.discoverhollywood.com
SUMMARY:Steele Magnolias
DESCRIPTION:DesignHTMLWords: 0   Characters: 0
URL:https://www.discoverhollywood.com/event/steele-magnolias/
LOCATION:Knightsbridge Theatre L.A.\, 1944 Riverside Dr.\, Hollywood\, California
END:VEVENT
BEGIN:VEVENT
DTSTART;TZID=Asia/Kolkata:19761207T000000
DTEND;TZID=Asia/Kolkata:19761207T000000
DTSTAMP:20260422T203921
CREATED:20250715T093611Z
LAST-MODIFIED:20250715T093611Z
UID:10012777-218764800-218764800@www.discoverhollywood.com
SUMMARY:Sweet Charity
DESCRIPTION:DesignHTMLWords: 0   Characters: 0
URL:https://www.discoverhollywood.com/event/sweet-charity/
LOCATION:Knightsbridge Theatre L.A.\, 1944 Riverside Dr.\, Hollywood\, California
END:VEVENT
BEGIN:VEVENT
DTSTART;TZID=Asia/Kolkata:19730828T000000
DTEND;TZID=Asia/Kolkata:19730828T000000
DTSTAMP:20260422T203921
CREATED:20250715T125203Z
LAST-MODIFIED:20250715T125203Z
UID:10013789-115344000-115344000@www.discoverhollywood.com
SUMMARY:The Mystery Plays
DESCRIPTION:DesignHTMLWords: 0   Characters: 0
URL:https://www.discoverhollywood.com/event/the-mystery-plays/
LOCATION:Knightsbridge Theatre L.A.\, 1944 Riverside Dr.\, Hollywood\, California
END:VEVENT
BEGIN:VEVENT
DTSTART;TZID=Asia/Kolkata:19730508T000000
DTEND;TZID=Asia/Kolkata:19730508T000000
DTSTAMP:20260422T203921
CREATED:20250716T051408Z
LAST-MODIFIED:20250716T051408Z
UID:10013901-105667200-105667200@www.discoverhollywood.com
SUMMARY:The Picture of Dorian Gray
DESCRIPTION:DesignHTMLWords: 0   Characters: 0
URL:https://www.discoverhollywood.com/event/the-picture-of-dorian-gray/
LOCATION:Knightsbridge Theatre L.A.\, 1944 Riverside Dr.\, Hollywood\, California
END:VEVENT
BEGIN:VEVENT
DTSTART;TZID=Asia/Kolkata:19730227T000000
DTEND;TZID=Asia/Kolkata:19730227T000000
DTSTAMP:20260422T203921
CREATED:20250716T052414Z
LAST-MODIFIED:20250716T052414Z
UID:10013971-99619200-99619200@www.discoverhollywood.com
SUMMARY:The Real Inspector Hound
DESCRIPTION:DesignHTMLWords: 0   Characters: 0
URL:https://www.discoverhollywood.com/event/the-real-inspector-hound/
LOCATION:Knightsbridge Theatre L.A.\, 1944 Riverside Dr.\, Hollywood\, California
END:VEVENT
BEGIN:VEVENT
DTSTART;TZID=Asia/Kolkata:20260422T203921
DTEND;TZID=Asia/Kolkata:20260422T203921
DTSTAMP:20260422T203921
CREATED:20250716T084147Z
LAST-MODIFIED:20250716T084147Z
UID:10015454-0-0@www.discoverhollywood.com
SUMMARY:Woody Allen - Death
DESCRIPTION:DesignHTMLWords: 0   Characters: 0
URL:https://www.discoverhollywood.com/event/woody-allen-death/
LOCATION:Knightsbridge Theatre L.A.\, 1944 Riverside Dr.\, Hollywood\, California
END:VEVENT
BEGIN:VEVENT
DTSTART;TZID=Asia/Kolkata:20260422T203921
DTEND;TZID=Asia/Kolkata:20260422T203921
DTSTAMP:20260422T203921
CREATED:20250716T083734Z
LAST-MODIFIED:20250716T083734Z
UID:10015380-0-0@www.discoverhollywood.com
SUMMARY:William Shakespeare: Twelfth Night
DESCRIPTION:DesignHTMLWords: 0   Characters: 0
URL:https://www.discoverhollywood.com/event/william-shakespeare-twelfth-night/
LOCATION:Knightsbridge Theatre L.A.\, 1944 Riverside Dr.\, Hollywood\, California
END:VEVENT
BEGIN:VEVENT
DTSTART;TZID=Asia/Kolkata:20260422T203921
DTEND;TZID=Asia/Kolkata:20260422T203921
DTSTAMP:20260422T203921
CREATED:20250716T080621Z
LAST-MODIFIED:20250716T080621Z
UID:10014775-0-0@www.discoverhollywood.com
SUMMARY:Twenty-Two
DESCRIPTION:DesignHTMLWords: 0   Characters: 0
URL:https://www.discoverhollywood.com/event/twenty-two/
LOCATION:Knightsbridge Theatre L.A.\, 1944 Riverside Dr.\, Hollywood\, California
END:VEVENT
END:VCALENDAR