BEGIN:VCALENDAR
VERSION:2.0
PRODID:-//Discover Hollywood Magazine - ECPv6.15.20//NONSGML v1.0//EN
CALSCALE:GREGORIAN
METHOD:PUBLISH
X-WR-CALNAME:Discover Hollywood Magazine
X-ORIGINAL-URL:https://www.discoverhollywood.com
X-WR-CALDESC:Events for Discover Hollywood Magazine
REFRESH-INTERVAL;VALUE=DURATION:PT1H
X-Robots-Tag:noindex
X-PUBLISHED-TTL:PT1H

BEGIN:VEVENT
DTSTART;TZID=Asia/Kolkata:19910927T000000
DTEND;TZID=Asia/Kolkata:19910927T000000
DTSTAMP:20260424T212153
CREATED:20250703T120648Z
LAST-MODIFIED:20250703T120648Z
UID:10007421-685929600-685929600@www.discoverhollywood.com
SUMMARY:John Brophy
DESCRIPTION:DesignHTMLWords: 0   Characters: 0
URL:https://www.discoverhollywood.com/event/john-brophy/
LOCATION:KP Projects Gallery\, 170 S. La Brea Ave.\, Hollywood\, California
END:VEVENT
BEGIN:VEVENT
DTSTART;TZID=Asia/Kolkata:19910718T000000
DTEND;TZID=Asia/Kolkata:19910718T000000
DTSTAMP:20260424T212153
CREATED:20250703T120954Z
LAST-MODIFIED:20250703T120954Z
UID:10007492-679795200-679795200@www.discoverhollywood.com
SUMMARY:Johnny Kmndz Rodriguez thru Nov 2
DESCRIPTION:DesignHTMLWords: 0   Characters: 0
URL:https://www.discoverhollywood.com/event/johnny-kmndz-rodriguez-thru-nov-2/
LOCATION:KP Projects Gallery\, 170 S. La Brea Ave.\, Hollywood\, California
END:VEVENT
BEGIN:VEVENT
DTSTART;TZID=Asia/Kolkata:19910710T000000
DTEND;TZID=Asia/Kolkata:19910710T000000
DTSTAMP:20260424T212153
CREATED:20250703T121013Z
LAST-MODIFIED:20250703T121013Z
UID:10007500-679104000-679104000@www.discoverhollywood.com
SUMMARY:Johnny Rodriguez
DESCRIPTION:%3cimg class%3d%22%22 alt%3d%22%22 src%3d%22images/d-Rather-Love-You5776.jpg%22 height%3d%22203%22 width%3d%22400%22%3e\n%3cbr%3eDesignHTMLWords: 0   Characters: 0
URL:https://www.discoverhollywood.com/event/johnny-rodriguez/
LOCATION:KP Projects Gallery\, 170 S. La Brea Ave.\, Hollywood\, California
END:VEVENT
BEGIN:VEVENT
DTSTART;TZID=Asia/Kolkata:19910512T000000
DTEND;TZID=Asia/Kolkata:19910512T000000
DTSTAMP:20260424T212153
CREATED:20250703T121536Z
LAST-MODIFIED:20250703T121536Z
UID:10007559-674006400-674006400@www.discoverhollywood.com
SUMMARY:Joseph Lee : Bits & Pieces
DESCRIPTION:%3cp align%3d%22center%22%3e%3cem%3e%3cspan style%3d%22margin%3a0px%3b color%3argb%2851%2c 51%2c 51%29%3b font-family%3aArial%2csans-serif%3b font-size%3a10pt%3b%22%3eBits %26amp%3b Pieces%3c/span%3e%3c/em%3e\n	%3cspan style%3d%22margin%3a0px%3b color%3argb%2851%2c 51%2c 51%29%3b font-family%3aArial%2csans-serif%3b font-size%3a10pt%3b%22%3e%26nbsp%3bfocuses on the parallel between external reality and%26nbsp%3binternal process.%26nbsp%3bEach painting%26nbsp%3bexpresses%26nbsp%3ba sense of physical harmony by layering of bits and pieces – in this case%2c short%2c determined brush strokes – to create a complete and powerful gestDesignHTMLWords: 41   Characters: 252
URL:https://www.discoverhollywood.com/event/joseph-lee-bits-pieces/
LOCATION:KP Projects Gallery\, 170 S. La Brea Ave.\, Hollywood\, California
END:VEVENT
BEGIN:VEVENT
DTSTART;TZID=Asia/Kolkata:19901018T000000
DTEND;TZID=Asia/Kolkata:19901018T000000
DTSTAMP:20260424T212153
CREATED:20250709T090934Z
LAST-MODIFIED:20250709T090934Z
UID:10008425-656208000-656208000@www.discoverhollywood.com
SUMMARY:Lezley Saar
DESCRIPTION:DesignHTMLWords: 0   Characters: 0
URL:https://www.discoverhollywood.com/event/lezley-saar/
LOCATION:KP Projects Gallery\, 170 S. La Brea Ave.\, Hollywood\, California
END:VEVENT
BEGIN:VEVENT
DTSTART;TZID=Asia/Kolkata:19901017T000000
DTEND;TZID=Asia/Kolkata:19901017T000000
DTSTAMP:20260424T212153
CREATED:20250709T090934Z
LAST-MODIFIED:20250709T090934Z
UID:10008426-656121600-656121600@www.discoverhollywood.com
SUMMARY:Lezley Saar
DESCRIPTION:DesignHTMLWords: 0   Characters: 0
URL:https://www.discoverhollywood.com/event/lezley-saar-2/
LOCATION:KP Projects Gallery\, 170 S. La Brea Ave.\, Hollywood\, California
END:VEVENT
BEGIN:VEVENT
DTSTART;TZID=Asia/Kolkata:19901016T000000
DTEND;TZID=Asia/Kolkata:19901016T000000
DTSTAMP:20260424T212153
CREATED:20250709T090949Z
LAST-MODIFIED:20250709T090949Z
UID:10008427-656035200-656035200@www.discoverhollywood.com
SUMMARY:Lezley Saar
DESCRIPTION:%3cbr%3eDesignHTMLWords: 0   Characters: 0
URL:https://www.discoverhollywood.com/event/lezley-saar-3/
LOCATION:KP Projects Gallery\, 170 S. La Brea Ave.\, Hollywood\, California
END:VEVENT
BEGIN:VEVENT
DTSTART;TZID=Asia/Kolkata:19900415T000000
DTEND;TZID=Asia/Kolkata:19900415T000000
DTSTAMP:20260424T212153
CREATED:20250709T094105Z
LAST-MODIFIED:20250709T094105Z
UID:10008611-640137600-640137600@www.discoverhollywood.com
SUMMARY:Lola Gil - Dreamality
DESCRIPTION:%3cbr%3eDesignHTMLWords: 0   Characters: 0
URL:https://www.discoverhollywood.com/event/lola-gil-dreamality/
LOCATION:KP Projects Gallery\, 170 S. La Brea Ave.\, Hollywood\, California
END:VEVENT
BEGIN:VEVENT
DTSTART;TZID=Asia/Kolkata:19900414T000000
DTEND;TZID=Asia/Kolkata:19900414T000000
DTSTAMP:20260424T212153
CREATED:20250709T094119Z
LAST-MODIFIED:20250709T094119Z
UID:10008612-640051200-640051200@www.discoverhollywood.com
SUMMARY:Lola Gil – Dreamality
DESCRIPTION:%3cbr%3eDesignHTMLWords: 0   Characters: 0
URL:https://www.discoverhollywood.com/event/lola-gil-dreamality-2/
LOCATION:KP Projects Gallery\, 170 S. La Brea Ave.\, Hollywood\, California
END:VEVENT
BEGIN:VEVENT
DTSTART;TZID=Asia/Kolkata:19900217T000000
DTEND;TZID=Asia/Kolkata:19900217T000000
DTSTAMP:20260424T212153
CREATED:20250709T062208Z
LAST-MODIFIED:20250709T062208Z
UID:10008008-635212800-635212800@www.discoverhollywood.com
SUMMARY:KP Projects
DESCRIPTION:%3cp%3e%3cb%3eOct 11- Nov 15th%3c/b%3e%3c/p%3e\n%3cp%3e%3cb%3eMercedes Helnwein%3c/b%3e presents%26nbsp%3b new series of oil-pastels%2c\n	%3cb%3e%3ci%3eMama Said Amen%3c/i%3e%3c/b%3e.\n%3c/p%3e\n%3cp%3e%3cb%3eKim Kimbro %3c/b%3egrapples with meaning and emotion in her new series%2c\n	%3cb%3e%3ci%3eThe Queen of Calvary%3c/i%3e%3c/b%3e.\n	%3cb%3e%3cbr%3e%3c/b%3e\n%3c/p%3e\n%3cp%3e%3cb%3eVonn Sumner%3c/b%3e%27s newest exhibition%2c\n	%3cb%3e%3ci%3eGravity and Other Lies%3c/i%3e%3c/b%3e%2c employs humor and absurdity as a rational response to an irrational world.\n%3c/p%3eDesignHTMLWords: 49   Characters: 299
URL:https://www.discoverhollywood.com/event/kp-projects/
LOCATION:KP Projects Gallery\, 170 S. La Brea Ave.\, Hollywood\, California
END:VEVENT
BEGIN:VEVENT
DTSTART;TZID=Asia/Kolkata:19880422T000000
DTEND;TZID=Asia/Kolkata:19880422T000000
DTSTAMP:20260424T212153
CREATED:20250710T094740Z
LAST-MODIFIED:20250710T094740Z
UID:10009074-577670400-577670400@www.discoverhollywood.com
SUMMARY:Mel Kadel & Mark Whalen - Kill Pixie
DESCRIPTION:DesignHTMLWords: 0   Characters: 0
URL:https://www.discoverhollywood.com/event/mel-kadel-mark-whalen-kill-pixie/
LOCATION:KP Projects Gallery\, 170 S. La Brea Ave.\, Hollywood\, California
END:VEVENT
BEGIN:VEVENT
DTSTART;TZID=Asia/Kolkata:19880421T000000
DTEND;TZID=Asia/Kolkata:19880421T000000
DTSTAMP:20260424T212153
CREATED:20250710T094740Z
LAST-MODIFIED:20250710T094740Z
UID:10009075-577584000-577584000@www.discoverhollywood.com
SUMMARY:Mel Kadel and Mark Whalen (Kill Pixie)
DESCRIPTION:DesignHTMLWords: 0   Characters: 0
URL:https://www.discoverhollywood.com/event/mel-kadel-and-mark-whalen-kill-pixie/
LOCATION:KP Projects Gallery\, 170 S. La Brea Ave.\, Hollywood\, California
END:VEVENT
BEGIN:VEVENT
DTSTART;TZID=Asia/Kolkata:19880313T000000
DTEND;TZID=Asia/Kolkata:19880313T000000
DTSTAMP:20260424T212153
CREATED:20250710T095239Z
LAST-MODIFIED:20250710T095239Z
UID:10009114-574214400-574214400@www.discoverhollywood.com
SUMMARY:Mercedes Helnwein
DESCRIPTION:DesignHTMLWords: 0   Characters: 0
URL:https://www.discoverhollywood.com/event/mercedes-helnwein/
LOCATION:KP Projects Gallery\, 170 S. La Brea Ave.\, Hollywood\, California
END:VEVENT
BEGIN:VEVENT
DTSTART;TZID=Asia/Kolkata:19880312T000000
DTEND;TZID=Asia/Kolkata:19880312T000000
DTSTAMP:20260424T212153
CREATED:20250710T095239Z
LAST-MODIFIED:20250710T095239Z
UID:10009115-574128000-574128000@www.discoverhollywood.com
SUMMARY:Mercedes Helnwein
DESCRIPTION:DesignHTMLWords: 0   Characters: 0
URL:https://www.discoverhollywood.com/event/mercedes-helnwein-2/
LOCATION:KP Projects Gallery\, 170 S. La Brea Ave.\, Hollywood\, California
END:VEVENT
BEGIN:VEVENT
DTSTART;TZID=Asia/Kolkata:19880311T000000
DTEND;TZID=Asia/Kolkata:19880311T000000
DTSTAMP:20260424T212153
CREATED:20250710T095239Z
LAST-MODIFIED:20250710T095239Z
UID:10009116-574041600-574041600@www.discoverhollywood.com
SUMMARY:Mercedes Helnwein
DESCRIPTION:%3cbr%3eDesignHTMLWords: 0   Characters: 0
URL:https://www.discoverhollywood.com/event/mercedes-helnwein-3/
LOCATION:KP Projects Gallery\, 170 S. La Brea Ave.\, Hollywood\, California
END:VEVENT
BEGIN:VEVENT
DTSTART;TZID=Asia/Kolkata:19860220T000000
DTEND;TZID=Asia/Kolkata:19860220T000000
DTSTAMP:20260424T212153
CREATED:20250710T120913Z
LAST-MODIFIED:20250710T120913Z
UID:10009866-509241600-509241600@www.discoverhollywood.com
SUMMARY:Nicola Verlato
DESCRIPTION:%3cimg class%3d%22%22 alt%3d%22%22 src%3d%22images/NicolaVerlato_Detail8423.jpg%22 height%3d%22287%22 width%3d%22420%22%3eDesignHTMLWords: 0   Characters: 0
URL:https://www.discoverhollywood.com/event/nicola-verlato/
LOCATION:KP Projects Gallery\, 170 S. La Brea Ave.\, Hollywood\, California
END:VEVENT
BEGIN:VEVENT
DTSTART;TZID=Asia/Kolkata:19860206T000000
DTEND;TZID=Asia/Kolkata:19860206T000000
DTSTAMP:20260424T212153
CREATED:20250710T121014Z
LAST-MODIFIED:20250710T121014Z
UID:10009880-508032000-508032000@www.discoverhollywood.com
SUMMARY:Nightgardens
DESCRIPTION:the latest exhibition from Jeff Soto\n%3cbr%3e\n%3cimg class%3d%22%22 alt%3d%22%22 src%3d%22images/09LADecayOvergrowth6152.jpg%22 height%3d%22313%22 width%3d%22250%22%3e\n%3cbr%3eDesignHTMLWords: 6   Characters: 36
URL:https://www.discoverhollywood.com/event/nightgardens/
LOCATION:KP Projects Gallery\, 170 S. La Brea Ave.\, Hollywood\, California
END:VEVENT
BEGIN:VEVENT
DTSTART;TZID=Asia/Kolkata:19860205T000000
DTEND;TZID=Asia/Kolkata:19860205T000000
DTSTAMP:20260424T212153
CREATED:20250710T121014Z
LAST-MODIFIED:20250710T121014Z
UID:10009881-507945600-507945600@www.discoverhollywood.com
SUMMARY:Nightgardens and Blind Box
DESCRIPTION:%3cp align%3d%22right%22%3e%3a%3a %3cstrong%3eJEFF SOTO%26nbsp%3b%3c/strong%3e\n	%3cstrong%3e//%3c/strong%3e%26nbsp%3b\n	%3ci%3eNIGHTGARDENS%3c/i%3e\n%3c/p%3e\n%3cp align%3d%22right%22%3e%3a%3a%3cstrong%3e%26nbsp%3bMASAKATSU SASHIE%26nbsp%3b%3c/strong%3e//%26nbsp%3b\n	%3ci%3eBLIND BOX%3c/i%3e\n%3c/p%3e\n%3cp align%3d%22right%22%3eRSVP ESSENTIAL TO %3ca href%3d%22mailto%3aINFO@MKGALLERY.COM%3fsubject%3dRSVP%25206%252F27%2520-%2520J.SOTO%2520%252F%2520M.%2520SASHIE%22%3eINFO@MKGALLERY.COM%3c/a%3e %26nbsp%3b%3c/p%3e\n%3cp align%3d%22right%22%3e%3a%3a %3cem%3eGuest List at the Door %3c/em%3e%3a%3a%3c/p%3e\n%3cp align%3d%22right%22%3e_____________________________________%3c/p%3eDesignHTMLWords: 18   Characters: 124
URL:https://www.discoverhollywood.com/event/nightgardens-and-blind-box/
LOCATION:KP Projects Gallery\, 170 S. La Brea Ave.\, Hollywood\, California
END:VEVENT
BEGIN:VEVENT
DTSTART;TZID=Asia/Kolkata:19790411T000000
DTEND;TZID=Asia/Kolkata:19790411T000000
DTSTAMP:20260424T212153
CREATED:20250714T120520Z
LAST-MODIFIED:20250714T120520Z
UID:10011921-292636800-292636800@www.discoverhollywood.com
SUMMARY:Shine Shimmer Glimmer & Glow
DESCRIPTION:%3ca href%3d%22https%3a//www.artweek.com/events/united-states/art-exhibition/los-angeles/kp-projects-holiday-evet-shine-shimmer-glimmer-glow%23%22%3ehttps%3a//www.artweek.com/events/united-states/art-exhibition/los-angeles/kp-projects-holiday-evet-shine-shimmer-glimmer-glow%23%3c/a%3eDesignHTMLWords: 1   Characters: 110
URL:https://www.discoverhollywood.com/event/shine-shimmer-glimmer-glow/
LOCATION:KP Projects Gallery\, 170 S. La Brea Ave.\, Hollywood\, California
END:VEVENT
BEGIN:VEVENT
DTSTART;TZID=Asia/Kolkata:19770313T000000
DTEND;TZID=Asia/Kolkata:19770313T000000
DTSTAMP:20260424T212153
CREATED:20250715T092801Z
LAST-MODIFIED:20250715T092801Z
UID:10012681-227059200-227059200@www.discoverhollywood.com
SUMMARY:Sumner & Carpenter
DESCRIPTION:%3cp align%3d%22center%22%3e%3c/p%3e\n%3cdiv align%3d%22right%22%3e\n	Solo exhibitions for%3aVonn Sumner %22To Be Seen%22 %26amp%3b Todd Carpenter %22Sky Without Angels or Stars%22\n	%3cbr%3e\n	%3cdiv align%3d%22right%22%3e\n		%3cimg class%3d%22%22 alt%3d%22%22 src%3d%22images/Vonn-Sumner2532.jpg%22 height%3d%22200%22 width%3d%22183%22%3e\n		%3cimg class%3d%22%22 alt%3d%22%22 src%3d%22images/Carpenter3572.jpg%22 height%3d%22200%22 width%3d%22301%22%3e\n		%3cbr%3e\n	%3c/div%3e\n%3c/div%3e\n%3cbr%3e\n%3cp%3e%3ca href%3d%22http%3a//arenascreen.com/%22 target%3d%22_blank%22%3e%3c/a%3e%3c/p%3eDesignHTMLWords: 14   Characters: 86
URL:https://www.discoverhollywood.com/event/sumner-carpenter/
LOCATION:KP Projects Gallery\, 170 S. La Brea Ave.\, Hollywood\, California
END:VEVENT
BEGIN:VEVENT
DTSTART;TZID=Asia/Kolkata:19770312T000000
DTEND;TZID=Asia/Kolkata:19770312T000000
DTSTAMP:20260424T212153
CREATED:20250715T092801Z
LAST-MODIFIED:20250715T092801Z
UID:10012682-226972800-226972800@www.discoverhollywood.com
SUMMARY:Sumner & Carpenter
DESCRIPTION:Solo exhibitions for%3aVonn Sumner %22To Be Seen%22 %26amp%3b Todd Carpenter %22Sky Without Angels or Stars%22\n%3cbr%3e\n%3cimg class%3d%22%22 alt%3d%22%22 src%3d%22images/Vonn-Sumner2532.jpg%22 height%3d%22200%22 width%3d%22183%22%3e\n%3cimg class%3d%22%22 alt%3d%22%22 src%3d%22images/Carpenter3572.jpg%22 height%3d%22200%22 width%3d%22301%22%3eDesignHTMLWords: 14   Characters: 86
URL:https://www.discoverhollywood.com/event/sumner-carpenter-2/
LOCATION:KP Projects Gallery\, 170 S. La Brea Ave.\, Hollywood\, California
END:VEVENT
BEGIN:VEVENT
DTSTART;TZID=Asia/Kolkata:19760204T000000
DTEND;TZID=Asia/Kolkata:19760204T000000
DTSTAMP:20260424T212153
CREATED:20250715T111027Z
LAST-MODIFIED:20250715T111027Z
UID:10013084-192240000-192240000@www.discoverhollywood.com
SUMMARY:The Art of Behind the Scenes
DESCRIPTION:%3cbr%3eDesignHTMLWords: 0   Characters: 0
URL:https://www.discoverhollywood.com/event/the-art-of-behind-the-scenes/
LOCATION:KP Projects Gallery\, 170 S. La Brea Ave.\, Hollywood\, California
END:VEVENT
BEGIN:VEVENT
DTSTART;TZID=Asia/Kolkata:19760203T000000
DTEND;TZID=Asia/Kolkata:19760203T000000
DTSTAMP:20260424T212153
CREATED:20250715T111027Z
LAST-MODIFIED:20250715T111027Z
UID:10013085-192153600-192153600@www.discoverhollywood.com
SUMMARY:The Art of Behind the Scenes Finch & Partners
DESCRIPTION:%3cbr%3eDesignHTMLWords: 0   Characters: 0
URL:https://www.discoverhollywood.com/event/the-art-of-behind-the-scenes-finch-partners/
LOCATION:KP Projects Gallery\, 170 S. La Brea Ave.\, Hollywood\, California
END:VEVENT
BEGIN:VEVENT
DTSTART;TZID=Asia/Kolkata:19710801T000000
DTEND;TZID=Asia/Kolkata:19710801T000000
DTSTAMP:20260424T212153
CREATED:20250716T065603Z
LAST-MODIFIED:20250716T065603Z
UID:10014527-49852800-49852800@www.discoverhollywood.com
SUMMARY:Todd Carpenter
DESCRIPTION:DesignHTMLWords: 0   Characters: 0
URL:https://www.discoverhollywood.com/event/todd-carpenter/
LOCATION:KP Projects Gallery\, 170 S. La Brea Ave.\, Hollywood\, California
END:VEVENT
BEGIN:VEVENT
DTSTART;TZID=Asia/Kolkata:19710731T000000
DTEND;TZID=Asia/Kolkata:19710731T000000
DTSTAMP:20260424T212153
CREATED:20250716T065603Z
LAST-MODIFIED:20250716T065603Z
UID:10014528-49766400-49766400@www.discoverhollywood.com
SUMMARY:Todd Carpenter: Carbon
DESCRIPTION:Carpenter%27s landscapes capture light%2c and explore the ways in which the depiction of light alters our perception of the natural and urban world. Artists have long used illumination phenomena to impart realism onto rendered scenes%2c enabling us to see a subject as existing in more than just the flat%2c two dimensions of the picture plain.DesignHTMLWords: 55   Characters: 330
URL:https://www.discoverhollywood.com/event/todd-carpenter-carbon/
LOCATION:KP Projects Gallery\, 170 S. La Brea Ave.\, Hollywood\, California
END:VEVENT
BEGIN:VEVENT
DTSTART;TZID=Asia/Kolkata:19710730T000000
DTEND;TZID=Asia/Kolkata:19710730T000000
DTSTAMP:20260424T212153
CREATED:20250716T065652Z
LAST-MODIFIED:20250716T065652Z
UID:10014529-49680000-49680000@www.discoverhollywood.com
SUMMARY:Todd Carpenter: Carbon
DESCRIPTION:Carpenter%27s landscapes capture light%2c and explore the ways in which the depiction of light alters our perception of the natural and urban world. Artists have long used illumination phenomena to impart realism onto rendered scenes%2c enabling us to see a subject as existing in more than just the flat%2c two dimensions of the picture plain.DesignHTMLWords: 55   Characters: 330
URL:https://www.discoverhollywood.com/event/todd-carpenter-carbon-2/
LOCATION:KP Projects Gallery\, 170 S. La Brea Ave.\, Hollywood\, California
END:VEVENT
BEGIN:VEVENT
DTSTART;TZID=Asia/Kolkata:19710729T000000
DTEND;TZID=Asia/Kolkata:19710729T000000
DTSTAMP:20260424T212153
CREATED:20250716T065652Z
LAST-MODIFIED:20250716T065652Z
UID:10014530-49593600-49593600@www.discoverhollywood.com
SUMMARY:Todd Carpenter: In the Spaces Between
DESCRIPTION:DesignHTMLWords: 0   Characters: 0
URL:https://www.discoverhollywood.com/event/todd-carpenter-in-the-spaces-between/
LOCATION:KP Projects Gallery\, 170 S. La Brea Ave.\, Hollywood\, California
END:VEVENT
BEGIN:VEVENT
DTSTART;TZID=Asia/Kolkata:19710728T000000
DTEND;TZID=Asia/Kolkata:19710728T000000
DTSTAMP:20260424T212153
CREATED:20250716T065652Z
LAST-MODIFIED:20250716T065652Z
UID:10014531-49507200-49507200@www.discoverhollywood.com
SUMMARY:Todd Carpenter: Traces
DESCRIPTION:%3ca href%3d%22https%3a//kpprojects.net/%22 target%3d%22_blank%22%3ehttps%3a//kpprojects.net/%3c/a%3eDesignHTMLWords: 1   Characters: 21
URL:https://www.discoverhollywood.com/event/todd-carpenter-traces/
LOCATION:KP Projects Gallery\, 170 S. La Brea Ave.\, Hollywood\, California
END:VEVENT
BEGIN:VEVENT
DTSTART;TZID=Asia/Kolkata:19710723T000000
DTEND;TZID=Asia/Kolkata:19710723T000000
DTSTAMP:20260424T212153
CREATED:20250716T065732Z
LAST-MODIFIED:20250716T065732Z
UID:10014536-49075200-49075200@www.discoverhollywood.com
SUMMARY:Todd Schorr: Solo Exhibition
DESCRIPTION:DesignHTMLWords: 0   Characters: 0
URL:https://www.discoverhollywood.com/event/todd-schorr-solo-exhibition/
LOCATION:KP Projects Gallery\, 170 S. La Brea Ave.\, Hollywood\, California
END:VEVENT
BEGIN:VEVENT
DTSTART;TZID=Asia/Kolkata:19710307T000000
DTEND;TZID=Asia/Kolkata:19710307T000000
DTSTAMP:20260424T212153
CREATED:20250716T070708Z
LAST-MODIFIED:20250716T070708Z
UID:10014674-37152000-37152000@www.discoverhollywood.com
SUMMARY:Travis Louie - Curious Organisms
DESCRIPTION:DesignHTMLWords: 0   Characters: 0
URL:https://www.discoverhollywood.com/event/travis-louie-curious-organisms/
LOCATION:KP Projects Gallery\, 170 S. La Brea Ave.\, Hollywood\, California
END:VEVENT
END:VCALENDAR