BEGIN:VCALENDAR
VERSION:2.0
PRODID:-//Discover Hollywood Magazine - ECPv6.15.20//NONSGML v1.0//EN
CALSCALE:GREGORIAN
METHOD:PUBLISH
X-WR-CALNAME:Discover Hollywood Magazine
X-ORIGINAL-URL:https://www.discoverhollywood.com
X-WR-CALDESC:Events for Discover Hollywood Magazine
REFRESH-INTERVAL;VALUE=DURATION:PT1H
X-Robots-Tag:noindex
X-PUBLISHED-TTL:PT1H
BEGIN:VTIMEZONE
TZID:Asia/Kolkata
BEGIN:STANDARD
TZOFFSETFROM:+0530
TZOFFSETTO:+0530
TZNAME:IST
DTSTART:19690101T000000
END:STANDARD
END:VTIMEZONE
BEGIN:VEVENT
DTSTART;TZID=Asia/Kolkata:20201227T000000
DTEND;TZID=Asia/Kolkata:20201227T000000
DTSTAMP:20260424T104754
CREATED:20250630T095157Z
LAST-MODIFIED:20250630T095157Z
UID:10001391-1609027200-1609027200@www.discoverhollywood.com
SUMMARY:A Night of Ecstasy
DESCRIPTION:%3cem%3eA Night of Ecstasy%3c/em%3e%26nbsp%3bfeatures two solo sets by experimental vocalist%26nbsp%3b\n%3cstrong%3eCarmina Escobar%3c/strong%3e%26nbsp%3b%28Mexico City%2c Mexico%29 and noise artist Banetoriko %28Nara%2c Japan%29. Both artists focus primarily on sound%2c voice%2c their bodies and the interrelations to physical%2c social and memory spaces.DesignHTMLWords: 40   Characters: 258
URL:https://www.discoverhollywood.com/event/a-night-of-ecstasy-2/
LOCATION:LACE (Los Angeles Contemporary Exhibitions)\, 6522 Hollywood Blvd.\, Hollywood\, California\, 90028.0
END:VEVENT
BEGIN:VEVENT
DTSTART;TZID=Asia/Kolkata:20170423T000000
DTEND;TZID=Asia/Kolkata:20170423T000000
DTSTAMP:20260424T104754
CREATED:20250630T105312Z
LAST-MODIFIED:20250630T105312Z
UID:10001834-1492905600-1492905600@www.discoverhollywood.com
SUMMARY:American Realism
DESCRIPTION:A durational performance for eight people exploring the tedium of the average workday%2c it physically takes place in the galleries at LACE and is simulcast nearby into the fashion and art store Space 15Twenty.DesignHTMLWords: 34   Characters: 206
URL:https://www.discoverhollywood.com/event/american-realism-2/
LOCATION:LACE (Los Angeles Contemporary Exhibitions)\, 6522 Hollywood Blvd.\, Hollywood\, California\, 90028.0
END:VEVENT
BEGIN:VEVENT
DTSTART;TZID=Asia/Kolkata:20131211T000000
DTEND;TZID=Asia/Kolkata:20131211T000000
DTSTAMP:20260424T104754
CREATED:20250630T120232Z
LAST-MODIFIED:20250630T120232Z
UID:10002359-1386720000-1386720000@www.discoverhollywood.com
SUMMARY:Awareness and Action on the Subject of Immigrant Rights
DESCRIPTION:An overview of immigration law in the U.S. and how we can strengthen the rights of immigrant populations here in California. With featured speakers%3a Kathleen Kim and Cynthia Gala.DesignHTMLWords: 29   Characters: 174
URL:https://www.discoverhollywood.com/event/awareness-and-action-on-the-subject-of-immigrant-rights/
LOCATION:LACE (Los Angeles Contemporary Exhibitions)\, 6522 Hollywood Blvd.\, Hollywood\, California\, 90028.0
END:VEVENT
BEGIN:VEVENT
DTSTART;TZID=Asia/Kolkata:20120822T000000
DTEND;TZID=Asia/Kolkata:20120822T000000
DTSTAMP:20260424T104754
CREATED:20250630T120640Z
LAST-MODIFIED:20250630T120640Z
UID:10002597-1345593600-1345593600@www.discoverhollywood.com
SUMMARY:Beatriz Cortez: A Dialogue of Nomads
DESCRIPTION:%3ca href%3d%22https%3a//welcometolace.org/event/a-rush-of-stories-artist-talk/%22%3ehttps%3a//welcometolace.org/event/a-rush-of-stories-artist-talk/%3c/a%3eDesignHTMLWords: 1   Characters: 55
URL:https://www.discoverhollywood.com/event/beatriz-cortez-a-dialogue-of-nomads/
LOCATION:LACE (Los Angeles Contemporary Exhibitions)\, 6522 Hollywood Blvd.\, Hollywood\, California\, 90028.0
END:VEVENT
BEGIN:VEVENT
DTSTART;TZID=Asia/Kolkata:20120723T000000
DTEND;TZID=Asia/Kolkata:20120723T000000
DTSTAMP:20260424T104754
CREATED:20250630T122224Z
LAST-MODIFIED:20250630T122224Z
UID:10002612-1343001600-1343001600@www.discoverhollywood.com
SUMMARY:BECK + COL AT ALAC
DESCRIPTION:%3ca href%3d%22https%3a//welcometolace.org/event/lace-presents-at-alac/%22%3ehttps%3a//welcometolace.org/event/lace-presents-at-alac/%3c/a%3eDesignHTMLWords: 1   Characters: 49
URL:https://www.discoverhollywood.com/event/beck-col-at-alac/
LOCATION:LACE (Los Angeles Contemporary Exhibitions)\, 6522 Hollywood Blvd.\, Hollywood\, California\, 90028.0
END:VEVENT
BEGIN:VEVENT
DTSTART;TZID=Asia/Kolkata:20110921T000000
DTEND;TZID=Asia/Kolkata:20110921T000000
DTSTAMP:20260424T104754
CREATED:20250630T123001Z
LAST-MODIFIED:20250630T123001Z
UID:10002765-1316563200-1316563200@www.discoverhollywood.com
SUMMARY:Beyond Environment
DESCRIPTION:%3cbr%3eDesignHTMLWords: 0   Characters: 0
URL:https://www.discoverhollywood.com/event/beyond-environment/
LOCATION:LACE (Los Angeles Contemporary Exhibitions)\, 6522 Hollywood Blvd.\, Hollywood\, California\, 90028.0
END:VEVENT
BEGIN:VEVENT
DTSTART;TZID=Asia/Kolkata:20080409T000000
DTEND;TZID=Asia/Kolkata:20080409T000000
DTSTAMP:20260424T104754
CREATED:20250701T063402Z
LAST-MODIFIED:20250701T063403Z
UID:10003391-1207699200-1207699200@www.discoverhollywood.com
SUMMARY:C3LA Presents The Fall of the House of Usher
DESCRIPTION:A live-scoring of the 1928 silent film The Fall of the House of Usher%2c directed by Jean Epstein. Featuring a composite film score composed by 13 C3LA composers using only a cappella voices%2c this is a one-of-a-kind event%2c not to be missed%21%26nbsp%3b %3cdiv%3e\n	%3cbr%3e\n%3c/div%3e\n%3cdiv%3e\n	%3ca href%3d%22https%3a//www.eventbrite.com/e/c3la-presents-the-fall-of-the-house-of-usher-tickets-50288126139%3futm_source%3dLACE%2bGeneral%26amp%3butm_campaign%3daca5cc9373-EMAIL_CAMPAIGN_2017_01_05_COPY_01%26amp%3butm_medium%3demail%26amp%3butm_term%3d0_cb2410646d-aDesignHTMLWords: 42   Characters: 229
URL:https://www.discoverhollywood.com/event/c3la-presents-the-fall-of-the-house-of-usher/
LOCATION:LACE (Los Angeles Contemporary Exhibitions)\, 6522 Hollywood Blvd.\, Hollywood\, California\, 90028.0
END:VEVENT
BEGIN:VEVENT
DTSTART;TZID=Asia/Kolkata:20001030T000000
DTEND;TZID=Asia/Kolkata:20001030T000000
DTSTAMP:20260424T104754
CREATED:20250701T122710Z
LAST-MODIFIED:20250701T122710Z
UID:10004645-972864000-972864000@www.discoverhollywood.com
SUMMARY:Dis... Miss Opening Reception
DESCRIPTION:%3ci%3eDIS…MISS%3c/i%3e is a public visual art experience%2c with digital media and performance art components.DesignHTMLWords: 14   Characters: 92
URL:https://www.discoverhollywood.com/event/dis-miss-opening-reception/
LOCATION:LACE (Los Angeles Contemporary Exhibitions)\, 6522 Hollywood Blvd.\, Hollywood\, California\, 90028.0
END:VEVENT
BEGIN:VEVENT
DTSTART;TZID=Asia/Kolkata:20000823T000000
DTEND;TZID=Asia/Kolkata:20000823T000000
DTSTAMP:20260424T104754
CREATED:20250701T124016Z
LAST-MODIFIED:20250701T124016Z
UID:10004679-966988800-966988800@www.discoverhollywood.com
SUMMARY:Diva Station Screening
DESCRIPTION:%3cspan style%3d%22margin%3a0px%3b color%3ablack%3b font-family%3aHelvetica%2csans-serif%3b font-size%3a8.5pt%3b%22%3e%3cb%3eNataša Prosenc Stearns%3c/b%3e%3c/span%3e\n%3cspan style%3d%22margin%3a0px%3b color%3ablack%3b font-family%3aHelvetica%2csans-serif%3b font-size%3a8.5pt%3b%22%3e%26nbsp%3bis a Slovenian born video artist and filmmaker. She moved to Los Angeles on a Fulbright Grant to pursue her MFA at CalArts. She is also a recipient of the Soros and Durffee Grants.%3c/span%3eDesignHTMLWords: 37   Characters: 201
URL:https://www.discoverhollywood.com/event/diva-station-screening/
LOCATION:LACE (Los Angeles Contemporary Exhibitions)\, 6522 Hollywood Blvd.\, Hollywood\, California\, 90028.0
END:VEVENT
BEGIN:VEVENT
DTSTART;TZID=Asia/Kolkata:19990926T000000
DTEND;TZID=Asia/Kolkata:19990926T000000
DTSTAMP:20260424T104754
CREATED:20250701T125921Z
LAST-MODIFIED:20250701T125921Z
UID:10004845-938304000-938304000@www.discoverhollywood.com
SUMMARY:Dreamscape
DESCRIPTION:%3cem%3e%3cstrong%3eDreamscape%3c/strong%3e%3c/em%3e depicts the death and inner life of a young woman%2c %22Myeisha Mills%2c%22 who dreams through the impact of the twelve bullets that killed her. A meditation and reimagining of the night of December 28%2c 1998%2c when nineteen-year-old Tyisha Miller was shot and killed by four Riverside Police Department officers while she laid unconscious in a car%3b the play takes a powerfully clear-eyed look at the relationships between race%2c the body%2c and violence.DesignHTMLWords: 73   Characters: 439
URL:https://www.discoverhollywood.com/event/dreamscape/
LOCATION:LACE (Los Angeles Contemporary Exhibitions)\, 6522 Hollywood Blvd.\, Hollywood\, California\, 90028.0
END:VEVENT
BEGIN:VEVENT
DTSTART;TZID=Asia/Kolkata:19981227T000000
DTEND;TZID=Asia/Kolkata:19981227T000000
DTSTAMP:20260424T104754
CREATED:20250701T135243Z
LAST-MODIFIED:20250702T044726Z
UID:10005062-914716800-914716800@www.discoverhollywood.com
SUMMARY:El Teatro Campesino
DESCRIPTION:%3cspan%3eEl Teatro Campesino%2c%3c/span%3e\n%3cspan%3e%26nbsp%3bwas founded in 1965 in Delano%2c California on the picket lines of the Delano Grape Strike%2c organized by Cesar Chavez’s United Farmworkers Union. The company began touring their work to farms throughout Central California%2c where they performed their own critical%26nbsp%3b%3c/span%3e\n%3cem%3eactos%3c/em%3e\n%3cspan%3e%26nbsp%3b%28one-act plays%29. Each functioned as a strategy to educate and inform Chicano and Mexicans farmworkers that had been exploited by their own political and social ciDesignHTMLWords: 70   Characters: 444
URL:https://www.discoverhollywood.com/event/el-teatro-campesino/
LOCATION:LACE (Los Angeles Contemporary Exhibitions)\, 6522 Hollywood Blvd.\, Hollywood\, California\, 90028.0
END:VEVENT
BEGIN:VEVENT
DTSTART;TZID=Asia/Kolkata:19981004T000000
DTEND;TZID=Asia/Kolkata:19981004T000000
DTSTAMP:20260424T104754
CREATED:20250702T050310Z
LAST-MODIFIED:20250702T050310Z
UID:10005146-907459200-907459200@www.discoverhollywood.com
SUMMARY:Emerging Into What?
DESCRIPTION:%3cbr%3eDesignHTMLWords: 0   Characters: 0
URL:https://www.discoverhollywood.com/event/emerging-into-what/
LOCATION:LACE (Los Angeles Contemporary Exhibitions)\, 6522 Hollywood Blvd.\, Hollywood\, California\, 90028.0
END:VEVENT
BEGIN:VEVENT
DTSTART;TZID=Asia/Kolkata:19980914T000000
DTEND;TZID=Asia/Kolkata:19980914T000000
DTSTAMP:20260424T104754
CREATED:20250702T050410Z
LAST-MODIFIED:20250702T050410Z
UID:10005166-905731200-905731200@www.discoverhollywood.com
SUMMARY:Emory Douglas: Bold Visual Language
DESCRIPTION:This exhibition features historical Black Panther Party Newspaper’s from Southern California Library%2c posters of re-mixed images by Emory Douglas%2c and works by Sadie Barnette%2c Juan Capistrán%2c Patrick Martinez%2c %26amp%3b Caleb Duarte%2c a collaboration with women of the Zapatista community in Chiapas%2c México and DouglasDesignHTMLWords: 43   Characters: 301
URL:https://www.discoverhollywood.com/event/emory-douglas-bold-visual-language/
LOCATION:LACE (Los Angeles Contemporary Exhibitions)\, 6522 Hollywood Blvd.\, Hollywood\, California\, 90028.0
END:VEVENT
BEGIN:VEVENT
DTSTART;TZID=Asia/Kolkata:19950627T000000
DTEND;TZID=Asia/Kolkata:19950627T000000
DTSTAMP:20260424T104754
CREATED:20250703T084518Z
LAST-MODIFIED:20250703T084518Z
UID:10006337-804211200-804211200@www.discoverhollywood.com
SUMMARY:Group Dynamics and Improper Light
DESCRIPTION:DesignHTMLWords: 0   Characters: 0
URL:https://www.discoverhollywood.com/event/group-dynamics-and-improper-light/
LOCATION:LACE (Los Angeles Contemporary Exhibitions)\, 6522 Hollywood Blvd.\, Hollywood\, California\, 90028.0
END:VEVENT
BEGIN:VEVENT
DTSTART;TZID=Asia/Kolkata:19940323T000000
DTEND;TZID=Asia/Kolkata:19940323T000000
DTSTAMP:20260424T104754
CREATED:20250703T100008Z
LAST-MODIFIED:20250703T100008Z
UID:10006513-764380800-764380800@www.discoverhollywood.com
SUMMARY:Home Away From
DESCRIPTION:DesignHTMLWords: 0   Characters: 0
URL:https://www.discoverhollywood.com/event/home-away-from/
LOCATION:LACE (Los Angeles Contemporary Exhibitions)\, 6522 Hollywood Blvd.\, Hollywood\, California\, 90028.0
END:VEVENT
BEGIN:VEVENT
DTSTART;TZID=Asia/Kolkata:19931112T000000
DTEND;TZID=Asia/Kolkata:19931112T000000
DTSTAMP:20260424T104754
CREATED:20250703T105715Z
LAST-MODIFIED:20250703T105715Z
UID:10006644-753062400-753062400@www.discoverhollywood.com
SUMMARY:I Can Call This Progress to Halt
DESCRIPTION:%3cb%3e%3ci%3eI can call this progress to halt %3c/i%3e%3c/b%3eattempts to provide a space in which timely topics can sidle in as wanted companions through the lens of the visual. The project does not situate itself within a single locale%2c but rather considers a multiplicity of sites and temporalities through the layering of physical and imagined spaces.\n%3cbr%3e\n%3cbr%3e\n%3cbr%3e\n%3cbr%3e\n%3cbr%3e\n%3cbr%3eDesignHTMLWords: 55   Characters: 323
URL:https://www.discoverhollywood.com/event/i-can-call-this-progress-to-halt/
LOCATION:LACE (Los Angeles Contemporary Exhibitions)\, 6522 Hollywood Blvd.\, Hollywood\, California\, 90028.0
END:VEVENT
BEGIN:VEVENT
DTSTART;TZID=Asia/Kolkata:19930515T000000
DTEND;TZID=Asia/Kolkata:19930515T000000
DTSTAMP:20260424T104754
CREATED:20250703T110215Z
LAST-MODIFIED:20250703T110215Z
UID:10006825-737424000-737424000@www.discoverhollywood.com
SUMMARY:Indigenous Resistane: Maya Intellectuals and Cultural Survival
DESCRIPTION:A celebration of Maya intellectual and cultural production as a form of resistance and cultural survival%2c and indigenous solidarity networks throughout the Americas.DesignHTMLWords: 23   Characters: 163
URL:https://www.discoverhollywood.com/event/indigenous-resistane-maya-intellectuals-and-cultural-survival/
LOCATION:LACE (Los Angeles Contemporary Exhibitions)\, 6522 Hollywood Blvd.\, Hollywood\, California\, 90028.0
END:VEVENT
BEGIN:VEVENT
DTSTART;TZID=Asia/Kolkata:19930223T000000
DTEND;TZID=Asia/Kolkata:19930223T000000
DTSTAMP:20260424T104754
CREATED:20250703T111058Z
LAST-MODIFIED:20250703T111058Z
UID:10006906-730425600-730425600@www.discoverhollywood.com
SUMMARY:Irrational Exhibits 10th Anniversary: Mapping the Divide
DESCRIPTION:%3cspan%3eArtists%3a%3c/span%3e\n%3cbr style%3d%22box-sizing%3aborder-box%3b color%3argb%2851%2c 51%2c 51%29%3b font-family%3aLato%2c sans-serif%3b font-size%3a14px%3b background-color%3argb%28255%2c 255%2c 255%29%3b%22%3e\n%3cspan%3eZenia Baltagi%2c Michael Bizon%2c Claudia Bucher%2c Jarred Cairns%2c Juan Capistran%2c C. Ree %26amp%3b Reanne Estrada%2c Nathalia Fagundes%2c Janice Gomez%2c Adele Han Li%2c Stevenmichaelarts%2c Curt LeMieux%2c Thinh Nguyen%2c Cindy Rehm%2c Lara Salmon%2c Eduardo Sanchez%2c Alexander Smith%2c Freddy Villalobos%2c Sichong Xie%2c and HK Zamani%3c/span%3eDesignHTMLWords: 42   Characters: 288
URL:https://www.discoverhollywood.com/event/irrational-exhibits-10th-anniversary-mapping-the-divide/
LOCATION:LACE (Los Angeles Contemporary Exhibitions)\, 6522 Hollywood Blvd.\, Hollywood\, California\, 90028.0
END:VEVENT
BEGIN:VEVENT
DTSTART;TZID=Asia/Kolkata:19930222T000000
DTEND;TZID=Asia/Kolkata:19930222T000000
DTSTAMP:20260424T104754
CREATED:20250703T111059Z
LAST-MODIFIED:20250703T111059Z
UID:10006907-730339200-730339200@www.discoverhollywood.com
SUMMARY:Irrational Exhibits 9: Reports From the Field
DESCRIPTION:Sixteen new works will be presented in this %3cstrong%3eone night only%26nbsp%3b%3c/strong%3eperformance exhibition centering on the artist%27s %22constructs%22 of our rapidly changing social landscape and reflecting their %22reports from the field%22 in a new millennium reality. This is a\n%3cstrong%3ereal time event%3c/strong%3e.\n%3cbr%3e\n%3cbr%3eDesignHTMLWords: 42   Characters: 256
URL:https://www.discoverhollywood.com/event/irrational-exhibits-9-reports-from-the-field/
LOCATION:LACE (Los Angeles Contemporary Exhibitions)\, 6522 Hollywood Blvd.\, Hollywood\, California\, 90028.0
END:VEVENT
BEGIN:VEVENT
DTSTART;TZID=Asia/Kolkata:19901224T000000
DTEND;TZID=Asia/Kolkata:19901224T000000
DTSTAMP:20260424T104754
CREATED:20250703T122201Z
LAST-MODIFIED:20250703T122201Z
UID:10007698-661996800-661996800@www.discoverhollywood.com
SUMMARY:K-Con
DESCRIPTION:%3cp class%3d%22MsoNormal%22%3e%3cem%3e%3cspan%3eK-CON at%26nbsp%3bLACE%3c/span%3e%3c/em%3e\n	%3cspan%3eis a one-day series of events that invites fans of K-Pop and contemporary art alike to gather and consider the role of popular culture and media in creative%2c political%2c and party contexts.%26nbsp%3b%3c/span%3e\n%3c/p%3eDesignHTMLWords: 35   Characters: 196
URL:https://www.discoverhollywood.com/event/k-con/
LOCATION:LACE (Los Angeles Contemporary Exhibitions)\, 6522 Hollywood Blvd.\, Hollywood\, California\, 90028.0
END:VEVENT
BEGIN:VEVENT
DTSTART;TZID=Asia/Kolkata:19861204T000000
DTEND;TZID=Asia/Kolkata:19861204T000000
DTSTAMP:20260424T104754
CREATED:20250710T101930Z
LAST-MODIFIED:20250710T101930Z
UID:10009579-534038400-534038400@www.discoverhollywood.com
SUMMARY:Music Research Strategies: Warrior Ecologies
DESCRIPTION:An emergent%2c performing-political education platform informed by Creative Musicians Kade Twist%2c Bill Roper and Marshall Trammell investigating intercultural warrior ethos through collective%2c sonic formations. Using embodied%2c Improvised Music performance%2c this Warrior Ecologies deploys intercultural technologies in sense-making in solidarity with local%2c grassroots organizing strategies.DesignHTMLWords: 44   Characters: 378
URL:https://www.discoverhollywood.com/event/music-research-strategies-warrior-ecologies/
LOCATION:LACE (Los Angeles Contemporary Exhibitions)\, 6522 Hollywood Blvd.\, Hollywood\, California\, 90028.0
END:VEVENT
BEGIN:VEVENT
DTSTART;TZID=Asia/Kolkata:19860908T000000
DTEND;TZID=Asia/Kolkata:19860908T000000
DTSTAMP:20260424T104754
CREATED:20250710T115623Z
LAST-MODIFIED:20250710T115623Z
UID:10009666-526521600-526521600@www.discoverhollywood.com
SUMMARY:Natalie Bookchin: Now He's Out in Public and Everyone Can See
DESCRIPTION:DesignHTMLWords: 0   Characters: 0
URL:https://www.discoverhollywood.com/event/natalie-bookchin-now-hes-out-in-public-and-everyone-can-see/
LOCATION:LACE (Los Angeles Contemporary Exhibitions)\, 6522 Hollywood Blvd.\, Hollywood\, California\, 90028.0
END:VEVENT
BEGIN:VEVENT
DTSTART;TZID=Asia/Kolkata:19821225T000000
DTEND;TZID=Asia/Kolkata:19821225T000000
DTSTAMP:20260424T104754
CREATED:20250714T093314Z
LAST-MODIFIED:20250714T093314Z
UID:10010589-409622400-409622400@www.discoverhollywood.com
SUMMARY:Promise Zone Arts Year 2 Launch
DESCRIPTION:A two-year%2c multi-neighborhood cultural asset mapping and activation initiative to identify and further the social and economic impact of artists%2c cultural practitioners%2c tradition bearers%2c and sites.%26nbsp%3b%3cdiv%3e\n	%3cbr%3e\n%3c/div%3e\n%3cdiv%3e\n	%3ca href%3d%22https%3a//www.eventbrite.com/e/promise-zone-arts-tickets-55291189436%3fmc_cid%3d8f5ccc73cb%26amp%3bmc_eid%3d298cd6b3ba%22 target%3d%22_blank%22%3ehttps%3a//www.eventbrite.com/e/promise-zone-arts-tickets-55291189436%3c/a%3e\n%3c/div%3eDesignHTMLWords: 27   Characters: 256
URL:https://www.discoverhollywood.com/event/promise-zone-arts-year-2-launch/
LOCATION:LACE (Los Angeles Contemporary Exhibitions)\, 6522 Hollywood Blvd.\, Hollywood\, California\, 90028.0
END:VEVENT
BEGIN:VEVENT
DTSTART;TZID=Asia/Kolkata:19820708T000000
DTEND;TZID=Asia/Kolkata:19820708T000000
DTSTAMP:20260424T104754
CREATED:20250714T094115Z
LAST-MODIFIED:20250714T094115Z
UID:10010759-394934400-394934400@www.discoverhollywood.com
SUMMARY:Rattlesnake Bells in the Desert: Amongst & Between
DESCRIPTION:DesignHTMLWords: 0   Characters: 0
URL:https://www.discoverhollywood.com/event/rattlesnake-bells-in-the-desert-amongst-between/
LOCATION:LACE (Los Angeles Contemporary Exhibitions)\, 6522 Hollywood Blvd.\, Hollywood\, California\, 90028.0
END:VEVENT
BEGIN:VEVENT
DTSTART;TZID=Asia/Kolkata:19820126T000000
DTEND;TZID=Asia/Kolkata:19820126T000000
DTSTAMP:20260424T104754
CREATED:20250714T094931Z
LAST-MODIFIED:20250714T094931Z
UID:10010922-380851200-380851200@www.discoverhollywood.com
SUMMARY:Reunion: Halloween Fundraiser Party
DESCRIPTION:Summoning past present future supporters of LACE for a night of brujas%2c performances%2c ritual spaces%2c invocations and encounters with “el más allá”. Music%2c drinks%2c performances%2c dance and more%21%21DesignHTMLWords: 28   Characters: 184
URL:https://www.discoverhollywood.com/event/reunion-halloween-fundraiser-party/
LOCATION:LACE (Los Angeles Contemporary Exhibitions)\, 6522 Hollywood Blvd.\, Hollywood\, California\, 90028.0
END:VEVENT
BEGIN:VEVENT
DTSTART;TZID=Asia/Kolkata:19780315T000000
DTEND;TZID=Asia/Kolkata:19780315T000000
DTSTAMP:20260424T104754
CREATED:20250715T082153Z
LAST-MODIFIED:20250715T082153Z
UID:10012314-258768000-258768000@www.discoverhollywood.com
SUMMARY:Sound Off: Silence + Resistance
DESCRIPTION:%3ca href%3d%22https%3a//welcometolace.org/event/emerging-curator-2020-abigail-raphael-collins-sound-off/%22%3ehttps%3a//welcometolace.org/event/emerging-curator-2020-abigail-raphael-collins-sound-off/%3c/a%3eDesignHTMLWords: 1   Characters: 79
URL:https://www.discoverhollywood.com/event/sound-off-silence-resistance/
LOCATION:LACE (Los Angeles Contemporary Exhibitions)\, 6522 Hollywood Blvd.\, Hollywood\, California\, 90028.0
END:VEVENT
BEGIN:VEVENT
DTSTART;TZID=Asia/Kolkata:19761002T000000
DTEND;TZID=Asia/Kolkata:19761002T000000
DTSTAMP:20260424T104754
CREATED:20250715T093739Z
LAST-MODIFIED:20250715T093739Z
UID:10012843-213062400-213062400@www.discoverhollywood.com
SUMMARY:Take My Money/Take My Body
DESCRIPTION:%3cspan%3eAn exhibition that proposes a relation%3cem%3eship%3c/em%3e%26nbsp%3bbetween K-Pop and contemporary art. Korean popular music is as much a relational system as it is a global industry%2c” explain curators%26nbsp%3bNarei Choi%26nbsp%3band%26nbsp%3bNicolas Orozco-Valdivia. Embracing this duality%2c their exhibition builds a transnational context for works that explore new ways of interfacing with popular media on psychological and material levels%3c/span%3eDesignHTMLWords: 58   Characters: 385
URL:https://www.discoverhollywood.com/event/take-my-money-take-my-body/
LOCATION:LACE (Los Angeles Contemporary Exhibitions)\, 6522 Hollywood Blvd.\, Hollywood\, California\, 90028.0
END:VEVENT
BEGIN:VEVENT
DTSTART;TZID=Asia/Kolkata:19710621T000000
DTEND;TZID=Asia/Kolkata:19710621T000000
DTSTAMP:20260424T104754
CREATED:20250716T065919Z
LAST-MODIFIED:20250716T065919Z
UID:10014568-46310400-46310400@www.discoverhollywood.com
SUMMARY:Tonalism (in partnership with dublab)
DESCRIPTION:Tonalism combines sound and visual elements to create an experience that audiences can enjoy over an extended period of time. Live musicians%2c DJs and video artists play and perform throughout the night.DesignHTMLWords: 32   Characters: 199
URL:https://www.discoverhollywood.com/event/tonalism-in-partnership-with-dublab/
LOCATION:LACE (Los Angeles Contemporary Exhibitions)\, 6522 Hollywood Blvd.\, Hollywood\, California\, 90028.0
END:VEVENT
BEGIN:VEVENT
DTSTART;TZID=Asia/Kolkata:20260424T104754
DTEND;TZID=Asia/Kolkata:20260424T104754
DTSTAMP:20260424T104754
CREATED:20250716T083649Z
LAST-MODIFIED:20250716T090841Z
UID:10015362-0-0@www.discoverhollywood.com
SUMMARY:Wild Oscillations
DESCRIPTION:Experimental vocalists Carmina Escobar%2c soprano sound artist Micaela Tobin%2c and special guest from Mexico City%2c visual sound artist Juan José Rivas perform in LACE‘s main gallery.DesignHTMLWords: 26   Characters: 175
URL:https://www.discoverhollywood.com/event/wild-oscillations/
LOCATION:LACE (Los Angeles Contemporary Exhibitions)\, 6522 Hollywood Blvd.\, Hollywood\, California\, 90028.0
END:VEVENT
BEGIN:VEVENT
DTSTART;TZID=Asia/Kolkata:20260424T104754
DTEND;TZID=Asia/Kolkata:20260424T104754
DTSTAMP:20260424T104754
CREATED:20250716T081726Z
LAST-MODIFIED:20250716T081726Z
UID:10015006-0-0@www.discoverhollywood.com
SUMMARY:Vibration Group
DESCRIPTION:%3ca href%3d%22https%3a//welcometolace.org/event/the-vibration-group/%22%3ehttps%3a//welcometolace.org/event/the-vibration-group/%3c/a%3eDesignHTMLWords: 1   Characters: 48
URL:https://www.discoverhollywood.com/event/vibration-group/
LOCATION:LACE (Los Angeles Contemporary Exhibitions)\, 6522 Hollywood Blvd.\, Hollywood\, California\, 90028.0
END:VEVENT
END:VCALENDAR