BEGIN:VCALENDAR
VERSION:2.0
PRODID:-//Discover Hollywood Magazine - ECPv6.15.20//NONSGML v1.0//EN
CALSCALE:GREGORIAN
METHOD:PUBLISH
X-ORIGINAL-URL:https://www.discoverhollywood.com
X-WR-CALDESC:Events for Discover Hollywood Magazine
REFRESH-INTERVAL;VALUE=DURATION:PT1H
X-Robots-Tag:noindex
X-PUBLISHED-TTL:PT1H
BEGIN:VTIMEZONE
TZID:Asia/Kolkata
BEGIN:STANDARD
TZOFFSETFROM:+0530
TZOFFSETTO:+0530
TZNAME:IST
DTSTART:19750101T000000
END:STANDARD
END:VTIMEZONE
BEGIN:VEVENT
DTSTART;TZID=Asia/Kolkata:20191218T000000
DTEND;TZID=Asia/Kolkata:20191218T000000
DTSTAMP:20260425T063627
CREATED:20250630T102644Z
LAST-MODIFIED:20250630T102644Z
UID:10001511-1576627200-1576627200@www.discoverhollywood.com
SUMMARY:Accordionist And Composer Nick Ariondo And Friends
DESCRIPTION:%3cbr%3eDesignHTMLWords: 0   Characters: 0
URL:https://www.discoverhollywood.com/event/accordionist-and-composer-nick-ariondo-and-friends-2/
LOCATION:LACMA (Los Angeles Country Museum of Art)\, 5905 Wilshire Blvd.\, Hollywood\, California
END:VEVENT
BEGIN:VEVENT
DTSTART;TZID=Asia/Kolkata:20190131T000000
DTEND;TZID=Asia/Kolkata:20190131T000000
DTSTAMP:20260425T063627
CREATED:20250630T103133Z
LAST-MODIFIED:20250630T103133Z
UID:10001618-1548892800-1548892800@www.discoverhollywood.com
SUMMARY:Airto Moreira With Eyedentity
DESCRIPTION:%3cbr%3eDesignHTMLWords: 0   Characters: 0
URL:https://www.discoverhollywood.com/event/airto-moreira-with-eyedentity-2/
LOCATION:LACMA (Los Angeles Country Museum of Art)\, 5905 Wilshire Blvd.\, Hollywood\, California
END:VEVENT
BEGIN:VEVENT
DTSTART;TZID=Asia/Kolkata:20061222T000000
DTEND;TZID=Asia/Kolkata:20061222T000000
DTSTAMP:20260425T063627
CREATED:20250701T080428Z
LAST-MODIFIED:20250701T080428Z
UID:10003533-1166745600-1166745600@www.discoverhollywood.com
SUMMARY:Cellist Andrew Shulman & Pianist Robert Thie
DESCRIPTION:Andrew Shulman is an award-winning principal cellist with the Los Angeles Chamber Orchestra. The %3cem%3eLos Angeles Times%3c/em%3e recently claimed%2c %22Shulman delivered some of the most beautiful music heard in any concert this year.%22 %26nbsp%3bHe is joined by Robert Thies%2c who first captured worldwide attention in 1995 when he won the Gold Medal at the Second International Prokofiev Competition in St. Petersburg%2c Russia%2c for which the Los Angeles City Council declared February 16%2c 1996 %22Robert Edward Thies Day.%22 ThiesDesignHTMLWords: 78   Characters: 484
URL:https://www.discoverhollywood.com/event/cellist-andrew-shulman-pianist-robert-thie/
LOCATION:LACMA (Los Angeles Country Museum of Art)\, 5905 Wilshire Blvd.\, Hollywood\, California
END:VEVENT
BEGIN:VEVENT
DTSTART;TZID=Asia/Kolkata:20060104T000000
DTEND;TZID=Asia/Kolkata:20060104T000000
DTSTAMP:20260425T063627
CREATED:20250701T085007Z
LAST-MODIFIED:20250701T085007Z
UID:10003709-1136332800-1136332800@www.discoverhollywood.com
SUMMARY:Chris Montez in Celebration of PST: LA/LA
DESCRIPTION:A live concert playing his greatest hits to celebrate Pacific Standard Time%3a Los Angeles/Latin America.\n%3cbr%3eDesignHTMLWords: 15   Characters: 101
URL:https://www.discoverhollywood.com/event/chris-montez-in-celebration-of-pst-la-la/
LOCATION:LACMA (Los Angeles Country Museum of Art)\, 5905 Wilshire Blvd.\, Hollywood\, California
END:VEVENT
BEGIN:VEVENT
DTSTART;TZID=Asia/Kolkata:20040603T000000
DTEND;TZID=Asia/Kolkata:20040603T000000
DTSTAMP:20260425T063627
CREATED:20250701T100511Z
LAST-MODIFIED:20250701T100511Z
UID:10003999-1086220800-1086220800@www.discoverhollywood.com
SUMMARY:Concert Ensembles from the Crossroads School
DESCRIPTION:Croassroads School performs Schubert%3a Quintet in A Major%2c Op. 114.D667%2c %22Trout%22%3cBR%3e\n    %3cBR%3e\n    Free ConcertDesignHTMLWords: 13   Characters: 86
URL:https://www.discoverhollywood.com/event/concert-ensembles-from-the-crossroads-school/
LOCATION:LACMA (Los Angeles Country Museum of Art)\, 5905 Wilshire Blvd.\, Hollywood\, California
END:VEVENT
BEGIN:VEVENT
DTSTART;TZID=Asia/Kolkata:20020523T000000
DTEND;TZID=Asia/Kolkata:20020523T000000
DTSTAMP:20260425T063627
CREATED:20250701T120327Z
LAST-MODIFIED:20250701T120327Z
UID:10004370-1022112000-1022112000@www.discoverhollywood.com
SUMMARY:David Kaplan performs New Dances
DESCRIPTION:%3cp%3epianist David Kaplan performs%26nbsp%3bNew Dances of the League of David%2c a 60-minute suite that incorporates new miniatures by a 21st-century band of composers into Schumann%27s%26nbsp%3bDavidsbündlertänze. %3c/p%3eDesignHTMLWords: 27   Characters: 182
URL:https://www.discoverhollywood.com/event/david-kaplan-performs-new-dances/
LOCATION:LACMA (Los Angeles Country Museum of Art)\, 5905 Wilshire Blvd.\, Hollywood\, California
END:VEVENT
BEGIN:VEVENT
DTSTART;TZID=Asia/Kolkata:19980701T000000
DTEND;TZID=Asia/Kolkata:19980701T000000
DTSTAMP:20260425T063627
CREATED:20250702T052030Z
LAST-MODIFIED:20250702T052030Z
UID:10005241-899251200-899251200@www.discoverhollywood.com
SUMMARY:Ernie Watts Quartet
DESCRIPTION:%3cbr%3eDesignHTMLWords: 0   Characters: 0
URL:https://www.discoverhollywood.com/event/ernie-watts-quartet-2/
LOCATION:LACMA (Los Angeles Country Museum of Art)\, 5905 Wilshire Blvd.\, Hollywood\, California
END:VEVENT
BEGIN:VEVENT
DTSTART;TZID=Asia/Kolkata:19980617T000000
DTEND;TZID=Asia/Kolkata:19980617T000000
DTSTAMP:20260425T063627
CREATED:20250702T052247Z
LAST-MODIFIED:20250702T052247Z
UID:10005255-898041600-898041600@www.discoverhollywood.com
SUMMARY:Esther Segovia "La Gotan"
DESCRIPTION:%3cbr%3eDesignHTMLWords: 0   Characters: 0
URL:https://www.discoverhollywood.com/event/esther-segovia-la-gotan/
LOCATION:LACMA (Los Angeles Country Museum of Art)\, 5905 Wilshire Blvd.\, Hollywood\, California
END:VEVENT
BEGIN:VEVENT
DTSTART;TZID=Asia/Kolkata:19980616T000000
DTEND;TZID=Asia/Kolkata:19980616T000000
DTSTAMP:20260425T063627
CREATED:20250702T052338Z
LAST-MODIFIED:20250702T052338Z
UID:10005256-897955200-897955200@www.discoverhollywood.com
SUMMARY:Esther Segovia "La Gotan"
DESCRIPTION:%3cbr%3eDesignHTMLWords: 0   Characters: 0
URL:https://www.discoverhollywood.com/event/esther-segovia-la-gotan-2/
LOCATION:LACMA (Los Angeles Country Museum of Art)\, 5905 Wilshire Blvd.\, Hollywood\, California
END:VEVENT
BEGIN:VEVENT
DTSTART;TZID=Asia/Kolkata:19980302T000000
DTEND;TZID=Asia/Kolkata:19980302T000000
DTSTAMP:20260425T063627
CREATED:20250702T055445Z
LAST-MODIFIED:20250702T055445Z
UID:10005362-888796800-888796800@www.discoverhollywood.com
SUMMARY:Family Art Classes
DESCRIPTION:DesignHTMLWords: 0   Characters: 0
URL:https://www.discoverhollywood.com/event/family-art-classes/
LOCATION:LACMA (Los Angeles Country Museum of Art)\, 5905 Wilshire Blvd.\, Hollywood\, California
END:VEVENT
BEGIN:VEVENT
DTSTART;TZID=Asia/Kolkata:19970227T000000
DTEND;TZID=Asia/Kolkata:19970227T000000
DTSTAMP:20260425T063627
CREATED:20250703T062344Z
LAST-MODIFIED:20250703T062344Z
UID:10005726-857001600-857001600@www.discoverhollywood.com
SUMMARY:Frederic Chiu
DESCRIPTION:Yamaha Artist Frederic Chiu%27s intriguing piano playing and teaching springs from a diverse set of experiences and interests%3a his Asian%2c American%2c and European background%2c his musical training%2c and an early and ongoing exploration of artificial intelligence and human psychology%2c especially the body-mind-heart connection. With over 20 recordings produced%2c his repertoire includes the complete work of Prokofiev as well as popular classics of Chopin%2c Liszt%2c and others%2c in addition to lesser-known masterpieces ofDesignHTMLWords: 72   Characters: 497
URL:https://www.discoverhollywood.com/event/frederic-chiu/
LOCATION:LACMA (Los Angeles Country Museum of Art)\, 5905 Wilshire Blvd.\, Hollywood\, California
END:VEVENT
BEGIN:VEVENT
DTSTART;TZID=Asia/Kolkata:19951024T000000
DTEND;TZID=Asia/Kolkata:19951024T000000
DTSTAMP:20260425T063627
CREATED:20250703T084222Z
LAST-MODIFIED:20250703T084222Z
UID:10006218-814492800-814492800@www.discoverhollywood.com
SUMMARY:Grace Kelly Quintet
DESCRIPTION:%3cbr%3eDesignHTMLWords: 0   Characters: 0
URL:https://www.discoverhollywood.com/event/grace-kelly-quintet/
LOCATION:LACMA (Los Angeles Country Museum of Art)\, 5905 Wilshire Blvd.\, Hollywood\, California
END:VEVENT
BEGIN:VEVENT
DTSTART;TZID=Asia/Kolkata:19951006T000000
DTEND;TZID=Asia/Kolkata:19951006T000000
DTSTAMP:20260425T063627
CREATED:20250703T084240Z
LAST-MODIFIED:20250703T084240Z
UID:10006236-812937600-812937600@www.discoverhollywood.com
SUMMARY:Grant Geissman & The Bop! Bang! Boom! Band
DESCRIPTION:%3cbr%3eDesignHTMLWords: 0   Characters: 0
URL:https://www.discoverhollywood.com/event/grant-geissman-the-bop-bang-boom-band/
LOCATION:LACMA (Los Angeles Country Museum of Art)\, 5905 Wilshire Blvd.\, Hollywood\, California
END:VEVENT
BEGIN:VEVENT
DTSTART;TZID=Asia/Kolkata:19950820T000000
DTEND;TZID=Asia/Kolkata:19950820T000000
DTSTAMP:20260425T063627
CREATED:20250703T084416Z
LAST-MODIFIED:20250703T084416Z
UID:10006283-808876800-808876800@www.discoverhollywood.com
SUMMARY:Greg Porée Group
DESCRIPTION:Guitarist%2c composer%2c music director%2c and producer Greg Porée has made significant contributions to the music of dozens of show-business legends. Recently the guitarist has stepped out into the limelight%2c recording three impressive CDs of his own. A small sampling of his credits include music director for Sonny %26amp%3b Cher%2c Gladys Knight %26amp%3b the Pips%2c Diana Ross%2c and Thelma Houston%2c and recordings for such legends as Herbie Hancock%2c Vinx%2c James Brown%2c Stanley Turrentine%2c and Michael Jackson.%26nbsp%3bDesignHTMLWords: 73   Characters: 470
URL:https://www.discoverhollywood.com/event/greg-poree-group/
LOCATION:LACMA (Los Angeles Country Museum of Art)\, 5905 Wilshire Blvd.\, Hollywood\, California
END:VEVENT
BEGIN:VEVENT
DTSTART;TZID=Asia/Kolkata:19950610T000000
DTEND;TZID=Asia/Kolkata:19950610T000000
DTSTAMP:20260425T063627
CREATED:20250703T084539Z
LAST-MODIFIED:20250703T084539Z
UID:10006354-802742400-802742400@www.discoverhollywood.com
SUMMARY:Grupo Falso Baiano
DESCRIPTION:%3cbr%3eDesignHTMLWords: 0   Characters: 0
URL:https://www.discoverhollywood.com/event/grupo-falso-baiano/
LOCATION:LACMA (Los Angeles Country Museum of Art)\, 5905 Wilshire Blvd.\, Hollywood\, California
END:VEVENT
BEGIN:VEVENT
DTSTART;TZID=Asia/Kolkata:19930304T000000
DTEND;TZID=Asia/Kolkata:19930304T000000
DTSTAMP:20260425T063627
CREATED:20250703T110950Z
LAST-MODIFIED:20250703T110950Z
UID:10006897-731203200-731203200@www.discoverhollywood.com
SUMMARY:IPALPITI Artists: Soprano Disella Larusdottir & Countertenor Daniel Bubeck
DESCRIPTION:%3cbr%3eDesignHTMLWords: 0   Characters: 0
URL:https://www.discoverhollywood.com/event/ipalpiti-artists-soprano-disella-larusdottir-countertenor-daniel-bubeck/
LOCATION:LACMA (Los Angeles Country Museum of Art)\, 5905 Wilshire Blvd.\, Hollywood\, California
END:VEVENT
BEGIN:VEVENT
DTSTART;TZID=Asia/Kolkata:19930303T000000
DTEND;TZID=Asia/Kolkata:19930303T000000
DTSTAMP:20260425T063627
CREATED:20250703T111000Z
LAST-MODIFIED:20250703T111000Z
UID:10006898-731116800-731116800@www.discoverhollywood.com
SUMMARY:IPALPITI Artists: Violinist Conrad Chow And Pianist Timothy Durkovic
DESCRIPTION:%3cbr%3eDesignHTMLWords: 0   Characters: 0
URL:https://www.discoverhollywood.com/event/ipalpiti-artists-violinist-conrad-chow-and-pianist-timothy-durkovic/
LOCATION:LACMA (Los Angeles Country Museum of Art)\, 5905 Wilshire Blvd.\, Hollywood\, California
END:VEVENT
BEGIN:VEVENT
DTSTART;TZID=Asia/Kolkata:19910917T000000
DTEND;TZID=Asia/Kolkata:19910917T000000
DTSTAMP:20260425T063627
CREATED:20250703T120700Z
LAST-MODIFIED:20250703T120700Z
UID:10007431-685065600-685065600@www.discoverhollywood.com
SUMMARY:John Daversa Small Band
DESCRIPTION:%3cbr%3eDesignHTMLWords: 0   Characters: 0
URL:https://www.discoverhollywood.com/event/john-daversa-small-band/
LOCATION:LACMA (Los Angeles Country Museum of Art)\, 5905 Wilshire Blvd.\, Hollywood\, California
END:VEVENT
BEGIN:VEVENT
DTSTART;TZID=Asia/Kolkata:19910520T000000
DTEND;TZID=Asia/Kolkata:19910520T000000
DTSTAMP:20260425T063627
CREATED:20250703T121410Z
LAST-MODIFIED:20250703T121410Z
UID:10007551-674697600-674697600@www.discoverhollywood.com
SUMMARY:Jose Rizo's Mongorama
DESCRIPTION:%3cbr%3eDesignHTMLWords: 0   Characters: 0
URL:https://www.discoverhollywood.com/event/jose-rizos-mongorama/
LOCATION:LACMA (Los Angeles Country Museum of Art)\, 5905 Wilshire Blvd.\, Hollywood\, California
END:VEVENT
BEGIN:VEVENT
DTSTART;TZID=Asia/Kolkata:19900219T000000
DTEND;TZID=Asia/Kolkata:19900219T000000
DTSTAMP:20260425T063627
CREATED:20250709T062139Z
LAST-MODIFIED:20250709T062139Z
UID:10008006-635385600-635385600@www.discoverhollywood.com
SUMMARY:Kotolan
DESCRIPTION:%3cbr%3eDesignHTMLWords: 0   Characters: 0
URL:https://www.discoverhollywood.com/event/kotolan/
LOCATION:LACMA (Los Angeles Country Museum of Art)\, 5905 Wilshire Blvd.\, Hollywood\, California
END:VEVENT
BEGIN:VEVENT
DTSTART;TZID=Asia/Kolkata:19860302T000000
DTEND;TZID=Asia/Kolkata:19860302T000000
DTSTAMP:20260425T063627
CREATED:20250710T120712Z
LAST-MODIFIED:20250710T120712Z
UID:10009856-510105600-510105600@www.discoverhollywood.com
SUMMARY:Nick Mancini Collective
DESCRIPTION:%3cbr%3eDesignHTMLWords: 0   Characters: 0
URL:https://www.discoverhollywood.com/event/nick-mancini-collective/
LOCATION:LACMA (Los Angeles Country Museum of Art)\, 5905 Wilshire Blvd.\, Hollywood\, California
END:VEVENT
BEGIN:VEVENT
DTSTART;TZID=Asia/Kolkata:19850323T000000
DTEND;TZID=Asia/Kolkata:19850323T000000
DTSTAMP:20260425T063627
CREATED:20250710T123315Z
LAST-MODIFIED:20250710T123315Z
UID:10010200-480384000-480384000@www.discoverhollywood.com
SUMMARY:Orquesta Charangoa
DESCRIPTION:%3cbr%3eDesignHTMLWords: 0   Characters: 0
URL:https://www.discoverhollywood.com/event/orquesta-charangoa-3/
LOCATION:LACMA (Los Angeles Country Museum of Art)\, 5905 Wilshire Blvd.\, Hollywood\, California
END:VEVENT
BEGIN:VEVENT
DTSTART;TZID=Asia/Kolkata:19830727T000000
DTEND;TZID=Asia/Kolkata:19830727T000000
DTSTAMP:20260425T063627
CREATED:20250714T092705Z
LAST-MODIFIED:20250714T092705Z
UID:10010375-428112000-428112000@www.discoverhollywood.com
SUMMARY:Pianist Daniel Schlosberg
DESCRIPTION:%3cbr%3eDesignHTMLWords: 0   Characters: 0
URL:https://www.discoverhollywood.com/event/pianist-daniel-schlosberg/
LOCATION:LACMA (Los Angeles Country Museum of Art)\, 5905 Wilshire Blvd.\, Hollywood\, California
END:VEVENT
BEGIN:VEVENT
DTSTART;TZID=Asia/Kolkata:19830726T000000
DTEND;TZID=Asia/Kolkata:19830726T000000
DTSTAMP:20260425T063627
CREATED:20250714T092705Z
LAST-MODIFIED:20250714T092705Z
UID:10010376-428025600-428025600@www.discoverhollywood.com
SUMMARY:Pianist John Blacklow & Cellist Clive Greensmith
DESCRIPTION:%3cdiv class%3d%22field field-type-image field-name-field-event-image%22%3e\n	%3cdiv class%3d%22field-items%22%3e\n		%3cdiv class%3d%22field-item odd%22%3e%3c/div%3e\n	%3c/div%3e\n%3c/div%3e\n%3cdiv class%3d%22field field-name-body field-type-text-with-summary field-label-hidden%22%3e\n	%3cdiv class%3d%22field-items%22%3e\n		%3cdiv class%3d%22field-item even%22%3e\n			%3cp class%3d%22p1%22%3eA versatile pianist%2c John Blacklow operates as both a soloist and as a collaborator with many ensembles and recital partners%2c in addition to interpreting repertoire from both past and present. He serDesignHTMLWords: 32   Characters: 196
URL:https://www.discoverhollywood.com/event/pianist-john-blacklow-cellist-clive-greensmith/
LOCATION:LACMA (Los Angeles Country Museum of Art)\, 5905 Wilshire Blvd.\, Hollywood\, California
END:VEVENT
BEGIN:VEVENT
DTSTART;TZID=Asia/Kolkata:19811125T000000
DTEND;TZID=Asia/Kolkata:19811125T000000
DTSTAMP:20260425T063627
CREATED:20250714T100257Z
LAST-MODIFIED:20250714T100257Z
UID:10010984-375494400-375494400@www.discoverhollywood.com
SUMMARY:Rickey Woodard Sextet
DESCRIPTION:%3cbr%3eDesignHTMLWords: 0   Characters: 0
URL:https://www.discoverhollywood.com/event/rickey-woodard-sextet/
LOCATION:LACMA (Los Angeles Country Museum of Art)\, 5905 Wilshire Blvd.\, Hollywood\, California
END:VEVENT
BEGIN:VEVENT
DTSTART;TZID=Asia/Kolkata:19810211T000000
DTEND;TZID=Asia/Kolkata:19810211T000000
DTSTAMP:20260425T063627
CREATED:20250714T102810Z
LAST-MODIFIED:20250714T102810Z
UID:10011071-350697600-350697600@www.discoverhollywood.com
SUMMARY:Robin Sukhadia and DJ Ameet Mehta
DESCRIPTION:%3cp%3eInspired by LACMA%27s Mughal art collection%2c tabla artist Robin Sukhadia will present a multimedia lecture focused on the portrayal of Mughal culture in the Bollywood epics %3cem%3eMughal-e-Azam%3c/em%3e %281960%29 and\n	%3cem%3eJodhaa Akbar%3c/em%3e %282008%29.%26nbsp%3b The 45-minute lecture will be followed by a live musical performance by SADUBAS%2c a duo consisting of Robin Sukhadia and DJ Ameet Mehta.\n	%3cspan%3eThey will be accompanied by trumpeter Clinton Patterson.%3c/span%3e\n%3c/p%3e\n%3cp%3e%3c/p%3eDesignHTMLWords: 63   Characters: 397
URL:https://www.discoverhollywood.com/event/robin-sukhadia-and-dj-ameet-mehta/
LOCATION:LACMA (Los Angeles Country Museum of Art)\, 5905 Wilshire Blvd.\, Hollywood\, California
END:VEVENT
BEGIN:VEVENT
DTSTART;TZID=Asia/Kolkata:19770224T000000
DTEND;TZID=Asia/Kolkata:19770224T000000
DTSTAMP:20260425T063627
CREATED:20250715T092852Z
LAST-MODIFIED:20250715T092852Z
UID:10012698-225590400-225590400@www.discoverhollywood.com
SUMMARY:Sundays Free Concert
DESCRIPTION:A Los Angeles tradition since 1948%2c Sundays Live concerts are free.\n%3cbr%3e\nFor a schedule of upcoming concerts and complete information about\n%3cbr%3e\nSundays Live%2c click%3a\n%3cbr%3e\n%3ca href%3d%22http%3a//www.sundayslive.org/%22%3ehttp%3a//www.sundayslive.org/%3c/a%3e\n%3cbr%3eDesignHTMLWords: 25   Characters: 176
URL:https://www.discoverhollywood.com/event/sundays-free-concert/
LOCATION:LACMA (Los Angeles Country Museum of Art)\, 5905 Wilshire Blvd.\, Hollywood\, California
END:VEVENT
BEGIN:VEVENT
DTSTART;TZID=Asia/Kolkata:19770216T000000
DTEND;TZID=Asia/Kolkata:19770216T000000
DTSTAMP:20260425T063627
CREATED:20250715T093020Z
LAST-MODIFIED:20250715T093020Z
UID:10012706-224899200-224899200@www.discoverhollywood.com
SUMMARY:Sunnie Paxson Trio With Vocalist Cynthia Calhoun
DESCRIPTION:%3cbr%3eDesignHTMLWords: 0   Characters: 0
URL:https://www.discoverhollywood.com/event/sunnie-paxson-trio-with-vocalist-cynthia-calhoun/
LOCATION:LACMA (Los Angeles Country Museum of Art)\, 5905 Wilshire Blvd.\, Hollywood\, California
END:VEVENT
BEGIN:VEVENT
DTSTART;TZID=Asia/Kolkata:19761031T000000
DTEND;TZID=Asia/Kolkata:19761031T000000
DTSTAMP:20260425T063627
CREATED:20250715T093703Z
LAST-MODIFIED:20250715T093703Z
UID:10012814-215568000-215568000@www.discoverhollywood.com
SUMMARY:Sylvia Brooks
DESCRIPTION:Coming off the success of her debut album %3cem%3eDangerous Liaisons%3c/em%3e%26nbsp%3band her follow-up%2c\n%3cem%3eRestless%3c/em%3e%2c jazz vocalist Sylvia Brooks brings her unique blend of Hollywood sultriness and impeccable style to LACMA with a dynamic 7-piece orchestra under the direction of her longtime collaborator and arranger%2c Kim Richmond.DesignHTMLWords: 46   Characters: 299
URL:https://www.discoverhollywood.com/event/sylvia-brooks-2/
LOCATION:LACMA (Los Angeles Country Museum of Art)\, 5905 Wilshire Blvd.\, Hollywood\, California
END:VEVENT
BEGIN:VEVENT
DTSTART;TZID=Asia/Kolkata:19760608T000000
DTEND;TZID=Asia/Kolkata:19760608T000000
DTSTAMP:20260425T063627
CREATED:20250715T105847Z
LAST-MODIFIED:20250715T105847Z
UID:10012959-203040000-203040000@www.discoverhollywood.com
SUMMARY:Terms of Endearment
DESCRIPTION:%3cb%3e%3ci%3eTerms of Endearment%3c/i%3e%3c/b%3e is among the quintessential tearjerkers%2c and one of many inexplicable Best Picture winners from the %2780sDesignHTMLWords: 19   Characters: 122
URL:https://www.discoverhollywood.com/event/terms-of-endearment/
LOCATION:LACMA (Los Angeles Country Museum of Art)\, 5905 Wilshire Blvd.\, Hollywood\, California
END:VEVENT
END:VCALENDAR