BEGIN:VCALENDAR
VERSION:2.0
PRODID:-//Discover Hollywood Magazine - ECPv6.15.17//NONSGML v1.0//EN
CALSCALE:GREGORIAN
METHOD:PUBLISH
X-WR-CALNAME:Discover Hollywood Magazine
X-ORIGINAL-URL:https://www.discoverhollywood.com
X-WR-CALDESC:Events for Discover Hollywood Magazine
REFRESH-INTERVAL;VALUE=DURATION:PT1H
X-Robots-Tag:noindex
X-PUBLISHED-TTL:PT1H
BEGIN:VTIMEZONE
TZID:Asia/Kolkata
BEGIN:STANDARD
TZOFFSETFROM:+0530
TZOFFSETTO:+0530
TZNAME:IST
DTSTART:20070101T000000
END:STANDARD
END:VTIMEZONE
BEGIN:VEVENT
DTSTART;TZID=Asia/Kolkata:20200919T000000
DTEND;TZID=Asia/Kolkata:20200919T000000
DTSTAMP:20260422T193705
CREATED:20250630T095706Z
LAST-MODIFIED:20250630T095706Z
UID:10001424-1600473600-1600473600@www.discoverhollywood.com
SUMMARY:A Special Evening with That Dog
DESCRIPTION:DesignHTMLWords: 0   Characters: 0
URL:https://www.discoverhollywood.com/event/a-special-evening-with-that-dog-2/
LOCATION:Largo at the Coronet\, 366 N. La Cienega Blvd. http://www.largo-la.com/event/1283859-doug-loves-movies-12-guests-los-angeles/\, Los Angeles\, California\, 90048.0
END:VEVENT
BEGIN:VEVENT
DTSTART;TZID=Asia/Kolkata:20161227T000000
DTEND;TZID=Asia/Kolkata:20161227T000000
DTSTAMP:20260422T193705
CREATED:20250630T105628Z
LAST-MODIFIED:20250630T105628Z
UID:10001873-1482796800-1482796800@www.discoverhollywood.com
SUMMARY:An April Fools' Eve Fun-Around
DESCRIPTION:%3cdiv class%3d%22artist-headline%22%3e\n	%3cspan class%3d%22artist-name%22%3eAn April Fools%27 Eve Fun-Around%3c/span%3e\n%3c/div%3e\n%3cimg title%3d%22An April Fools%27 Eve Fun-Around%22 class%3d%22bio-image-right%22 alt%3d%22An April Fools%27 Eve Fun-Around%22 src%3d%22http%3a//cdn.ticketfly.com/i/00/01/92/81/05-atsm.png%22%3e\n%3cdiv class%3d%22bio%22%3eEven more silliness than last year%21 Paul F. Tompkins hosts the WorkJuice Players and special guests in a goof-around April Fool%27s episode of the Thrilling Adventure Hour in which roles are assigned ON STAGE DURING PERFORMANCE%21DesignHTMLWords: 41   Characters: 250
URL:https://www.discoverhollywood.com/event/an-april-fools-eve-fun-around-2/
LOCATION:Largo at the Coronet\, 366 N. La Cienega Blvd. http://www.largo-la.com/event/1283859-doug-loves-movies-12-guests-los-angeles/\, Los Angeles\, California\, 90048.0
END:VEVENT
BEGIN:VEVENT
DTSTART;TZID=Asia/Kolkata:20161124T000000
DTEND;TZID=Asia/Kolkata:20161124T000000
DTSTAMP:20260422T193705
CREATED:20250630T105706Z
LAST-MODIFIED:20250630T105706Z
UID:10001884-1479945600-1479945600@www.discoverhollywood.com
SUMMARY:An Evening of Comedy & Song\, hosted by Bobcat with Friends
DESCRIPTION:Hosted by Bobcat Goldthwait w/ St. Vincent%2c Carrie Brownstein%2c Sarah Silverman%2c Fred Armisen%2c Mike Mills %26amp%3b more%21%3cdiv%3e\n	%3cbr%3e\n%3c/div%3e\n%3cdiv%3e\n	%3ca href%3d%22https%3a//wl.seetickets.us/event/An-Evening-of-Comedy-and-Song-hosted-by-Bobcat-with-Friends/379214%3fafflky%3dLargoAtTheCoronet%22 target%3d%22_blank%22%3ehttps%3a//wl.seetickets.us/event/An-Evening-of-Comedy-and-Song-hosted-by-Bobcat-with-Friends/379214%3c/a%3e\n%3c/div%3eDesignHTMLWords: 17   Characters: 192
URL:https://www.discoverhollywood.com/event/an-evening-of-comedy-song-hosted-by-bobcat-with-friends-2/
LOCATION:Largo at the Coronet\, 366 N. La Cienega Blvd. http://www.largo-la.com/event/1283859-doug-loves-movies-12-guests-los-angeles/\, Los Angeles\, California\, 90048.0
END:VEVENT
BEGIN:VEVENT
DTSTART;TZID=Asia/Kolkata:20161028T000000
DTEND;TZID=Asia/Kolkata:20161028T000000
DTSTAMP:20260422T193705
CREATED:20250630T105715Z
LAST-MODIFIED:20250630T105715Z
UID:10001893-1477612800-1477612800@www.discoverhollywood.com
SUMMARY:An Evening of Stand-Up with Jeff Garlin & Special Guests
DESCRIPTION:DesignHTMLWords: 0   Characters: 0
URL:https://www.discoverhollywood.com/event/an-evening-of-stand-up-with-jeff-garlin-special-guests-2/
LOCATION:Largo at the Coronet\, 366 N. La Cienega Blvd. http://www.largo-la.com/event/1283859-doug-loves-movies-12-guests-los-angeles/\, Los Angeles\, California\, 90048.0
END:VEVENT
BEGIN:VEVENT
DTSTART;TZID=Asia/Kolkata:20160919T000000
DTEND;TZID=Asia/Kolkata:20160919T000000
DTSTAMP:20260422T193705
CREATED:20250630T105751Z
LAST-MODIFIED:20250630T105751Z
UID:10001906-1474243200-1474243200@www.discoverhollywood.com
SUMMARY:An Evening with Daniel Licht & Very Special Guests
DESCRIPTION:DesignHTMLWords: 0   Characters: 0
URL:https://www.discoverhollywood.com/event/an-evening-with-daniel-licht-very-special-guests-2/
LOCATION:Largo at the Coronet\, 366 N. La Cienega Blvd. http://www.largo-la.com/event/1283859-doug-loves-movies-12-guests-los-angeles/\, Los Angeles\, California\, 90048.0
END:VEVENT
BEGIN:VEVENT
DTSTART;TZID=Asia/Kolkata:20160910T000000
DTEND;TZID=Asia/Kolkata:20160910T000000
DTSTAMP:20260422T193705
CREATED:20250630T105752Z
LAST-MODIFIED:20250630T105752Z
UID:10001909-1473465600-1473465600@www.discoverhollywood.com
SUMMARY:An Evening with Drew and Ellie Holcomb
DESCRIPTION:DesignHTMLWords: 0   Characters: 0
URL:https://www.discoverhollywood.com/event/an-evening-with-drew-and-ellie-holcomb-2/
LOCATION:Largo at the Coronet\, 366 N. La Cienega Blvd. http://www.largo-la.com/event/1283859-doug-loves-movies-12-guests-los-angeles/\, Los Angeles\, California\, 90048.0
END:VEVENT
BEGIN:VEVENT
DTSTART;TZID=Asia/Kolkata:20160808T000000
DTEND;TZID=Asia/Kolkata:20160808T000000
DTSTAMP:20260422T193705
CREATED:20250630T105827Z
LAST-MODIFIED:20250630T105827Z
UID:10001920-1470614400-1470614400@www.discoverhollywood.com
SUMMARY:An Evening with Kevin Smith
DESCRIPTION:%3cbr%3eDesignHTMLWords: 0   Characters: 0
URL:https://www.discoverhollywood.com/event/an-evening-with-kevin-smith-2/
LOCATION:Largo at the Coronet\, 366 N. La Cienega Blvd. http://www.largo-la.com/event/1283859-doug-loves-movies-12-guests-los-angeles/\, Los Angeles\, California\, 90048.0
END:VEVENT
BEGIN:VEVENT
DTSTART;TZID=Asia/Kolkata:20160709T000000
DTEND;TZID=Asia/Kolkata:20160709T000000
DTSTAMP:20260422T193705
CREATED:20250630T105838Z
LAST-MODIFIED:20250630T105838Z
UID:10001930-1468022400-1468022400@www.discoverhollywood.com
SUMMARY:An Evening with Norm Macdonald
DESCRIPTION:DesignHTMLWords: 0   Characters: 0
URL:https://www.discoverhollywood.com/event/an-evening-with-norm-macdonald-2/
LOCATION:Largo at the Coronet\, 366 N. La Cienega Blvd. http://www.largo-la.com/event/1283859-doug-loves-movies-12-guests-los-angeles/\, Los Angeles\, California\, 90048.0
END:VEVENT
BEGIN:VEVENT
DTSTART;TZID=Asia/Kolkata:20160531T000000
DTEND;TZID=Asia/Kolkata:20160531T000000
DTSTAMP:20260422T193705
CREATED:20250630T105913Z
LAST-MODIFIED:20250630T105913Z
UID:10001943-1464652800-1464652800@www.discoverhollywood.com
SUMMARY:An Evening with Skylar Grey
DESCRIPTION:%3ca href%3d%22https%3a//www.largo-la.com/%22 target%3d%22_blank%22%3ehttps%3a//www.largo-la.com/%3c/a%3eDesignHTMLWords: 1   Characters: 21
URL:https://www.discoverhollywood.com/event/an-evening-with-skylar-grey-2/
LOCATION:Largo at the Coronet\, 366 N. La Cienega Blvd. http://www.largo-la.com/event/1283859-doug-loves-movies-12-guests-los-angeles/\, Los Angeles\, California\, 90048.0
END:VEVENT
BEGIN:VEVENT
DTSTART;TZID=Asia/Kolkata:20160525T000000
DTEND;TZID=Asia/Kolkata:20160525T000000
DTSTAMP:20260422T193705
CREATED:20250630T105929Z
LAST-MODIFIED:20250630T105929Z
UID:10001945-1464134400-1464134400@www.discoverhollywood.com
SUMMARY:An Evening with Songwriter Sam Phillips
DESCRIPTION:%3ca href%3d%22https%3a//www.largo-la.com/%22 target%3d%22_blank%22%3ehttps%3a//www.largo-la.com/%3c/a%3eDesignHTMLWords: 1   Characters: 21
URL:https://www.discoverhollywood.com/event/an-evening-with-songwriter-sam-phillips-2/
LOCATION:Largo at the Coronet\, 366 N. La Cienega Blvd. http://www.largo-la.com/event/1283859-doug-loves-movies-12-guests-los-angeles/\, Los Angeles\, California\, 90048.0
END:VEVENT
BEGIN:VEVENT
DTSTART;TZID=Asia/Kolkata:20160404T000000
DTEND;TZID=Asia/Kolkata:20160404T000000
DTSTAMP:20260422T193705
CREATED:20250630T105955Z
LAST-MODIFIED:20250630T105955Z
UID:10001962-1459728000-1459728000@www.discoverhollywood.com
SUMMARY:An Intimate Evening of Songs & Stories with Ryan Bingham
DESCRIPTION:DesignHTMLWords: 0   Characters: 0
URL:https://www.discoverhollywood.com/event/an-intimate-evening-of-songs-stories-with-ryan-bingham-2/
LOCATION:Largo at the Coronet\, 366 N. La Cienega Blvd. http://www.largo-la.com/event/1283859-doug-loves-movies-12-guests-los-angeles/\, Los Angeles\, California\, 90048.0
END:VEVENT
BEGIN:VEVENT
DTSTART;TZID=Asia/Kolkata:20160401T000000
DTEND;TZID=Asia/Kolkata:20160401T000000
DTSTAMP:20260422T193705
CREATED:20250630T105955Z
LAST-MODIFIED:20250630T105955Z
UID:10001963-1459468800-1459468800@www.discoverhollywood.com
SUMMARY:An Intimate Evening with Benmont Tench & Very Special Guest
DESCRIPTION:Best known as the longtime pianist and keyboard player for Tom Petty %26amp%3b the Heartbreakers%2c Benmont Tench is one of rock%27s most respected instrumentalists%2c as he%27s guested on countless recordings for other artists.DesignHTMLWords: 32   Characters: 206
URL:https://www.discoverhollywood.com/event/an-intimate-evening-with-benmont-tench-very-special-guest-2/
LOCATION:Largo at the Coronet\, 366 N. La Cienega Blvd. http://www.largo-la.com/event/1283859-doug-loves-movies-12-guests-los-angeles/\, Los Angeles\, California\, 90048.0
END:VEVENT
BEGIN:VEVENT
DTSTART;TZID=Asia/Kolkata:20160329T000000
DTEND;TZID=Asia/Kolkata:20160329T000000
DTSTAMP:20260422T193705
CREATED:20250630T105956Z
LAST-MODIFIED:20250630T105956Z
UID:10001964-1459209600-1459209600@www.discoverhollywood.com
SUMMARY:An Intimate Evening with Joseph Arthur
DESCRIPTION:DesignHTMLWords: 0   Characters: 0
URL:https://www.discoverhollywood.com/event/an-intimate-evening-with-joseph-arthur-2/
LOCATION:Largo at the Coronet\, 366 N. La Cienega Blvd. http://www.largo-la.com/event/1283859-doug-loves-movies-12-guests-los-angeles/\, Los Angeles\, California\, 90048.0
END:VEVENT
BEGIN:VEVENT
DTSTART;TZID=Asia/Kolkata:20160320T000000
DTEND;TZID=Asia/Kolkata:20160320T000000
DTSTAMP:20260422T193705
CREATED:20250630T110004Z
LAST-MODIFIED:20250630T110004Z
UID:10001967-1458432000-1458432000@www.discoverhollywood.com
SUMMARY:An Intimate Evening with Thomas Dolby
DESCRIPTION:DesignHTMLWords: 0   Characters: 0
URL:https://www.discoverhollywood.com/event/an-intimate-evening-with-thomas-dolby-2/
LOCATION:Largo at the Coronet\, 366 N. La Cienega Blvd. http://www.largo-la.com/event/1283859-doug-loves-movies-12-guests-los-angeles/\, Los Angeles\, California\, 90048.0
END:VEVENT
BEGIN:VEVENT
DTSTART;TZID=Asia/Kolkata:20151020T000000
DTEND;TZID=Asia/Kolkata:20151020T000000
DTSTAMP:20260422T193705
CREATED:20250630T113350Z
LAST-MODIFIED:20250630T113350Z
UID:10002020-1445299200-1445299200@www.discoverhollywood.com
SUMMARY:Andrew Bird and Friends
DESCRIPTION:%3ca href%3d%22https%3a//www.largo-la.com/%22 target%3d%22_blank%22%3ehttps%3a//www.largo-la.com/%3c/a%3eDesignHTMLWords: 1   Characters: 21
URL:https://www.discoverhollywood.com/event/andrew-bird-and-friends/
LOCATION:Largo at the Coronet\, 366 N. La Cienega Blvd. http://www.largo-la.com/event/1283859-doug-loves-movies-12-guests-los-angeles/\, Los Angeles\, California\, 90048.0
END:VEVENT
BEGIN:VEVENT
DTSTART;TZID=Asia/Kolkata:20150302T000000
DTEND;TZID=Asia/Kolkata:20150302T000000
DTSTAMP:20260422T193705
CREATED:20250630T113935Z
LAST-MODIFIED:20250630T113935Z
UID:10002136-1425254400-1425254400@www.discoverhollywood.com
SUMMARY:Anthony Jeselnik and Enemies
DESCRIPTION:%3ca href%3d%22https%3a//www.largo-la.com/%22 target%3d%22_blank%22%3ehttps%3a//www.largo-la.com/%3c/a%3eDesignHTMLWords: 1   Characters: 21
URL:https://www.discoverhollywood.com/event/anthony-jeselnik-and-enemies/
LOCATION:Largo at the Coronet\, 366 N. La Cienega Blvd. http://www.largo-la.com/event/1283859-doug-loves-movies-12-guests-los-angeles/\, Los Angeles\, California\, 90048.0
END:VEVENT
BEGIN:VEVENT
DTSTART;TZID=Asia/Kolkata:20150224T000000
DTEND;TZID=Asia/Kolkata:20150224T000000
DTSTAMP:20260422T193705
CREATED:20250630T113935Z
LAST-MODIFIED:20250630T113935Z
UID:10002139-1424736000-1424736000@www.discoverhollywood.com
SUMMARY:Anthony Wilson
DESCRIPTION:%3cdiv class%3d%22artist-headline%22%3eAnthony Wilson is a guitarist%2c composer and arranger known for a nuanced body of work that moves fluidly across moods and genres.%26nbsp%3b%3c/div%3e\n%3cbr%3e\n%3ca href%3d%22https%3a//www.largo-la.com/%22 target%3d%22_blank%22%3ehttps%3a//www.largo-la.com/%3c/a%3eDesignHTMLWords: 23   Characters: 151
URL:https://www.discoverhollywood.com/event/anthony-wilson/
LOCATION:Largo at the Coronet\, 366 N. La Cienega Blvd. http://www.largo-la.com/event/1283859-doug-loves-movies-12-guests-los-angeles/\, Los Angeles\, California\, 90048.0
END:VEVENT
BEGIN:VEVENT
DTSTART;TZID=Asia/Kolkata:20140203T000000
DTEND;TZID=Asia/Kolkata:20140203T000000
DTSTAMP:20260422T193705
CREATED:20250630T120007Z
LAST-MODIFIED:20250630T120007Z
UID:10002332-1391385600-1391385600@www.discoverhollywood.com
SUMMARY:Aunty Donna
DESCRIPTION:In 2012%2c Aunty Donna exploded onto the Melbourne comedy scene with a unique brand of surreal%2c fast paced%2c alternative sketch. Their debut show Aunty Donna in Pantsuits was nominated for the illustrious Melbourne International Comedy Festival’s Golden Gibbo Award%2c and the Donna’s have since gone on to create an award winning YouTube channel%2c garnering over 115 thousand subscribers and 14 million%2b views.DesignHTMLWords: 62   Characters: 398
URL:https://www.discoverhollywood.com/event/aunty-donna/
LOCATION:Largo at the Coronet\, 366 N. La Cienega Blvd. http://www.largo-la.com/event/1283859-doug-loves-movies-12-guests-los-angeles/\, Los Angeles\, California\, 90048.0
END:VEVENT
BEGIN:VEVENT
DTSTART;TZID=Asia/Kolkata:20120510T000000
DTEND;TZID=Asia/Kolkata:20120510T000000
DTSTAMP:20260422T193705
CREATED:20250630T122631Z
LAST-MODIFIED:20250630T122631Z
UID:10002649-1336608000-1336608000@www.discoverhollywood.com
SUMMARY:Behind the Lens
DESCRIPTION:%3cbr%3e\nMorrison Hotel Gallery is sharing its era-defining photographers with the world. To blossom its new brand%2c Behind The Lens%2c the gallery takes its iconic photographers on the road%2c and brings these legendary image-makers directly to the people. This concept is part of Morrison Hotel Gallery’s commitment to keep the breathtaking images their photographers created%2c a part of current cultural dialogue. They are bringing the visual back to music.DesignHTMLWords: 68   Characters: 435
URL:https://www.discoverhollywood.com/event/behind-the-lens/
LOCATION:Largo at the Coronet\, 366 N. La Cienega Blvd. http://www.largo-la.com/event/1283859-doug-loves-movies-12-guests-los-angeles/\, Los Angeles\, California\, 90048.0
END:VEVENT
BEGIN:VEVENT
DTSTART;TZID=Asia/Kolkata:20120216T000000
DTEND;TZID=Asia/Kolkata:20120216T000000
DTSTAMP:20260422T193705
CREATED:20250630T122745Z
LAST-MODIFIED:20250630T122745Z
UID:10002691-1329350400-1329350400@www.discoverhollywood.com
SUMMARY:Ben Schwartz. Friends. Improv.
DESCRIPTION:DesignHTMLWords: 0   Characters: 0
URL:https://www.discoverhollywood.com/event/ben-schwartz-friends-improv/
LOCATION:Largo at the Coronet\, 366 N. La Cienega Blvd. http://www.largo-la.com/event/1283859-doug-loves-movies-12-guests-los-angeles/\, Los Angeles\, California\, 90048.0
END:VEVENT
BEGIN:VEVENT
DTSTART;TZID=Asia/Kolkata:20120119T000000
DTEND;TZID=Asia/Kolkata:20120119T000000
DTSTAMP:20260422T193705
CREATED:20250630T122831Z
LAST-MODIFIED:20250630T122831Z
UID:10002705-1326931200-1326931200@www.discoverhollywood.com
SUMMARY:Benmont Tench
DESCRIPTION:Best known as the longtime pianist and keyboard player for Tommy Petty %26amp%3b the Heartbreakers%2c Benmont Tench is one of rock%27s most respected instrumentalists. %3ca href%3d%22https%3a//www.largo-la.com/event/1691966%22 target%3d%22_blank%22%3ewww.largo-la.com/event/1691966%3c/a%3eDesignHTMLWords: 24   Characters: 179
URL:https://www.discoverhollywood.com/event/benmont-tench/
LOCATION:Largo at the Coronet\, 366 N. La Cienega Blvd. http://www.largo-la.com/event/1283859-doug-loves-movies-12-guests-los-angeles/\, Los Angeles\, California\, 90048.0
END:VEVENT
BEGIN:VEVENT
DTSTART;TZID=Asia/Kolkata:20110711T000000
DTEND;TZID=Asia/Kolkata:20110711T000000
DTSTAMP:20260422T193705
CREATED:20250630T123112Z
LAST-MODIFIED:20250630T123112Z
UID:10002801-1310342400-1310342400@www.discoverhollywood.com
SUMMARY:Big Terrific
DESCRIPTION:In 2008%2c Gabe Liedman%2c Jenny Slate%2c and Max Silvestri started a free weekly comedy show in Brooklyn called BIG TERRIFIC.%26nbsp%3b A Williamsburg institution%2c It’s been called the city’s best comedy show by places like New York Magazine and Time Out. The show’s formula has always been to mix smart young comics and established pros with a warm and inviting atmosphere%2c and long-time fans of the show have watched many of those up-and-comers become stars.DesignHTMLWords: 74   Characters: 435
URL:https://www.discoverhollywood.com/event/big-terrific/
LOCATION:Largo at the Coronet\, 366 N. La Cienega Blvd. http://www.largo-la.com/event/1283859-doug-loves-movies-12-guests-los-angeles/\, Los Angeles\, California\, 90048.0
END:VEVENT
BEGIN:VEVENT
DTSTART;TZID=Asia/Kolkata:20110114T000000
DTEND;TZID=Asia/Kolkata:20110114T000000
DTSTAMP:20260422T193705
CREATED:20250630T123330Z
LAST-MODIFIED:20250630T123330Z
UID:10002891-1294963200-1294963200@www.discoverhollywood.com
SUMMARY:Birds of Chicago
DESCRIPTION:Birds of Chicago was born in 2012 when Nero began writing for his vocal star-muse%2c Russell. Both were accomplished singer/songwriters with projects of their own%2c Nero with JT and the Clouds and Russell with the acclaimed Canadian roots outfit Po%27 Girl%2c but together there was an unmistakable chemistry. Nero had found the perfect voice for his rock and roll psalms. Russell moved from being a primary songwriter to an interpreter%2c and her simmering restraint is deeply refreshing to a landscape scorched by postDesignHTMLWords: 83   Characters: 502
URL:https://www.discoverhollywood.com/event/birds-of-chicago/
LOCATION:Largo at the Coronet\, 366 N. La Cienega Blvd. http://www.largo-la.com/event/1283859-doug-loves-movies-12-guests-los-angeles/\, Los Angeles\, California\, 90048.0
END:VEVENT
BEGIN:VEVENT
DTSTART;TZID=Asia/Kolkata:20100328T000000
DTEND;TZID=Asia/Kolkata:20100328T000000
DTSTAMP:20260422T193705
CREATED:20250630T131142Z
LAST-MODIFIED:20250716T122258Z
UID:10003037-1269734400-1269734400@www.discoverhollywood.com
SUMMARY:Bo Burnham & Friends
DESCRIPTION:DesignHTMLWords: 0   Characters: 0
URL:https://www.discoverhollywood.com/event/bo-burnham-friends/
LOCATION:Largo at the Coronet\, 366 N. La Cienega Blvd. http://www.largo-la.com/event/1283859-doug-loves-movies-12-guests-los-angeles/\, Los Angeles\, California\, 90048.0
END:VEVENT
BEGIN:VEVENT
DTSTART;TZID=Asia/Kolkata:20100326T000000
DTEND;TZID=Asia/Kolkata:20100326T000000
DTSTAMP:20260422T193705
CREATED:20250630T131143Z
LAST-MODIFIED:20250716T122258Z
UID:10003038-1269561600-1269561600@www.discoverhollywood.com
SUMMARY:Bo Burnham & Friends
DESCRIPTION:DesignHTMLWords: 0   Characters: 0
URL:https://www.discoverhollywood.com/event/bo-burnham-friends-2/
LOCATION:Largo at the Coronet\, 366 N. La Cienega Blvd. http://www.largo-la.com/event/1283859-doug-loves-movies-12-guests-los-angeles/\, Los Angeles\, California\, 90048.0
END:VEVENT
BEGIN:VEVENT
DTSTART;TZID=Asia/Kolkata:20100322T000000
DTEND;TZID=Asia/Kolkata:20100322T000000
DTSTAMP:20260422T193705
CREATED:20250630T131143Z
LAST-MODIFIED:20250716T122258Z
UID:10003040-1269216000-1269216000@www.discoverhollywood.com
SUMMARY:Bob and David and Friends
DESCRIPTION:Bob Odenkirk and David Cross perform comedy in the form of standup talking and confrontational yelling. FRIENDS FROM SHOWBIZ will join them.%3cdiv%3e\n	%3cbr%3e\n%3c/div%3e\n%3cdiv%3e\n	%3ca href%3d%22https%3a//www.largo-la.com/%22%3ehttps%3a//www.largo-la.com/%3c/a%3e\n%3c/div%3e\n%3cdiv%3e\n	%3cbr%3e\n%3c/div%3eDesignHTMLWords: 23   Characters: 162
URL:https://www.discoverhollywood.com/event/bob-and-david-and-friends/
LOCATION:Largo at the Coronet\, 366 N. La Cienega Blvd. http://www.largo-la.com/event/1283859-doug-loves-movies-12-guests-los-angeles/\, Los Angeles\, California\, 90048.0
END:VEVENT
BEGIN:VEVENT
DTSTART;TZID=Asia/Kolkata:20100302T000000
DTEND;TZID=Asia/Kolkata:20100302T000000
DTSTAMP:20260422T193705
CREATED:20250630T131148Z
LAST-MODIFIED:20250716T122317Z
UID:10003050-1267488000-1267488000@www.discoverhollywood.com
SUMMARY:Bob Odenkirk Presents Basia Bulat! Warning: Bob will not be singing.
DESCRIPTION:%3cbr%3eDesignHTMLWords: 0   Characters: 0
URL:https://www.discoverhollywood.com/event/bob-odenkirk-presents-basia-bulat-warning-bob-will-not-be-singing/
LOCATION:Largo at the Coronet\, 366 N. La Cienega Blvd. http://www.largo-la.com/event/1283859-doug-loves-movies-12-guests-los-angeles/\, Los Angeles\, California\, 90048.0
END:VEVENT
BEGIN:VEVENT
DTSTART;TZID=Asia/Kolkata:20100226T000000
DTEND;TZID=Asia/Kolkata:20100226T000000
DTSTAMP:20260422T193705
CREATED:20250630T131158Z
LAST-MODIFIED:20250716T122327Z
UID:10003052-1267142400-1267142400@www.discoverhollywood.com
SUMMARY:Bob Schneider
DESCRIPTION:%3cbr%3eDesignHTMLWords: 0   Characters: 0
URL:https://www.discoverhollywood.com/event/bob-schneider-2/
LOCATION:Largo at the Coronet\, 366 N. La Cienega Blvd. http://www.largo-la.com/event/1283859-doug-loves-movies-12-guests-los-angeles/\, Los Angeles\, California\, 90048.0
END:VEVENT
BEGIN:VEVENT
DTSTART;TZID=Asia/Kolkata:20100220T000000
DTEND;TZID=Asia/Kolkata:20100220T000000
DTSTAMP:20260422T193705
CREATED:20250630T131158Z
LAST-MODIFIED:20250716T122328Z
UID:10003055-1266624000-1266624000@www.discoverhollywood.com
SUMMARY:Bob Thiele\, Jr.
DESCRIPTION:%3cdiv class%3d%22bio%22%3e\n	A night of songs and some stories with %3ca target%3d%22_blank%22 href%3d%22http%3a//www.largo-la.com/event/789727-intimate-evening-bob-thiele-los-angeles/%22%3eBob Thiele%2c Jr.%3c/a%3e %26amp%3b The Forest Rangers%2c the house band for the FX series %27Sons Of Anarchy.%27 Featuring Greg Leisz%2c Don Heffington%2c Davey Faragher and John Philip Shenale%2c the band played a vital part in the ground-breaking series and helped earn Thiele%2c and the show%2c repeated Emmy nominations. With special guests.\n%3c/div%3eDesignHTMLWords: 58   Characters: 336
URL:https://www.discoverhollywood.com/event/bob-thiele-jr/
LOCATION:Largo at the Coronet\, 366 N. La Cienega Blvd. http://www.largo-la.com/event/1283859-doug-loves-movies-12-guests-los-angeles/\, Los Angeles\, California\, 90048.0
END:VEVENT
BEGIN:VEVENT
DTSTART;TZID=Asia/Kolkata:20081127T000000
DTEND;TZID=Asia/Kolkata:20081127T000000
DTSTAMP:20260422T193705
CREATED:20250701T063111Z
LAST-MODIFIED:20250701T063111Z
UID:10003275-1227744000-1227744000@www.discoverhollywood.com
SUMMARY:Brooks Wheelan
DESCRIPTION:%3cp%3eBrooks originally hails from Iowa where he attended the University of Iowa. Most recently Brooks wrapped his debut year as a cast member on NBC%27s %3cb%3eSaturday Night Live%3c/b%3e and will be appearing in the upcoming season of\n	%3cb%3eHBO%27s Girls%3c/b%3e. In 2013 he made his stand up television debut on\n	%3cb%3eComedy Central%27s Adam Devine%27s House Party%3c/b%3e.\n	%3cb%3e%3cbr%3e%3c/b%3e\n%3c/p%3eDesignHTMLWords: 55   Characters: 312
URL:https://www.discoverhollywood.com/event/brooks-wheelan/
LOCATION:Largo at the Coronet\, 366 N. La Cienega Blvd. http://www.largo-la.com/event/1283859-doug-loves-movies-12-guests-los-angeles/\, Los Angeles\, California\, 90048.0
END:VEVENT
END:VCALENDAR