BEGIN:VCALENDAR
VERSION:2.0
PRODID:-//Discover Hollywood Magazine - ECPv6.15.17//NONSGML v1.0//EN
CALSCALE:GREGORIAN
METHOD:PUBLISH
X-WR-CALNAME:Discover Hollywood Magazine
X-ORIGINAL-URL:https://www.discoverhollywood.com
X-WR-CALDESC:Events for Discover Hollywood Magazine
REFRESH-INTERVAL;VALUE=DURATION:PT1H
X-Robots-Tag:noindex
X-PUBLISHED-TTL:PT1H
BEGIN:VTIMEZONE
TZID:Asia/Kolkata
BEGIN:STANDARD
TZOFFSETFROM:+0530
TZOFFSETTO:+0530
TZNAME:IST
DTSTART:19950101T000000
END:STANDARD
END:VTIMEZONE
BEGIN:VEVENT
DTSTART;TZID=Asia/Kolkata:20170318T000000
DTEND;TZID=Asia/Kolkata:20170318T000000
DTSTAMP:20260422T170300
CREATED:20250630T105356Z
LAST-MODIFIED:20250630T105356Z
UID:10001846-1489795200-1489795200@www.discoverhollywood.com
SUMMARY:Ammo
DESCRIPTION:%3cbr%3eDesignHTMLWords: 0   Characters: 0
URL:https://www.discoverhollywood.com/event/ammo-2/
LOCATION:Lounge Theatre\, 6201 Santa Monica Blvd. https://www.plays411.com/donna or by calling (323) 206-6427\, Hollywood\, California
END:VEVENT
BEGIN:VEVENT
DTSTART;TZID=Asia/Kolkata:20140719T000000
DTEND;TZID=Asia/Kolkata:20140719T000000
DTSTAMP:20260422T170300
CREATED:20250630T114506Z
LAST-MODIFIED:20250630T114506Z
UID:10002249-1405728000-1405728000@www.discoverhollywood.com
SUMMARY:Artificial Jungle
DESCRIPTION:DesignHTMLWords: 0   Characters: 0
URL:https://www.discoverhollywood.com/event/artificial-jungle/
LOCATION:Lounge Theatre\, 6201 Santa Monica Blvd. https://www.plays411.com/donna or by calling (323) 206-6427\, Hollywood\, California
END:VEVENT
BEGIN:VEVENT
DTSTART;TZID=Asia/Kolkata:20130823T000000
DTEND;TZID=Asia/Kolkata:20130823T000000
DTSTAMP:20260422T170300
CREATED:20250630T120358Z
LAST-MODIFIED:20250630T120358Z
UID:10002414-1377216000-1377216000@www.discoverhollywood.com
SUMMARY:BAD CONNECTIONS?
DESCRIPTION:DesignHTMLWords: 0   Characters: 0
URL:https://www.discoverhollywood.com/event/bad-connections/
LOCATION:Lounge Theatre\, 6201 Santa Monica Blvd. https://www.plays411.com/donna or by calling (323) 206-6427\, Hollywood\, California
END:VEVENT
BEGIN:VEVENT
DTSTART;TZID=Asia/Kolkata:20130821T000000
DTEND;TZID=Asia/Kolkata:20130821T000000
DTSTAMP:20260422T170300
CREATED:20250630T120405Z
LAST-MODIFIED:20250630T120405Z
UID:10002415-1377043200-1377043200@www.discoverhollywood.com
SUMMARY:Bad Dates
DESCRIPTION:DesignHTMLWords: 0   Characters: 0
URL:https://www.discoverhollywood.com/event/bad-dates/
LOCATION:Lounge Theatre\, 6201 Santa Monica Blvd. https://www.plays411.com/donna or by calling (323) 206-6427\, Hollywood\, California
END:VEVENT
BEGIN:VEVENT
DTSTART;TZID=Asia/Kolkata:20130714T000000
DTEND;TZID=Asia/Kolkata:20130714T000000
DTSTAMP:20260422T170300
CREATED:20250630T120422Z
LAST-MODIFIED:20250630T120422Z
UID:10002434-1373760000-1373760000@www.discoverhollywood.com
SUMMARY:Bagwell's
DESCRIPTION:DesignHTMLWords: 0   Characters: 0
URL:https://www.discoverhollywood.com/event/bagwells/
LOCATION:Lounge Theatre\, 6201 Santa Monica Blvd. https://www.plays411.com/donna or by calling (323) 206-6427\, Hollywood\, California
END:VEVENT
BEGIN:VEVENT
DTSTART;TZID=Asia/Kolkata:20100819T000000
DTEND;TZID=Asia/Kolkata:20100819T000000
DTSTAMP:20260422T170300
CREATED:20250630T130946Z
LAST-MODIFIED:20250716T122058Z
UID:10002965-1282176000-1282176000@www.discoverhollywood.com
SUMMARY:Blank
DESCRIPTION:DesignHTMLWords: 0   Characters: 0
URL:https://www.discoverhollywood.com/event/blank/
LOCATION:Lounge Theatre\, 6201 Santa Monica Blvd. https://www.plays411.com/donna or by calling (323) 206-6427\, Hollywood\, California
END:VEVENT
BEGIN:VEVENT
DTSTART;TZID=Asia/Kolkata:20100614T000000
DTEND;TZID=Asia/Kolkata:20100614T000000
DTSTAMP:20260422T170300
CREATED:20250630T131038Z
LAST-MODIFIED:20250716T122155Z
UID:10002998-1276473600-1276473600@www.discoverhollywood.com
SUMMARY:Blood Fruit
DESCRIPTION:DesignHTMLWords: 0   Characters: 0
URL:https://www.discoverhollywood.com/event/blood-fruit/
LOCATION:Lounge Theatre\, 6201 Santa Monica Blvd. https://www.plays411.com/donna or by calling (323) 206-6427\, Hollywood\, California
END:VEVENT
BEGIN:VEVENT
DTSTART;TZID=Asia/Kolkata:20100403T000000
DTEND;TZID=Asia/Kolkata:20100403T000000
DTSTAMP:20260422T170301
CREATED:20250630T131140Z
LAST-MODIFIED:20250716T122257Z
UID:10003034-1270252800-1270252800@www.discoverhollywood.com
SUMMARY:Blythe Spirit
DESCRIPTION:The Classical Theatre Lab presents a staged reading of one of Noel Coward%27s best-loved comedies%2c %3ci id%3d%22yiv0249747858yui_3_16_0_31_1413412632509_26%22%3eBlithe Spirit%3c/i%3e\n%3ci%3e.%3c/i%3e%26nbsp%3b Nothing spoils – or enlivens – a party like the appearance of your deceased spouse during a séance.DesignHTMLWords: 33   Characters: 206
URL:https://www.discoverhollywood.com/event/blythe-spirit/
LOCATION:Lounge Theatre\, 6201 Santa Monica Blvd. https://www.plays411.com/donna or by calling (323) 206-6427\, Hollywood\, California
END:VEVENT
BEGIN:VEVENT
DTSTART;TZID=Asia/Kolkata:20090301T000000
DTEND;TZID=Asia/Kolkata:20090301T000000
DTSTAMP:20260422T170301
CREATED:20250701T061516Z
LAST-MODIFIED:20250701T061516Z
UID:10003228-1235865600-1235865600@www.discoverhollywood.com
SUMMARY:Brilliant Traces
DESCRIPTION:Runaway bride Rosannah Deluce has been driving for days. Her car dies in a snowbound corner of Alaska. In distress%2c she seeks shelter in the only nearby structure%2c an old barn that is the home of Henry Harry%2c a man she does not know. The last thing Henry wants is company%2c but a beautiful woman has landed literally at his doorstep.%3cdiv%3e\n	%3cbr%3e\n%3c/div%3e\n%3cdiv%3e\n	%3ca href%3d%22https%3a//www.onthestage.com/show/red-sage-productions/brilliant-traces-6953%22 target%3d%22_blank%22%3ewww.onthestage.com/show/red-sage-productions/brilDesignHTMLWords: 62   Characters: 372
URL:https://www.discoverhollywood.com/event/brilliant-traces/
LOCATION:Lounge Theatre\, 6201 Santa Monica Blvd. https://www.plays411.com/donna or by calling (323) 206-6427\, Hollywood\, California
END:VEVENT
BEGIN:VEVENT
DTSTART;TZID=Asia/Kolkata:20090102T000000
DTEND;TZID=Asia/Kolkata:20090102T000000
DTSTAMP:20260422T170301
CREATED:20250701T063020Z
LAST-MODIFIED:20250701T063020Z
UID:10003257-1230854400-1230854400@www.discoverhollywood.com
SUMMARY:Broken Panda
DESCRIPTION:%3cbr%3eDesignHTMLWords: 0   Characters: 0
URL:https://www.discoverhollywood.com/event/broken-panda/
LOCATION:Lounge Theatre\, 6201 Santa Monica Blvd. https://www.plays411.com/donna or by calling (323) 206-6427\, Hollywood\, California
END:VEVENT
BEGIN:VEVENT
DTSTART;TZID=Asia/Kolkata:20080817T000000
DTEND;TZID=Asia/Kolkata:20080817T000000
DTSTAMP:20260422T170301
CREATED:20250701T063237Z
LAST-MODIFIED:20250701T063237Z
UID:10003326-1218931200-1218931200@www.discoverhollywood.com
SUMMARY:Bugaboo & The Silent One
DESCRIPTION:Chris Bender Presents%3a Marja-Lewis Ryan’s world premier drama about two female inmates faced with life in prison.DesignHTMLWords: 17   Characters: 110
URL:https://www.discoverhollywood.com/event/bugaboo-the-silent-one/
LOCATION:Lounge Theatre\, 6201 Santa Monica Blvd. https://www.plays411.com/donna or by calling (323) 206-6427\, Hollywood\, California
END:VEVENT
BEGIN:VEVENT
DTSTART;TZID=Asia/Kolkata:20080618T000000
DTEND;TZID=Asia/Kolkata:20080618T000000
DTSTAMP:20260422T170301
CREATED:20250701T063312Z
LAST-MODIFIED:20250701T063312Z
UID:10003356-1213747200-1213747200@www.discoverhollywood.com
SUMMARY:Burnt at the Steak (A Musical Comedy)
DESCRIPTION:%3cbr%3eDesignHTMLWords: 0   Characters: 0
URL:https://www.discoverhollywood.com/event/burnt-at-the-steak-a-musical-comedy/
LOCATION:Lounge Theatre\, 6201 Santa Monica Blvd. https://www.plays411.com/donna or by calling (323) 206-6427\, Hollywood\, California
END:VEVENT
BEGIN:VEVENT
DTSTART;TZID=Asia/Kolkata:20050131T000000
DTEND;TZID=Asia/Kolkata:20050131T000000
DTSTAMP:20260422T170301
CREATED:20250701T093522Z
LAST-MODIFIED:20250701T093522Z
UID:10003878-1107129600-1107129600@www.discoverhollywood.com
SUMMARY:Closely Related Keys
DESCRIPTION:%3cbr%3eDesignHTMLWords: 0   Characters: 0
URL:https://www.discoverhollywood.com/event/closely-related-keys/
LOCATION:Lounge Theatre\, 6201 Santa Monica Blvd. https://www.plays411.com/donna or by calling (323) 206-6427\, Hollywood\, California
END:VEVENT
BEGIN:VEVENT
DTSTART;TZID=Asia/Kolkata:20040107T000000
DTEND;TZID=Asia/Kolkata:20040107T000000
DTSTAMP:20260422T170301
CREATED:20250701T104939Z
LAST-MODIFIED:20250701T104939Z
UID:10004073-1073433600-1073433600@www.discoverhollywood.com
SUMMARY:Count of Monte Cristo - Musical
DESCRIPTION:%3ca target%3d%22_blank%22 href%3d%22http%3a//www.theatreinla.com/the-count-of-monte-cristo-the-musical/4995/%22%3eEdmond Dantès%3c/a%3e%2c a young%2c naïve second mate of a French trading ship%2c for the Morrell Shipping Company%2c lands the ship on the island of Elba to seek medical attention for his dying captain. While on the island%2c the exiled French Emperor Napoleon Bonaparte gives Dantès a letter to deliver to a friend in Dantès%27 home of MarseilleDesignHTMLWords: 57   Characters: 320
URL:https://www.discoverhollywood.com/event/count-of-monte-cristo-musical/
LOCATION:Lounge Theatre\, 6201 Santa Monica Blvd. https://www.plays411.com/donna or by calling (323) 206-6427\, Hollywood\, California
END:VEVENT
BEGIN:VEVENT
DTSTART;TZID=Asia/Kolkata:20031126T000000
DTEND;TZID=Asia/Kolkata:20031126T000000
DTSTAMP:20260422T170301
CREATED:20250701T105340Z
LAST-MODIFIED:20250701T105340Z
UID:10004094-1069804800-1069804800@www.discoverhollywood.com
SUMMARY:Crackerjack
DESCRIPTION:%3cbr%3eDesignHTMLWords: 0   Characters: 0
URL:https://www.discoverhollywood.com/event/crackerjack/
LOCATION:Lounge Theatre\, 6201 Santa Monica Blvd. https://www.plays411.com/donna or by calling (323) 206-6427\, Hollywood\, California
END:VEVENT
BEGIN:VEVENT
DTSTART;TZID=Asia/Kolkata:20000829T000000
DTEND;TZID=Asia/Kolkata:20000829T000000
DTSTAMP:20260422T170301
CREATED:20250701T124015Z
LAST-MODIFIED:20250701T124015Z
UID:10004676-967507200-967507200@www.discoverhollywood.com
SUMMARY:Ditch
DESCRIPTION:DesignHTMLWords: 0   Characters: 0
URL:https://www.discoverhollywood.com/event/ditch/
LOCATION:Lounge Theatre\, 6201 Santa Monica Blvd. https://www.plays411.com/donna or by calling (323) 206-6427\, Hollywood\, California
END:VEVENT
BEGIN:VEVENT
DTSTART;TZID=Asia/Kolkata:20000405T000000
DTEND;TZID=Asia/Kolkata:20000405T000000
DTSTAMP:20260422T170301
CREATED:20250701T125724Z
LAST-MODIFIED:20250701T125724Z
UID:10004749-954892800-954892800@www.discoverhollywood.com
SUMMARY:Don’t Forget to Remember
DESCRIPTION:DesignHTMLWords: 0   Characters: 0
URL:https://www.discoverhollywood.com/event/dont-forget-to-remember/
LOCATION:Lounge Theatre\, 6201 Santa Monica Blvd. https://www.plays411.com/donna or by calling (323) 206-6427\, Hollywood\, California
END:VEVENT
BEGIN:VEVENT
DTSTART;TZID=Asia/Kolkata:20000324T000000
DTEND;TZID=Asia/Kolkata:20000324T000000
DTSTAMP:20260422T170301
CREATED:20250701T125734Z
LAST-MODIFIED:20250701T125734Z
UID:10004755-953856000-953856000@www.discoverhollywood.com
SUMMARY:Donna/Madonna
DESCRIPTION:In this autobiographical one-act%2c writer/performer JP Karliak wants desperately to be the perfect son for his adopted mother%2c a doting Catholic housewife from Scranton%2cPA. But realizing he will never be the ideal local boy%2c he seeks answers from a verydifferent source%3a his fashion-writing%2c married-to-a-British-pop-star birth mother. Donna/Madonna is a tale of motherly love and finding acceptance told through stories%2c songs%2c and characters like Darth Vader%2c Carol Channing%2c and JP%27s unforgettable mothers.\n%3cbDesignHTMLWords: 71   Characters: 487
URL:https://www.discoverhollywood.com/event/donna-madonna/
LOCATION:Lounge Theatre\, 6201 Santa Monica Blvd. https://www.plays411.com/donna or by calling (323) 206-6427\, Hollywood\, California
END:VEVENT
BEGIN:VEVENT
DTSTART;TZID=Asia/Kolkata:19990517T000000
DTEND;TZID=Asia/Kolkata:19990517T000000
DTSTAMP:20260422T170301
CREATED:20250701T131939Z
LAST-MODIFIED:20250702T043936Z
UID:10004921-926899200-926899200@www.discoverhollywood.com
SUMMARY:Dusk Rings a Bell
DESCRIPTION:%3cspan class%3d%22mediumtext%22%3eMolly and Ray unexpectedly meet 25 years after a one-afternoon adolescent fling. Their encounter reveals two vastly different paths taken and two lonely souls attempting to reclaim a moment of possibility%2c when they were young and perhaps at their very best. %26nbsp%3bAward winning playwright Stephen Belber%27s poignant drama explores the fragile threads that bind the heart and the choices we make that break them.%26nbsp%3b%3c/span%3eDesignHTMLWords: 64   Characters: 400
URL:https://www.discoverhollywood.com/event/dusk-rings-a-bell/
LOCATION:Lounge Theatre\, 6201 Santa Monica Blvd. https://www.plays411.com/donna or by calling (323) 206-6427\, Hollywood\, California
END:VEVENT
BEGIN:VEVENT
DTSTART;TZID=Asia/Kolkata:19990422T000000
DTEND;TZID=Asia/Kolkata:19990422T000000
DTSTAMP:20260422T170301
CREATED:20250701T132240Z
LAST-MODIFIED:20250702T044140Z
UID:10004946-924739200-924739200@www.discoverhollywood.com
SUMMARY:Dysnomia
DESCRIPTION:DesignHTMLWords: 0   Characters: 0
URL:https://www.discoverhollywood.com/event/dysnomia/
LOCATION:Lounge Theatre\, 6201 Santa Monica Blvd. https://www.plays411.com/donna or by calling (323) 206-6427\, Hollywood\, California
END:VEVENT
BEGIN:VEVENT
DTSTART;TZID=Asia/Kolkata:19980329T000000
DTEND;TZID=Asia/Kolkata:19980329T000000
DTSTAMP:20260422T170301
CREATED:20250702T054758Z
LAST-MODIFIED:20250702T054758Z
UID:10005335-891129600-891129600@www.discoverhollywood.com
SUMMARY:Fabulation: Or The Re-Education of Undine
DESCRIPTION:DesignHTMLWords: 0   Characters: 0
URL:https://www.discoverhollywood.com/event/fabulation-or-the-re-education-of-undine/
LOCATION:Lounge Theatre\, 6201 Santa Monica Blvd. https://www.plays411.com/donna or by calling (323) 206-6427\, Hollywood\, California
END:VEVENT
BEGIN:VEVENT
DTSTART;TZID=Asia/Kolkata:19980314T000000
DTEND;TZID=Asia/Kolkata:19980314T000000
DTSTAMP:20260422T170301
CREATED:20250702T055400Z
LAST-MODIFIED:20250702T055400Z
UID:10005350-889833600-889833600@www.discoverhollywood.com
SUMMARY:Fairy Tales Against Humanity
DESCRIPTION:Like children%27s theatre gone horribly wrong%2c Fairy Tales Against Humanity is a new half-improvised%2c half-scripted show. A cast of improvisers will take fairy tales and fables — and with suggestions from the audience and special guests — twist them into hilarious abominations that would make Mother Goose cry. Plenty of audience participation and surprises await.DesignHTMLWords: 55   Characters: 355
URL:https://www.discoverhollywood.com/event/fairy-tales-against-humanity/
LOCATION:Lounge Theatre\, 6201 Santa Monica Blvd. https://www.plays411.com/donna or by calling (323) 206-6427\, Hollywood\, California
END:VEVENT
BEGIN:VEVENT
DTSTART;TZID=Asia/Kolkata:19971020T000000
DTEND;TZID=Asia/Kolkata:19971020T000000
DTSTAMP:20260422T170301
CREATED:20250702T060308Z
LAST-MODIFIED:20250702T060308Z
UID:10005495-877305600-877305600@www.discoverhollywood.com
SUMMARY:Fifty Shades of Shrew
DESCRIPTION:With the success of%3ci id%3d%22yui_3_16_0_1_1432172271761_9865%22%3e%3ca target%3d%22_blank%22 href%3d%22http%3a//www.hollywoodfringe.org/projects/2190%22%3eFifty Shades of Grey%3c/a%3e%3c/i%3e%2c BDSM is front and center in the public consciousness%2c but is still largely misunderstood. %26nbsp%3bBroads%27 Word Theatre sets Shakespeare%27s outdated\n%3ci id%3d%22yui_3_16_0_1_1432172271761_9911%22%3eTaming of the Shrew%3c/i%3e in a BDSM dungeon%2c where the all-female cast investigates the dynamics of power and submission with a modern fearlessness. %26nbsp%3bDesignHTMLWords: 50   Characters: 315
URL:https://www.discoverhollywood.com/event/fifty-shades-of-shrew/
LOCATION:Lounge Theatre\, 6201 Santa Monica Blvd. https://www.plays411.com/donna or by calling (323) 206-6427\, Hollywood\, California
END:VEVENT
BEGIN:VEVENT
DTSTART;TZID=Asia/Kolkata:19971019T000000
DTEND;TZID=Asia/Kolkata:19971019T000000
DTSTAMP:20260422T170301
CREATED:20250702T060317Z
LAST-MODIFIED:20250702T060317Z
UID:10005496-877219200-877219200@www.discoverhollywood.com
SUMMARY:Fifty Words
DESCRIPTION:The play is an incisive close-up of the emotional battleground of contemporary relationships and the lengths to which a couple will go to save it.%3cdiv%3e\n	%3cbr%3e\n%3c/div%3e\n%3cdiv%3e\n	%3ca href%3d%22https%3a//fiftywords.brownpapertickets.com/%22 target%3d%22_blank%22%3ehttps%3a//fiftywords.brownpapertickets.com/%3c/a%3e\n%3c/div%3eDesignHTMLWords: 26   Characters: 185
URL:https://www.discoverhollywood.com/event/fifty-words/
LOCATION:Lounge Theatre\, 6201 Santa Monica Blvd. https://www.plays411.com/donna or by calling (323) 206-6427\, Hollywood\, California
END:VEVENT
BEGIN:VEVENT
DTSTART;TZID=Asia/Kolkata:19970703T000000
DTEND;TZID=Asia/Kolkata:19970703T000000
DTSTAMP:20260422T170301
CREATED:20250703T061908Z
LAST-MODIFIED:20250703T061908Z
UID:10005600-867888000-867888000@www.discoverhollywood.com
SUMMARY:Fool for Love
DESCRIPTION:In Sam Shepard%27s 1983 classic%2c a woman named May occupies a stark%2c low-rent motel room on the edge of the Mojave desert. She is haunted by a frenetic rodeo cowboy named Eddie%2c with whom she shares a mutual obsession and whom she has been trying to escape for years.%26nbsp%3b%3cdiv%3e\n	%3cdiv%3e\n		%3cbr%3e\n		%3cbr%3e\n		%3ca href%3d%22https%3a//www.plays411.com/newsite/show/play_info.asp%3fshow_id%3d4869%22 target%3d%22_blank%22%3ewww.plays411.com/newsite/show/play_info.asp%3fshow_id%3d4869%3c/a%3e\n	%3c/div%3e\n%3c/div%3eDesignHTMLWords: 50   Characters: 312
URL:https://www.discoverhollywood.com/event/fool-for-love-2/
LOCATION:Lounge Theatre\, 6201 Santa Monica Blvd. https://www.plays411.com/donna or by calling (323) 206-6427\, Hollywood\, California
END:VEVENT
BEGIN:VEVENT
DTSTART;TZID=Asia/Kolkata:19961206T000000
DTEND;TZID=Asia/Kolkata:19961206T000000
DTSTAMP:20260422T170301
CREATED:20250703T064210Z
LAST-MODIFIED:20250703T064210Z
UID:10005809-849830400-849830400@www.discoverhollywood.com
SUMMARY:Fuchou with Bourbon
DESCRIPTION:%3cspan%3eA “little Hamlet” drama about Rose%2c a young Chinese-Caucasian American returning home for revenge on her white father.%26nbsp%3b%3c/span%3e\n%3cspan%3e%3ca href%3d%22http%3a//www.hollywoodfringe.org/projects/4894%22 target%3d%22_blank%22%3ewww.hollywoodfringe.org/projects/4894%3c/a%3e%3c/span%3eDesignHTMLWords: 19   Characters: 152
URL:https://www.discoverhollywood.com/event/fuchou-with-bourbon/
LOCATION:Lounge Theatre\, 6201 Santa Monica Blvd. https://www.plays411.com/donna or by calling (323) 206-6427\, Hollywood\, California
END:VEVENT
BEGIN:VEVENT
DTSTART;TZID=Asia/Kolkata:19961105T000000
DTEND;TZID=Asia/Kolkata:19961105T000000
DTSTAMP:20260422T170301
CREATED:20250703T064628Z
LAST-MODIFIED:20250703T064628Z
UID:10005840-847152000-847152000@www.discoverhollywood.com
SUMMARY:Future Sex\, Inc.
DESCRIPTION:%3cspan style%3d%22margin%3a0px%3b color%3ablack%3b font-family%3aArial%2csans-serif%3b font-size%3a12pt%3b%22%3e%3cb%3e%3ci%3eFuture Sex%2c Inc.%3c/i%3e%3c/b%3e%3c/span%3e\n%3cspan style%3d%22margin%3a0px%3b color%3ablack%3b font-family%3aArial%2csans-serif%3b font-size%3a12pt%3b%22%3eis the naughty pop musical which takes place in the dystopian future. T%3c/span%3e\n%3cspan%3e%3cspan style%3d%22margin%3a0px%3b font-family%3aArial%2csans-serif%3b font-size%3a12pt%3b%22%3ehe mysterious conglomerate Monocorp fabricates an epidemic condemning intimacy to profit from its “safe” new pseudo-sex product called the %3ci%3eLovDesignHTMLWords: 36   Characters: 227
URL:https://www.discoverhollywood.com/event/future-sex-inc/
LOCATION:Lounge Theatre\, 6201 Santa Monica Blvd. https://www.plays411.com/donna or by calling (323) 206-6427\, Hollywood\, California
END:VEVENT
BEGIN:VEVENT
DTSTART;TZID=Asia/Kolkata:19960327T000000
DTEND;TZID=Asia/Kolkata:19960327T000000
DTSTAMP:20260422T170301
CREATED:20250703T065656Z
LAST-MODIFIED:20250703T065656Z
UID:10006063-827884800-827884800@www.discoverhollywood.com
SUMMARY:Girl Overboard
DESCRIPTION:DesignHTMLWords: 0   Characters: 0
URL:https://www.discoverhollywood.com/event/girl-overboard/
LOCATION:Lounge Theatre\, 6201 Santa Monica Blvd. https://www.plays411.com/donna or by calling (323) 206-6427\, Hollywood\, California
END:VEVENT
BEGIN:VEVENT
DTSTART;TZID=Asia/Kolkata:19960313T000000
DTEND;TZID=Asia/Kolkata:19960313T000000
DTSTAMP:20260422T170301
CREATED:20250703T065712Z
LAST-MODIFIED:20250703T065712Z
UID:10006077-826675200-826675200@www.discoverhollywood.com
SUMMARY:Give Me The Sun
DESCRIPTION:World premiere of Tony Tanner%27s riveting adaption of Henrik Ibsen%27s Ghosts. %3ca href%3d%22http%3a//www.sstproductions.org/%22 target%3d%22_blank%22%3ewww.sstproductions.org/%3c/a%3eDesignHTMLWords: 12   Characters: 94
URL:https://www.discoverhollywood.com/event/give-me-the-sun/
LOCATION:Lounge Theatre\, 6201 Santa Monica Blvd. https://www.plays411.com/donna or by calling (323) 206-6427\, Hollywood\, California
END:VEVENT
BEGIN:VEVENT
DTSTART;TZID=Asia/Kolkata:19960211T000000
DTEND;TZID=Asia/Kolkata:19960211T000000
DTSTAMP:20260422T170301
CREATED:20250703T083830Z
LAST-MODIFIED:20250703T083830Z
UID:10006108-823996800-823996800@www.discoverhollywood.com
SUMMARY:Gloria
DESCRIPTION:GLORIA is the story of one woman%27s fight against adversity and the struggle to find her voice amongst the personal and geographical displacement of WWII. %3ca href%3d%22http%3a//www.hollywoodfringe.org/projects/5317%22 target%3d%22_blank%22%3e%26nbsp%3bwww.hollywoodfringe.org/projects/5317%3c/a%3eDesignHTMLWords: 26   Characters: 188
URL:https://www.discoverhollywood.com/event/gloria/
LOCATION:Lounge Theatre\, 6201 Santa Monica Blvd. https://www.plays411.com/donna or by calling (323) 206-6427\, Hollywood\, California
END:VEVENT
END:VCALENDAR