BEGIN:VCALENDAR
VERSION:2.0
PRODID:-//Discover Hollywood Magazine - ECPv6.15.20//NONSGML v1.0//EN
CALSCALE:GREGORIAN
METHOD:PUBLISH
X-ORIGINAL-URL:https://www.discoverhollywood.com
X-WR-CALDESC:Events for Discover Hollywood Magazine
REFRESH-INTERVAL;VALUE=DURATION:PT1H
X-Robots-Tag:noindex
X-PUBLISHED-TTL:PT1H
BEGIN:VTIMEZONE
TZID:Asia/Kolkata
BEGIN:STANDARD
TZOFFSETFROM:+0530
TZOFFSETTO:+0530
TZNAME:IST
DTSTART:19780101T000000
END:STANDARD
END:VTIMEZONE
BEGIN:VEVENT
DTSTART;TZID=Asia/Kolkata:19970703T000000
DTEND;TZID=Asia/Kolkata:19970703T000000
DTSTAMP:20260425T042406
CREATED:20250703T061908Z
LAST-MODIFIED:20250703T061908Z
UID:10005600-867888000-867888000@www.discoverhollywood.com
SUMMARY:Fool for Love
DESCRIPTION:In Sam Shepard%27s 1983 classic%2c a woman named May occupies a stark%2c low-rent motel room on the edge of the Mojave desert. She is haunted by a frenetic rodeo cowboy named Eddie%2c with whom she shares a mutual obsession and whom she has been trying to escape for years.%26nbsp%3b%3cdiv%3e\n	%3cdiv%3e\n		%3cbr%3e\n		%3cbr%3e\n		%3ca href%3d%22https%3a//www.plays411.com/newsite/show/play_info.asp%3fshow_id%3d4869%22 target%3d%22_blank%22%3ewww.plays411.com/newsite/show/play_info.asp%3fshow_id%3d4869%3c/a%3e\n	%3c/div%3e\n%3c/div%3eDesignHTMLWords: 50   Characters: 312
URL:https://www.discoverhollywood.com/event/fool-for-love-2/
LOCATION:Lounge Theatre\, 6201 Santa Monica Blvd. https://www.plays411.com/donna or by calling (323) 206-6427\, Hollywood\, California
END:VEVENT
BEGIN:VEVENT
DTSTART;TZID=Asia/Kolkata:19961206T000000
DTEND;TZID=Asia/Kolkata:19961206T000000
DTSTAMP:20260425T042406
CREATED:20250703T064210Z
LAST-MODIFIED:20250703T064210Z
UID:10005809-849830400-849830400@www.discoverhollywood.com
SUMMARY:Fuchou with Bourbon
DESCRIPTION:%3cspan%3eA “little Hamlet” drama about Rose%2c a young Chinese-Caucasian American returning home for revenge on her white father.%26nbsp%3b%3c/span%3e\n%3cspan%3e%3ca href%3d%22http%3a//www.hollywoodfringe.org/projects/4894%22 target%3d%22_blank%22%3ewww.hollywoodfringe.org/projects/4894%3c/a%3e%3c/span%3eDesignHTMLWords: 19   Characters: 152
URL:https://www.discoverhollywood.com/event/fuchou-with-bourbon/
LOCATION:Lounge Theatre\, 6201 Santa Monica Blvd. https://www.plays411.com/donna or by calling (323) 206-6427\, Hollywood\, California
END:VEVENT
BEGIN:VEVENT
DTSTART;TZID=Asia/Kolkata:19961105T000000
DTEND;TZID=Asia/Kolkata:19961105T000000
DTSTAMP:20260425T042406
CREATED:20250703T064628Z
LAST-MODIFIED:20250703T064628Z
UID:10005840-847152000-847152000@www.discoverhollywood.com
SUMMARY:Future Sex\, Inc.
DESCRIPTION:%3cspan style%3d%22margin%3a0px%3b color%3ablack%3b font-family%3aArial%2csans-serif%3b font-size%3a12pt%3b%22%3e%3cb%3e%3ci%3eFuture Sex%2c Inc.%3c/i%3e%3c/b%3e%3c/span%3e\n%3cspan style%3d%22margin%3a0px%3b color%3ablack%3b font-family%3aArial%2csans-serif%3b font-size%3a12pt%3b%22%3eis the naughty pop musical which takes place in the dystopian future. T%3c/span%3e\n%3cspan%3e%3cspan style%3d%22margin%3a0px%3b font-family%3aArial%2csans-serif%3b font-size%3a12pt%3b%22%3ehe mysterious conglomerate Monocorp fabricates an epidemic condemning intimacy to profit from its “safe” new pseudo-sex product called the %3ci%3eLovDesignHTMLWords: 36   Characters: 227
URL:https://www.discoverhollywood.com/event/future-sex-inc/
LOCATION:Lounge Theatre\, 6201 Santa Monica Blvd. https://www.plays411.com/donna or by calling (323) 206-6427\, Hollywood\, California
END:VEVENT
BEGIN:VEVENT
DTSTART;TZID=Asia/Kolkata:19960327T000000
DTEND;TZID=Asia/Kolkata:19960327T000000
DTSTAMP:20260425T042406
CREATED:20250703T065656Z
LAST-MODIFIED:20250703T065656Z
UID:10006063-827884800-827884800@www.discoverhollywood.com
SUMMARY:Girl Overboard
DESCRIPTION:DesignHTMLWords: 0   Characters: 0
URL:https://www.discoverhollywood.com/event/girl-overboard/
LOCATION:Lounge Theatre\, 6201 Santa Monica Blvd. https://www.plays411.com/donna or by calling (323) 206-6427\, Hollywood\, California
END:VEVENT
BEGIN:VEVENT
DTSTART;TZID=Asia/Kolkata:19960313T000000
DTEND;TZID=Asia/Kolkata:19960313T000000
DTSTAMP:20260425T042406
CREATED:20250703T065712Z
LAST-MODIFIED:20250703T065712Z
UID:10006077-826675200-826675200@www.discoverhollywood.com
SUMMARY:Give Me The Sun
DESCRIPTION:World premiere of Tony Tanner%27s riveting adaption of Henrik Ibsen%27s Ghosts. %3ca href%3d%22http%3a//www.sstproductions.org/%22 target%3d%22_blank%22%3ewww.sstproductions.org/%3c/a%3eDesignHTMLWords: 12   Characters: 94
URL:https://www.discoverhollywood.com/event/give-me-the-sun/
LOCATION:Lounge Theatre\, 6201 Santa Monica Blvd. https://www.plays411.com/donna or by calling (323) 206-6427\, Hollywood\, California
END:VEVENT
BEGIN:VEVENT
DTSTART;TZID=Asia/Kolkata:19960211T000000
DTEND;TZID=Asia/Kolkata:19960211T000000
DTSTAMP:20260425T042406
CREATED:20250703T083830Z
LAST-MODIFIED:20250703T083830Z
UID:10006108-823996800-823996800@www.discoverhollywood.com
SUMMARY:Gloria
DESCRIPTION:GLORIA is the story of one woman%27s fight against adversity and the struggle to find her voice amongst the personal and geographical displacement of WWII. %3ca href%3d%22http%3a//www.hollywoodfringe.org/projects/5317%22 target%3d%22_blank%22%3e%26nbsp%3bwww.hollywoodfringe.org/projects/5317%3c/a%3eDesignHTMLWords: 26   Characters: 188
URL:https://www.discoverhollywood.com/event/gloria/
LOCATION:Lounge Theatre\, 6201 Santa Monica Blvd. https://www.plays411.com/donna or by calling (323) 206-6427\, Hollywood\, California
END:VEVENT
BEGIN:VEVENT
DTSTART;TZID=Asia/Kolkata:19940408T000000
DTEND;TZID=Asia/Kolkata:19940408T000000
DTSTAMP:20260425T042406
CREATED:20250703T095649Z
LAST-MODIFIED:20250703T095649Z
UID:10006497-765763200-765763200@www.discoverhollywood.com
SUMMARY:Hollywood Stag
DESCRIPTION:DesignHTMLWords: 0   Characters: 0
URL:https://www.discoverhollywood.com/event/hollywood-stag/
LOCATION:Lounge Theatre\, 6201 Santa Monica Blvd. https://www.plays411.com/donna or by calling (323) 206-6427\, Hollywood\, California
END:VEVENT
BEGIN:VEVENT
DTSTART;TZID=Asia/Kolkata:19940218T000000
DTEND;TZID=Asia/Kolkata:19940218T000000
DTSTAMP:20260425T042406
CREATED:20250703T100115Z
LAST-MODIFIED:20250703T100115Z
UID:10006546-761529600-761529600@www.discoverhollywood.com
SUMMARY:Hope vs. Life
DESCRIPTION:%3ci%3eHope vs. Life%3c/i%3e posits Life as a boxing match. How many punishing blows can Hope take from Life%3f Will Hope hit the mat%2c pummeled into defeat%3f Or can she still prevail with a shining victory%3f\n%3ca href%3d%22http%3a//www.hollywoodfringe.org/projects/4951%22 target%3d%22_blank%22%3ewww.hollywoodfringe.org/projects/4951%3c/a%3eDesignHTMLWords: 36   Characters: 218
URL:https://www.discoverhollywood.com/event/hope-vs-life/
LOCATION:Lounge Theatre\, 6201 Santa Monica Blvd. https://www.plays411.com/donna or by calling (323) 206-6427\, Hollywood\, California
END:VEVENT
BEGIN:VEVENT
DTSTART;TZID=Asia/Kolkata:19931217T000000
DTEND;TZID=Asia/Kolkata:19931217T000000
DTSTAMP:20260425T042406
CREATED:20250703T105620Z
LAST-MODIFIED:20250703T105620Z
UID:10006609-756086400-756086400@www.discoverhollywood.com
SUMMARY:Human Identity
DESCRIPTION:DesignHTMLWords: 0   Characters: 0
URL:https://www.discoverhollywood.com/event/human-identity/
LOCATION:Lounge Theatre\, 6201 Santa Monica Blvd. https://www.plays411.com/donna or by calling (323) 206-6427\, Hollywood\, California
END:VEVENT
BEGIN:VEVENT
DTSTART;TZID=Asia/Kolkata:19931113T000000
DTEND;TZID=Asia/Kolkata:19931113T000000
DTSTAMP:20260425T042406
CREATED:20250703T105715Z
LAST-MODIFIED:20250703T105715Z
UID:10006643-753148800-753148800@www.discoverhollywood.com
SUMMARY:I Came to Make Noise
DESCRIPTION:A hip hop feminist theatrical performance that uses dance%2c beatbox and spoken word. Three women share their fears%2c faults and journeys to self-awareness. %3ca href%3d%22http%3a//www.hollywoodfringe.org/projects/4903%22 target%3d%22_blank%22%3ewww.hollywoodfringe.org/projects/4903%3c/a%3eDesignHTMLWords: 24   Characters: 184
URL:https://www.discoverhollywood.com/event/i-came-to-make-noise/
LOCATION:Lounge Theatre\, 6201 Santa Monica Blvd. https://www.plays411.com/donna or by calling (323) 206-6427\, Hollywood\, California
END:VEVENT
BEGIN:VEVENT
DTSTART;TZID=Asia/Kolkata:19930613T000000
DTEND;TZID=Asia/Kolkata:19930613T000000
DTSTAMP:20260425T042406
CREATED:20250703T110134Z
LAST-MODIFIED:20250703T110134Z
UID:10006796-739929600-739929600@www.discoverhollywood.com
SUMMARY:In Trousers
DESCRIPTION:%3ca href%3d%22https%3a//www.theatreinla.com/in-trousers/9152/%22%3ehttps%3a//www.theatreinla.com/in-trousers/9152/%3c/a%3eDesignHTMLWords: 1   Characters: 41
URL:https://www.discoverhollywood.com/event/in-trousers/
LOCATION:Lounge Theatre\, 6201 Santa Monica Blvd. https://www.plays411.com/donna or by calling (323) 206-6427\, Hollywood\, California
END:VEVENT
BEGIN:VEVENT
DTSTART;TZID=Asia/Kolkata:19911124T000000
DTEND;TZID=Asia/Kolkata:19911124T000000
DTSTAMP:20260425T042406
CREATED:20250703T120446Z
LAST-MODIFIED:20250703T120446Z
UID:10007363-690940800-690940800@www.discoverhollywood.com
SUMMARY:Jimmy Gamble
DESCRIPTION:DesignHTMLWords: 0   Characters: 0
URL:https://www.discoverhollywood.com/event/jimmy-gamble/
LOCATION:Lounge Theatre\, 6201 Santa Monica Blvd. https://www.plays411.com/donna or by calling (323) 206-6427\, Hollywood\, California
END:VEVENT
BEGIN:VEVENT
DTSTART;TZID=Asia/Kolkata:19901010T000000
DTEND;TZID=Asia/Kolkata:19901010T000000
DTSTAMP:20260425T042406
CREATED:20250709T054650Z
LAST-MODIFIED:20250709T054650Z
UID:10007773-655516800-655516800@www.discoverhollywood.com
SUMMARY:Katy and Jennifer
DESCRIPTION:Two women nearing their fortieth birthdays marshal their emotional resources built on their decades-long friendship to help them survive their respective devastating tragedies %28a dead child%2c an abandoning husband%29 in their lives. Can they endure%3f %3ca href%3d%22http%3a//www.hollywoodfringe.org/projects/5271%3ftab%3dtickets%22%3ewww.hollywoodfringe.org/projects/5271%3c/a%3eDesignHTMLWords: 36   Characters: 276
URL:https://www.discoverhollywood.com/event/katy-and-jennifer/
LOCATION:Lounge Theatre\, 6201 Santa Monica Blvd. https://www.plays411.com/donna or by calling (323) 206-6427\, Hollywood\, California
END:VEVENT
BEGIN:VEVENT
DTSTART;TZID=Asia/Kolkata:19900823T000000
DTEND;TZID=Asia/Kolkata:19900823T000000
DTSTAMP:20260425T042406
CREATED:20250709T091520Z
LAST-MODIFIED:20250709T091520Z
UID:10008481-651369600-651369600@www.discoverhollywood.com
SUMMARY:Lincoln Adjacent: Three Plays Not About Abraham Lincoln
DESCRIPTION:%3cbr%3eDesignHTMLWords: 0   Characters: 0
URL:https://www.discoverhollywood.com/event/lincoln-adjacent-three-plays-not-about-abraham-lincoln/
LOCATION:Lounge Theatre\, 6201 Santa Monica Blvd. https://www.plays411.com/donna or by calling (323) 206-6427\, Hollywood\, California
END:VEVENT
BEGIN:VEVENT
DTSTART;TZID=Asia/Kolkata:19900624T000000
DTEND;TZID=Asia/Kolkata:19900624T000000
DTSTAMP:20260425T042406
CREATED:20250709T093047Z
LAST-MODIFIED:20250709T093047Z
UID:10008541-646185600-646185600@www.discoverhollywood.com
SUMMARY:Live Nude Girl
DESCRIPTION:DesignHTMLWords: 0   Characters: 0
URL:https://www.discoverhollywood.com/event/live-nude-girl/
LOCATION:Lounge Theatre\, 6201 Santa Monica Blvd. https://www.plays411.com/donna or by calling (323) 206-6427\, Hollywood\, California
END:VEVENT
BEGIN:VEVENT
DTSTART;TZID=Asia/Kolkata:19900420T000000
DTEND;TZID=Asia/Kolkata:19900420T000000
DTSTAMP:20260425T042406
CREATED:20250709T061126Z
LAST-MODIFIED:20250709T061126Z
UID:10007946-640569600-640569600@www.discoverhollywood.com
SUMMARY:Kinky Neon Rocker
DESCRIPTION:Six LA playwrights weigh in with short plays involving a funeral plot%2c a tornado%2c an irresistibly sexy chair%2c a failed relationship%2c lesbian Nazis%2c and… a giant rat. What do they all have in common%3f The Kinky Neon Rocker%21 Just to make it more fun%2c we added a live Band onstage%2c and a black light — too cool%21DesignHTMLWords: 56   Characters: 295
URL:https://www.discoverhollywood.com/event/kinky-neon-rocker/
LOCATION:Lounge Theatre\, 6201 Santa Monica Blvd. https://www.plays411.com/donna or by calling (323) 206-6427\, Hollywood\, California
END:VEVENT
BEGIN:VEVENT
DTSTART;TZID=Asia/Kolkata:19881227T000000
DTEND;TZID=Asia/Kolkata:19881227T000000
DTSTAMP:20260425T042406
CREATED:20250709T123827Z
LAST-MODIFIED:20250709T123827Z
UID:10008825-599184000-599184000@www.discoverhollywood.com
SUMMARY:Maria Conchita Alfonso Alfonso Alfonso
DESCRIPTION:%3cbr%3eDesignHTMLWords: 0   Characters: 0
URL:https://www.discoverhollywood.com/event/maria-conchita-alfonso-alfonso-alfonso/
LOCATION:Lounge Theatre\, 6201 Santa Monica Blvd. https://www.plays411.com/donna or by calling (323) 206-6427\, Hollywood\, California
END:VEVENT
BEGIN:VEVENT
DTSTART;TZID=Asia/Kolkata:19881006T000000
DTEND;TZID=Asia/Kolkata:19881006T000000
DTSTAMP:20260425T042406
CREATED:20250709T124136Z
LAST-MODIFIED:20250709T124136Z
UID:10008907-592099200-592099200@www.discoverhollywood.com
SUMMARY:Martini and Olive: Torn Between Two Love Handles
DESCRIPTION:DesignHTMLWords: 0   Characters: 0
URL:https://www.discoverhollywood.com/event/martini-and-olive-torn-between-two-love-handles/
LOCATION:Lounge Theatre\, 6201 Santa Monica Blvd. https://www.plays411.com/donna or by calling (323) 206-6427\, Hollywood\, California
END:VEVENT
BEGIN:VEVENT
DTSTART;TZID=Asia/Kolkata:19861121T000000
DTEND;TZID=Asia/Kolkata:19861121T000000
DTSTAMP:20260425T042406
CREATED:20250710T115149Z
LAST-MODIFIED:20250710T115149Z
UID:10009592-532915200-532915200@www.discoverhollywood.com
SUMMARY:Mutant Olive
DESCRIPTION:– Mitch Hara%27s hysterical%2c heart-wrenching%2c triumphant solo play about an actor whose past seems to constantly seep into his present. In a manic%2c brave and hilarious performance%2c Hara offers up tales of a soul-sucking childhood%2c monstrous subs
URL:https://www.discoverhollywood.com/event/mutant-olive/
LOCATION:Lounge Theatre\, 6201 Santa Monica Blvd. https://www.plays411.com/donna or by calling (323) 206-6427\, Hollywood\, California
END:VEVENT
BEGIN:VEVENT
DTSTART;TZID=Asia/Kolkata:19861028T000000
DTEND;TZID=Asia/Kolkata:19861028T000000
DTSTAMP:20260425T042406
CREATED:20250710T115224Z
LAST-MODIFIED:20250710T115224Z
UID:10009616-530841600-530841600@www.discoverhollywood.com
SUMMARY:My Father’s A Cop
DESCRIPTION:A father and son story that would make Shakespeare blush. The one-man show traces the tumultuous relationship of Jerry Dean%2c a charismatic local Greenwich Village legend and his father%2c a decorated NYPD detective%2c their fates locked together%2c as Jerry bobs and weaves and swerves through downtown NYC clubs%2c high-end whore houses%2c Park Avenue brownstones%2c heroin dens%2c incarcerations in America%27s toughest prisons%2c rehab centers%2c iconic mental institutions %28Bellevue%29%2c star friendships%2c run-ins with gangsters%2c kDesignHTMLWords: 73   Characters: 492
URL:https://www.discoverhollywood.com/event/my-fathers-a-cop/
LOCATION:Lounge Theatre\, 6201 Santa Monica Blvd. https://www.plays411.com/donna or by calling (323) 206-6427\, Hollywood\, California
END:VEVENT
BEGIN:VEVENT
DTSTART;TZID=Asia/Kolkata:19851105T000000
DTEND;TZID=Asia/Kolkata:19851105T000000
DTSTAMP:20260425T042406
CREATED:20250710T121657Z
LAST-MODIFIED:20250716T063409Z
UID:10009973-499996800-499996800@www.discoverhollywood.com
SUMMARY:Not About Heroes
DESCRIPTION:DesignHTMLWords: 0   Characters: 0
URL:https://www.discoverhollywood.com/event/not-about-heroes/
LOCATION:Lounge Theatre\, 6201 Santa Monica Blvd. https://www.plays411.com/donna or by calling (323) 206-6427\, Hollywood\, California
END:VEVENT
BEGIN:VEVENT
DTSTART;TZID=Asia/Kolkata:19851104T000000
DTEND;TZID=Asia/Kolkata:19851104T000000
DTSTAMP:20260425T042406
CREATED:20250710T121657Z
LAST-MODIFIED:20250716T063409Z
UID:10009974-499910400-499910400@www.discoverhollywood.com
SUMMARY:NOT ABOUT HEROES
DESCRIPTION:%3cspan face%3d%22Arial%22%3e\n	%3cstrong%3e%3cem%3eNOT ABOUT HEROES%3c/em%3e%3c/strong%3e is about the intense friendship that developed between the British soldier-poets Siegfried Sassoon and Wilfred Owen. It also chronicles the development of Owen as perhaps the major British poet of the First World War.\n	%3cbr%3e\n	%26nbsp%3b\n	%3cbr%3e\n	When Wilfred Owen was sent to Craiglockhart War Hospital for Nervous Disorders near Edinburgh in June 1917%2c he was suffering from shell-shock after four months in the trenches in France.\n	%3cbr%3e\n	%26nbsp%3bDesignHTMLWords: 67   Characters: 417
URL:https://www.discoverhollywood.com/event/not-about-heroes-2/
LOCATION:Lounge Theatre\, 6201 Santa Monica Blvd. https://www.plays411.com/donna or by calling (323) 206-6427\, Hollywood\, California
END:VEVENT
BEGIN:VEVENT
DTSTART;TZID=Asia/Kolkata:19850531T000000
DTEND;TZID=Asia/Kolkata:19850531T000000
DTSTAMP:20260425T042406
CREATED:20250710T122553Z
LAST-MODIFIED:20250710T122553Z
UID:10010131-486345600-486345600@www.discoverhollywood.com
SUMMARY:One In The Chamber
DESCRIPTION:%3cbr%3eDesignHTMLWords: 0   Characters: 0
URL:https://www.discoverhollywood.com/event/one-in-the-chamber/
LOCATION:Lounge Theatre\, 6201 Santa Monica Blvd. https://www.plays411.com/donna or by calling (323) 206-6427\, Hollywood\, California
END:VEVENT
BEGIN:VEVENT
DTSTART;TZID=Asia/Kolkata:19850217T000000
DTEND;TZID=Asia/Kolkata:19850217T000000
DTSTAMP:20260425T042406
CREATED:20250710T123429Z
LAST-MODIFIED:20250710T123429Z
UID:10010234-477446400-477446400@www.discoverhollywood.com
SUMMARY:Our House
DESCRIPTION:DesignHTMLWords: 0   Characters: 0
URL:https://www.discoverhollywood.com/event/our-house/
LOCATION:Lounge Theatre\, 6201 Santa Monica Blvd. https://www.plays411.com/donna or by calling (323) 206-6427\, Hollywood\, California
END:VEVENT
BEGIN:VEVENT
DTSTART;TZID=Asia/Kolkata:19840531T000000
DTEND;TZID=Asia/Kolkata:19840531T000000
DTSTAMP:20260425T042406
CREATED:20250714T045456Z
LAST-MODIFIED:20250714T045456Z
UID:10010296-454809600-454809600@www.discoverhollywood.com
SUMMARY:Pack Up The Moon
DESCRIPTION:DesignHTMLWords: 0   Characters: 0
URL:https://www.discoverhollywood.com/event/pack-up-the-moon/
LOCATION:Lounge Theatre\, 6201 Santa Monica Blvd. https://www.plays411.com/donna or by calling (323) 206-6427\, Hollywood\, California
END:VEVENT
BEGIN:VEVENT
DTSTART;TZID=Asia/Kolkata:19820914T000000
DTEND;TZID=Asia/Kolkata:19820914T000000
DTSTAMP:20260425T042406
CREATED:20250714T093750Z
LAST-MODIFIED:20250714T093750Z
UID:10010691-400809600-400809600@www.discoverhollywood.com
SUMMARY:Rabbit Hole
DESCRIPTION:Becca and Howie%2c blindsided by a tragic accident%2c struggle to piece together what was once their picture perfect life in the suburbs. As they negotiate a return to their marriage and what is left of their family%2c they are forced to confront the depth of their loss and the new realities of life together. Winner of the 2007 Pulitzer Prize for Drama%2c Rabbit Hole is a surprisingly funny and heart-rending portrait of one family%27s tragedy and the trials of navigating the unimaginable.DesignHTMLWords: 82   Characters: 474
URL:https://www.discoverhollywood.com/event/rabbit-hole/
LOCATION:Lounge Theatre\, 6201 Santa Monica Blvd. https://www.plays411.com/donna or by calling (323) 206-6427\, Hollywood\, California
END:VEVENT
BEGIN:VEVENT
DTSTART;TZID=Asia/Kolkata:19820416T000000
DTEND;TZID=Asia/Kolkata:19820416T000000
DTSTAMP:20260425T042406
CREATED:20250714T094509Z
LAST-MODIFIED:20250714T094509Z
UID:10010842-387763200-387763200@www.discoverhollywood.com
SUMMARY:Redline
DESCRIPTION:A father%27s moment of road rage along a frigid eastern Sierra highway results in a nine car pile-up%2c splintering the relationship with his family forever.DesignHTMLWords: 25   Characters: 149
URL:https://www.discoverhollywood.com/event/redline/
LOCATION:Lounge Theatre\, 6201 Santa Monica Blvd. https://www.plays411.com/donna or by calling (323) 206-6427\, Hollywood\, California
END:VEVENT
BEGIN:VEVENT
DTSTART;TZID=Asia/Kolkata:19790611T000000
DTEND;TZID=Asia/Kolkata:19790611T000000
DTSTAMP:20260425T042406
CREATED:20250714T120307Z
LAST-MODIFIED:20250714T120307Z
UID:10011860-297907200-297907200@www.discoverhollywood.com
SUMMARY:Shaked and Speared -- The Afterplays
DESCRIPTION:DesignHTMLWords: 0   Characters: 0
URL:https://www.discoverhollywood.com/event/shaked-and-speared-the-afterplays/
LOCATION:Lounge Theatre\, 6201 Santa Monica Blvd. https://www.plays411.com/donna or by calling (323) 206-6427\, Hollywood\, California
END:VEVENT
BEGIN:VEVENT
DTSTART;TZID=Asia/Kolkata:19790505T000000
DTEND;TZID=Asia/Kolkata:19790505T000000
DTSTAMP:20260425T042406
CREATED:20250714T120434Z
LAST-MODIFIED:20250714T120434Z
UID:10011897-294710400-294710400@www.discoverhollywood.com
SUMMARY:She's history! The Most Dangerous Women in America\, Then and Now
DESCRIPTION:DesignHTMLWords: 0   Characters: 0
URL:https://www.discoverhollywood.com/event/shes-history-the-most-dangerous-women-in-america-then-and-now/
LOCATION:Lounge Theatre\, 6201 Santa Monica Blvd. https://www.plays411.com/donna or by calling (323) 206-6427\, Hollywood\, California
END:VEVENT
BEGIN:VEVENT
DTSTART;TZID=Asia/Kolkata:19790217T000000
DTEND;TZID=Asia/Kolkata:19790217T000000
DTSTAMP:20260425T042406
CREATED:20250714T121819Z
LAST-MODIFIED:20250714T121819Z
UID:10011974-288057600-288057600@www.discoverhollywood.com
SUMMARY:Siamese Sex Show
DESCRIPTION:What does the future hold for sex%3f Blending Lady Gaga-esque popstar theatricality with Blade Runner’s dark comic vision%2c the world premiere of the Siamese Sex Show%2c a hip hop musical%2c takes place in the dystopian future. The mysterious conglomerate Monocorp fabricates an epidemic condemning intimacy to profit from its “safe” new pseudo-sex product called the Love Light. At an underground %22intimacy%22 speakeasy called “The Siamese Sex Show%2c” four fallen popstars gather in collusion to plan their revenge…DesignHTMLWords: 77   Characters: 494
URL:https://www.discoverhollywood.com/event/siamese-sex-show/
LOCATION:Lounge Theatre\, 6201 Santa Monica Blvd. https://www.plays411.com/donna or by calling (323) 206-6427\, Hollywood\, California
END:VEVENT
END:VCALENDAR