BEGIN:VCALENDAR
VERSION:2.0
PRODID:-//Discover Hollywood Magazine - ECPv6.15.17//NONSGML v1.0//EN
CALSCALE:GREGORIAN
METHOD:PUBLISH
X-WR-CALNAME:Discover Hollywood Magazine
X-ORIGINAL-URL:https://www.discoverhollywood.com
X-WR-CALDESC:Events for Discover Hollywood Magazine
REFRESH-INTERVAL;VALUE=DURATION:PT1H
X-Robots-Tag:noindex
X-PUBLISHED-TTL:PT1H
BEGIN:VTIMEZONE
TZID:America/Los_Angeles
BEGIN:DAYLIGHT
TZOFFSETFROM:-0800
TZOFFSETTO:-0700
TZNAME:PDT
DTSTART:20250309T100000
END:DAYLIGHT
BEGIN:STANDARD
TZOFFSETFROM:-0700
TZOFFSETTO:-0800
TZNAME:PST
DTSTART:20251102T090000
END:STANDARD
BEGIN:DAYLIGHT
TZOFFSETFROM:-0800
TZOFFSETTO:-0700
TZNAME:PDT
DTSTART:20260308T100000
END:DAYLIGHT
BEGIN:STANDARD
TZOFFSETFROM:-0700
TZOFFSETTO:-0800
TZNAME:PST
DTSTART:20261101T090000
END:STANDARD
BEGIN:DAYLIGHT
TZOFFSETFROM:-0800
TZOFFSETTO:-0700
TZNAME:PDT
DTSTART:20270314T100000
END:DAYLIGHT
BEGIN:STANDARD
TZOFFSETFROM:-0700
TZOFFSETTO:-0800
TZNAME:PST
DTSTART:20271107T090000
END:STANDARD
END:VTIMEZONE
BEGIN:VTIMEZONE
TZID:Asia/Kolkata
BEGIN:STANDARD
TZOFFSETFROM:+0530
TZOFFSETTO:+0530
TZNAME:IST
DTSTART:20240101T000000
END:STANDARD
END:VTIMEZONE
BEGIN:VEVENT
DTSTART;TZID=America/Los_Angeles:20260321T190000
DTEND;TZID=America/Los_Angeles:20260321T220000
DTSTAMP:20260422T083158
CREATED:20260222T024426Z
LAST-MODIFIED:20260222T024426Z
UID:10029545-1774119600-1774130400@www.discoverhollywood.com
SUMMARY:ICONS IN BLOOM
DESCRIPTION:Step into a vibrant celebration of contemporary culture with the bold and energetic works of internationally renowned pop artist Burton Morris. Known for his radiant black outlines and vivid\, kinetic compositions\, Morris transforms the ordinary into the extraordinary\, inviting visitors into a world of “Pop Positive” energy. \nThe vibe at Mash Gallery is one of pure\, unadulterated joy. Morris’s signature “destruct” style captures the pulse of modern life with a blend of nostalgia and forward-thinking optimism. His paintings—featuring iconic symbols like steaming coffee cups\, electric guitars\, and dancing popcorn boxes—vibrate with a sense of clarity and high-octane style that is both sophisticated and incredibly fun. \nAs an artist whose work has graced everything from the Academy Awards and the Olympic Games to the set of the legendary sitcom Friends\, Morris brings a storied legacy to the gallery. His fascination with icons and pictorial language\, rooted in a childhood love for comic book heroes\, results in larger-than-life acrylics that communicate a message of hope in its most simplistic\, powerful form. \nWhether you are a long-time collector of his work or a newcomer to the pop art scene\, this exhibition offers a welcoming space to experience the rhythm of our times. Join us for a visual journey that celebrates the beauty of everyday moments and the infectious power of a positive vision.
URL:https://www.discoverhollywood.com/event/icons-in-bloom/
LOCATION:Mash Gallery\, 812 N. La Cienega Blvd\, Los Angeles\, CA\, 90046\, United States
CATEGORIES:Gallery
END:VEVENT
BEGIN:VEVENT
DTSTART;TZID=Asia/Kolkata:20260117T190000
DTEND;TZID=Asia/Kolkata:20260117T220000
DTSTAMP:20260422T083158
CREATED:20260115T085718Z
LAST-MODIFIED:20260115T085718Z
UID:10028701-1768676400-1768687200@www.discoverhollywood.com
SUMMARY:Rhythmic Contours at MASH Gallery
DESCRIPTION:A New Rhythm: Rhythmic Contours at MASH Gallery\nWEST HOLLYWOOD\, CA – MASH Gallery welcomes the new year with the opening of Rhythmic Contours\, a compelling group exhibition that explores the fundamental power of the line. The exhibition kicks off with an opening night reception on Saturday\, January 17\, 2026\, from 7:00 PM to 10:00 PM\, and will remain on view through February 14\, 2026. \nConceived by artist and founder Haleh Mashian\, MASH Gallery serves as a dynamic space for independent curators and bold thematic shows. In Rhythmic Contours\, the gallery is transformed into an immersive environment where the line is treated as a living\, generative force—shaping rhythm\, movement\, and spatial language across painting\, sculpture\, and mixed media. \nThe Power of the Gesture\nWhile historical traditions often viewed the line as a tool for discipline and order\, the artists in this exhibition approach it as fluid and responsive. The works on display demonstrate how a single gesture can fracture\, repeat\, or dissolve to register tension and time. Featured artists include: \n\n\nTina Bluefield: Known for works like Heart Waves\, which use rhythmic patterns to connect landscape and memory. \n\n\nZack Smithey: His piece Edge (Yellow) exemplifies how line can serve as both a structural boundary and a vibrant\, energetic presence. \n\n\nAdditional Artists: The exhibition features an eclectic roster including Anthony Liggins\, Behnaz Manzavi\, Bryan Ricci\, Daniel Torre\, Itaewon\, Piers Henry\, Rod Lanthim\, Ron Reihel\, Salvatore Mateo\, and Thomas Piekunka. \n\n\nA Spatial Experience\nThe exhibition is designed to guide the viewer’s eye through the room\, creating a “visual tempo” that fluctuates between moments of quiet pause and high-energy flow. For collectors and designers\, these works function as anchors that bring structure to a space without rigidity\, making the gallery an essential stop for those seeking art that activates its environment.
URL:https://www.discoverhollywood.com/event/rhythmic-contours-at-mash-gallery/
LOCATION:Mash Gallery\, 812 N. La Cienega Blvd\, Los Angeles\, CA\, 90046\, United States
END:VEVENT
BEGIN:VEVENT
DTSTART;TZID=Asia/Kolkata:20251011T190000
DTEND;TZID=Asia/Kolkata:20251011T230000
DTSTAMP:20260422T083158
CREATED:20251006T193131Z
LAST-MODIFIED:20251006T193131Z
UID:10021415-1760209200-1760223600@www.discoverhollywood.com
SUMMARY:The Delight Within 
DESCRIPTION:The Delight Within brings together an extraordinary roster of contemporary artists—Justin Price\, Marcello Petisci\, Will Binder\, Elizabeth Older\, Tim Fowler\, Philip Letsu\, Maico Camilo and Haleh Mashian-in a vibrant exploration of joy\, identity\, history\, and the human impulse to \nfind beauty amid complexity.
URL:https://www.discoverhollywood.com/event/the-delight-within/
LOCATION:Mash Gallery\, 812 N. La Cienega Blvd\, Los Angeles\, CA\, 90046\, United States
END:VEVENT
END:VCALENDAR