BEGIN:VCALENDAR
VERSION:2.0
PRODID:-//Discover Hollywood Magazine - ECPv6.15.17//NONSGML v1.0//EN
CALSCALE:GREGORIAN
METHOD:PUBLISH
X-WR-CALNAME:Discover Hollywood Magazine
X-ORIGINAL-URL:https://www.discoverhollywood.com
X-WR-CALDESC:Events for Discover Hollywood Magazine
REFRESH-INTERVAL;VALUE=DURATION:PT1H
X-Robots-Tag:noindex
X-PUBLISHED-TTL:PT1H
BEGIN:VTIMEZONE
TZID:Asia/Kolkata
BEGIN:STANDARD
TZOFFSETFROM:+0530
TZOFFSETTO:+0530
TZNAME:IST
DTSTART:19690101T000000
END:STANDARD
END:VTIMEZONE
BEGIN:VEVENT
DTSTART;TZID=Asia/Kolkata:20210526T000000
DTEND;TZID=Asia/Kolkata:20210526T000000
DTSTAMP:20260422T140003
CREATED:20250630T094434Z
LAST-MODIFIED:20250630T094434Z
UID:10001341-1621987200-1621987200@www.discoverhollywood.com
SUMMARY:A Dream at the End of Time
DESCRIPTION:A Lovecraft musical part of Hollywood Fringe Festival is a fantasy musical with a lush score%3b a world premiere%3cspan%3e%3c/span%3e\n%3cdiv%3eTickets%3a https%3a//www.hollywoodfringe.org/projects/7485%3c/div%3eDesignHTMLWords: 21   Characters: 160
URL:https://www.discoverhollywood.com/event/a-dream-at-the-end-of-time-2/
LOCATION:McCadden Place Theatre\, 1157 N. McCadden Pl.\, Hollywood\, California
END:VEVENT
BEGIN:VEVENT
DTSTART;TZID=Asia/Kolkata:20201031T000000
DTEND;TZID=Asia/Kolkata:20201031T000000
DTSTAMP:20260422T140003
CREATED:20250630T095702Z
LAST-MODIFIED:20250630T095702Z
UID:10001410-1604102400-1604102400@www.discoverhollywood.com
SUMMARY:A Political Thriller
DESCRIPTION:DesignHTMLWords: 0   Characters: 0
URL:https://www.discoverhollywood.com/event/a-political-thriller-2/
LOCATION:McCadden Place Theatre\, 1157 N. McCadden Pl.\, Hollywood\, California
END:VEVENT
BEGIN:VEVENT
DTSTART;TZID=Asia/Kolkata:20140615T000000
DTEND;TZID=Asia/Kolkata:20140615T000000
DTSTAMP:20260422T140003
CREATED:20250630T114605Z
LAST-MODIFIED:20250630T114605Z
UID:10002266-1402790400-1402790400@www.discoverhollywood.com
SUMMARY:As Is
DESCRIPTION:DesignHTMLWords: 0   Characters: 0
URL:https://www.discoverhollywood.com/event/as-is/
LOCATION:McCadden Place Theatre\, 1157 N. McCadden Pl.\, Hollywood\, California
END:VEVENT
BEGIN:VEVENT
DTSTART;TZID=Asia/Kolkata:20120715T000000
DTEND;TZID=Asia/Kolkata:20120715T000000
DTSTAMP:20260422T140003
CREATED:20250630T122227Z
LAST-MODIFIED:20250630T122227Z
UID:10002616-1342310400-1342310400@www.discoverhollywood.com
SUMMARY:Becoming Human
DESCRIPTION:After decades of mommy-drama%2c up and coming California therapist Nicki Joy finds herself back on the couch begging for shortcuts to achieve closure with the powerful%2c intelligent%2c funny%2c alcoholic%2c narcissistic woman who birthed her. This new dark comedy by celebrity therapist Dr. Nicki Joy Monti unapologetically pulls from the her own gut-wrenching past to weave an inspiring family drama with plenty of sexual exploits%2c fury%2c heartbreak and healing.DesignHTMLWords: 68   Characters: 441
URL:https://www.discoverhollywood.com/event/becoming-human/
LOCATION:McCadden Place Theatre\, 1157 N. McCadden Pl.\, Hollywood\, California
END:VEVENT
BEGIN:VEVENT
DTSTART;TZID=Asia/Kolkata:19990728T000000
DTEND;TZID=Asia/Kolkata:19990728T000000
DTSTAMP:20260422T140003
CREATED:20250701T125955Z
LAST-MODIFIED:20250701T125955Z
UID:10004875-933120000-933120000@www.discoverhollywood.com
SUMMARY:Dry Hump Comedy
DESCRIPTION:DesignHTMLWords: 0   Characters: 0
URL:https://www.discoverhollywood.com/event/dry-hump-comedy/
LOCATION:McCadden Place Theatre\, 1157 N. McCadden Pl.\, Hollywood\, California
END:VEVENT
BEGIN:VEVENT
DTSTART;TZID=Asia/Kolkata:19990413T000000
DTEND;TZID=Asia/Kolkata:19990413T000000
DTSTAMP:20260422T140003
CREATED:20250701T132442Z
LAST-MODIFIED:20250702T044156Z
UID:10004955-923961600-923961600@www.discoverhollywood.com
SUMMARY:Earhart: More Than a F*cking Mystery
DESCRIPTION:The new musical Earhart%3a More Than A F*cking Mystery at the Hollywood Fringe Festival in June brings the story of this smart%2c scrappy and relentlessly ambitious woman to life with an all-female cast and a selection of catchy original songs. %3ca href%3d%22http%3a//facebook.com/ameliaearhartthemusical%22 target%3d%22_blank%22%3ewww.facebook.com/ameliaearhartthemusical.%3c/a%3eDesignHTMLWords: 41   Characters: 275
URL:https://www.discoverhollywood.com/event/earhart-more-than-a-fcking-mystery/
LOCATION:McCadden Place Theatre\, 1157 N. McCadden Pl.\, Hollywood\, California
END:VEVENT
BEGIN:VEVENT
DTSTART;TZID=Asia/Kolkata:19990404T000000
DTEND;TZID=Asia/Kolkata:19990404T000000
DTSTAMP:20260422T140003
CREATED:20250701T132844Z
LAST-MODIFIED:20250702T044226Z
UID:10004964-923184000-923184000@www.discoverhollywood.com
SUMMARY:Earworm
DESCRIPTION:Welcome to William’s Earworm Meetings%2c a support group for those plagued by a catchy tune that just won’t let loose. Every week the members come together to help each other decipher the reasons why they each have their unique songs stuck with them. It’s at these meetings that Chris meets Rachel%2c and they quickly discover that the key to alleviating their Earworms%2c may just lie in each other. %3ca href%3d%22http%3a//www.hollywoodfringe.org/projects/4991%3ftab%22 target%3d%22_blank%22%3ewww.hollywoodfringe.org/projects/4991%3c/a%3eDesignHTMLWords: 69   Characters: 424
URL:https://www.discoverhollywood.com/event/earworm/
LOCATION:McCadden Place Theatre\, 1157 N. McCadden Pl.\, Hollywood\, California
END:VEVENT
BEGIN:VEVENT
DTSTART;TZID=Asia/Kolkata:19971218T000000
DTEND;TZID=Asia/Kolkata:19971218T000000
DTSTAMP:20260422T140003
CREATED:20250702T060117Z
LAST-MODIFIED:20250702T060117Z
UID:10005436-882403200-882403200@www.discoverhollywood.com
SUMMARY:Feelings
DESCRIPTION:DesignHTMLWords: 0   Characters: 0
URL:https://www.discoverhollywood.com/event/feelings/
LOCATION:McCadden Place Theatre\, 1157 N. McCadden Pl.\, Hollywood\, California
END:VEVENT
BEGIN:VEVENT
DTSTART;TZID=Asia/Kolkata:19931023T000000
DTEND;TZID=Asia/Kolkata:19931023T000000
DTSTAMP:20260422T140003
CREATED:20250703T105744Z
LAST-MODIFIED:20250703T105744Z
UID:10006664-751334400-751334400@www.discoverhollywood.com
SUMMARY:I Never Sang for My Father
DESCRIPTION:DesignHTMLWords: 0   Characters: 0
URL:https://www.discoverhollywood.com/event/i-never-sang-for-my-father/
LOCATION:McCadden Place Theatre\, 1157 N. McCadden Pl.\, Hollywood\, California
END:VEVENT
BEGIN:VEVENT
DTSTART;TZID=Asia/Kolkata:19910611T000000
DTEND;TZID=Asia/Kolkata:19910611T000000
DTSTAMP:20260422T140003
CREATED:20250703T121217Z
LAST-MODIFIED:20250703T121217Z
UID:10007529-676598400-676598400@www.discoverhollywood.com
SUMMARY:JonBenet Ramsey - The Musical
DESCRIPTION:Takes back to the mid-90%27s and reopens the case that rocked Americawhen the six year old pageant queen was brutally murdered. Join us as we turn the widely believed overbearing pageant mom theory into a musical hit. 12 member cast.%26nbsp%3b Comedy- Dark Humor – Dramedy – musical – mystery – parody\n%3cbr%3eDesignHTMLWords: 47   Characters: 280
URL:https://www.discoverhollywood.com/event/jonbenet-ramsey-the-musical/
LOCATION:McCadden Place Theatre\, 1157 N. McCadden Pl.\, Hollywood\, California
END:VEVENT
BEGIN:VEVENT
DTSTART;TZID=Asia/Kolkata:19910216T000000
DTEND;TZID=Asia/Kolkata:19910216T000000
DTSTAMP:20260422T140003
CREATED:20250703T122038Z
LAST-MODIFIED:20250703T122038Z
UID:10007644-666662400-666662400@www.discoverhollywood.com
SUMMARY:Julius Caesar
DESCRIPTION:DesignHTMLWords: 0   Characters: 0
URL:https://www.discoverhollywood.com/event/julius-caesar/
LOCATION:McCadden Place Theatre\, 1157 N. McCadden Pl.\, Hollywood\, California
END:VEVENT
BEGIN:VEVENT
DTSTART;TZID=Asia/Kolkata:19901103T000000
DTEND;TZID=Asia/Kolkata:19901103T000000
DTSTAMP:20260422T140003
CREATED:20250703T122500Z
LAST-MODIFIED:20250703T122500Z
UID:10007749-657590400-657590400@www.discoverhollywood.com
SUMMARY:Kataki
DESCRIPTION:DesignHTMLWords: 0   Characters: 0
URL:https://www.discoverhollywood.com/event/kataki/
LOCATION:McCadden Place Theatre\, 1157 N. McCadden Pl.\, Hollywood\, California
END:VEVENT
BEGIN:VEVENT
DTSTART;TZID=Asia/Kolkata:19900423T000000
DTEND;TZID=Asia/Kolkata:19900423T000000
DTSTAMP:20260422T140003
CREATED:20250709T094003Z
LAST-MODIFIED:20250709T094003Z
UID:10008603-640828800-640828800@www.discoverhollywood.com
SUMMARY:Lockout
DESCRIPTION:%3cbr%3eDesignHTMLWords: 0   Characters: 0
URL:https://www.discoverhollywood.com/event/lockout/
LOCATION:McCadden Place Theatre\, 1157 N. McCadden Pl.\, Hollywood\, California
END:VEVENT
BEGIN:VEVENT
DTSTART;TZID=Asia/Kolkata:19851023T000000
DTEND;TZID=Asia/Kolkata:19851023T000000
DTSTAMP:20260422T140003
CREATED:20250710T121708Z
LAST-MODIFIED:20250716T063459Z
UID:10009986-498873600-498873600@www.discoverhollywood.com
SUMMARY:Nude/Naked
DESCRIPTION:Lightning Rod Theater presents a World Premiere Production of Paul Hoan Zeidler%27s award winning playDesignHTMLWords: 15   Characters: 99
URL:https://www.discoverhollywood.com/event/nude-naked/
LOCATION:McCadden Place Theatre\, 1157 N. McCadden Pl.\, Hollywood\, California
END:VEVENT
BEGIN:VEVENT
DTSTART;TZID=Asia/Kolkata:19820517T000000
DTEND;TZID=Asia/Kolkata:19820517T000000
DTSTAMP:20260422T140003
CREATED:20250714T094409Z
LAST-MODIFIED:20250714T094409Z
UID:10010811-390441600-390441600@www.discoverhollywood.com
SUMMARY:Reborning By Zayd Dohrn
DESCRIPTION:%3cbr%3eDesignHTMLWords: 0   Characters: 0
URL:https://www.discoverhollywood.com/event/reborning-by-zayd-dohrn/
LOCATION:McCadden Place Theatre\, 1157 N. McCadden Pl.\, Hollywood\, California
END:VEVENT
BEGIN:VEVENT
DTSTART;TZID=Asia/Kolkata:19810131T000000
DTEND;TZID=Asia/Kolkata:19810131T000000
DTSTAMP:20260422T140003
CREATED:20250714T103028Z
LAST-MODIFIED:20250714T103028Z
UID:10011082-349747200-349747200@www.discoverhollywood.com
SUMMARY:rock 'n' Roll Heretic
DESCRIPTION:World Premiere. A road play and demi-musical. Hollywood Fringe Fetival selection. Estimated running time%3a 105 minutes%3b Age 18 and up%3cdiv%3eTickets%3a https%3a//hollywoodfringe.org/projects/7400%3c/div%3eDesignHTMLWords: 22   Characters: 174
URL:https://www.discoverhollywood.com/event/rock-n-roll-heretic/
LOCATION:McCadden Place Theatre\, 1157 N. McCadden Pl.\, Hollywood\, California
END:VEVENT
BEGIN:VEVENT
DTSTART;TZID=Asia/Kolkata:19790412T000000
DTEND;TZID=Asia/Kolkata:19790412T000000
DTSTAMP:20260422T140003
CREATED:20250714T120520Z
LAST-MODIFIED:20250714T120520Z
UID:10011920-292723200-292723200@www.discoverhollywood.com
SUMMARY:Shine Darkly\, Illyria
DESCRIPTION:%3cp%3e%3ci%3e%26nbsp%3b%26nbsp%3b%26nbsp%3b%26nbsp%3b%26nbsp%3b%26nbsp%3b%26nbsp%3b%26nbsp%3b%26nbsp%3b%26nbsp%3b%26nbsp%3b %3c/i%3eUsing Shakespeare%27s\n	%3ci%3eTwelfth Night%3c/i%3e as a jumping-off point%2c\n	%3ci%3eShine Darkly%2c Illyria %3c/i%3eis more of a continuation than a sequel. After the multiple weddings and happy ending of\n	%3ci%3eTweflth Night%2c %3c/i%3ewhat happens to the characters next%3f\n%3c/p%3e\n%3cp%3e%26nbsp%3b%26nbsp%3b%26nbsp%3b%26nbsp%3b%26nbsp%3b%26nbsp%3b%26nbsp%3b%26nbsp%3b%26nbsp%3b%26nbsp%3b%26nbsp%3b Illyria is depicted as an island paradise%2c where inhabitants do reverence to the Moon and revel at nightlyDesignHTMLWords: 53   Characters: 332
URL:https://www.discoverhollywood.com/event/shine-darkly-illyria/
LOCATION:McCadden Place Theatre\, 1157 N. McCadden Pl.\, Hollywood\, California
END:VEVENT
BEGIN:VEVENT
DTSTART;TZID=Asia/Kolkata:19780217T000000
DTEND;TZID=Asia/Kolkata:19780217T000000
DTSTAMP:20260422T140003
CREATED:20250715T083159Z
LAST-MODIFIED:20250715T083159Z
UID:10012340-256521600-256521600@www.discoverhollywood.com
SUMMARY:Sparkles and the Black Weeping Woman
DESCRIPTION:%3cp%3eSparkles%2c a young Latina restaurant worker%2c lives with her impoverished and quirky mother Luisa in an old Highland Park house which moves downhill whenever a mortgage payment is missed. Set to marry her wealthy boyfriend Sang%2c Sparkles is not yet ready to settle down%2c even if such a union would bring security to her and her mother. Little does Sparkles know that Sang%27s family hides a dark secret%2c and the legendary woman that Sparkles turns to for escape%2c La Llorona%2c has a mysterious and dangerous past.%3c%21DesignHTMLWords: 86   Characters: 496
URL:https://www.discoverhollywood.com/event/sparkles-and-the-black-weeping-woman/
LOCATION:McCadden Place Theatre\, 1157 N. McCadden Pl.\, Hollywood\, California
END:VEVENT
BEGIN:VEVENT
DTSTART;TZID=Asia/Kolkata:19731218T000000
DTEND;TZID=Asia/Kolkata:19731218T000000
DTSTAMP:20260422T140003
CREATED:20250715T124836Z
LAST-MODIFIED:20250715T124836Z
UID:10013677-125020800-125020800@www.discoverhollywood.com
SUMMARY:The Lost Virginity Tour
DESCRIPTION:%3cp class%3d%22MsoNormal%22%3e%3cspan%3eRemember your first time%3f%26nbsp%3b This adventurous and funny road trip through memories of leaving adolescence behind%2c%26nbsp%3bconjures%26nbsp%3bup the%26nbsp%3bchoices we make that shape our future.%3c/span%3e\n	%3cspan%3e%3c/span%3e\n%3c/p%3eDesignHTMLWords: 26   Characters: 163
URL:https://www.discoverhollywood.com/event/the-lost-virginity-tour/
LOCATION:McCadden Place Theatre\, 1157 N. McCadden Pl.\, Hollywood\, California
END:VEVENT
BEGIN:VEVENT
DTSTART;TZID=Asia/Kolkata:20260422T140003
DTEND;TZID=Asia/Kolkata:20260422T140003
DTSTAMP:20260422T140003
CREATED:20250716T084141Z
LAST-MODIFIED:20250716T084141Z
UID:10015448-0-0@www.discoverhollywood.com
SUMMARY:Women\, Food and Rock 'n Roll
DESCRIPTION:DesignHTMLWords: 0   Characters: 0
URL:https://www.discoverhollywood.com/event/women-food-and-rock-n-roll/
LOCATION:McCadden Place Theatre\, 1157 N. McCadden Pl.\, Hollywood\, California
END:VEVENT
BEGIN:VEVENT
DTSTART;TZID=Asia/Kolkata:20260422T140003
DTEND;TZID=Asia/Kolkata:20260422T140003
DTSTAMP:20260422T140003
CREATED:20250716T084039Z
LAST-MODIFIED:20250716T091327Z
UID:10015424-0-0@www.discoverhollywood.com
SUMMARY:Wolf Cub
DESCRIPTION:In WOLF CUB%2c we follow Maxine as she makes the painful transformation from child to adult%2c from human to wolf in a feral murderous world where no one is to be trusted. Iran-Contra%2c Latin America%2c The Crack Explosion%2c the Los Angeles Uprising%2c Earthquakes and Metamorphoses- if you are wondering how America and the world came to this dangerous impasse%2c this show attempts to provide some answers – or at least frame the question…DesignHTMLWords: 72   Characters: 418
URL:https://www.discoverhollywood.com/event/wolf-cub/
LOCATION:McCadden Place Theatre\, 1157 N. McCadden Pl.\, Hollywood\, California
END:VEVENT
BEGIN:VEVENT
DTSTART;TZID=Asia/Kolkata:20260422T140003
DTEND;TZID=Asia/Kolkata:20260422T140003
DTSTAMP:20260422T140003
CREATED:20250709T081845Z
LAST-MODIFIED:20250709T081845Z
UID:10008122-0-0@www.discoverhollywood.com
SUMMARY:La Haciona Series
DESCRIPTION:DesignHTMLWords: 0   Characters: 0
URL:https://www.discoverhollywood.com/event/la-haciona-series/
LOCATION:McCadden Place Theatre\, 1157 N. McCadden Pl.\, Hollywood\, California
END:VEVENT
END:VCALENDAR