BEGIN:VCALENDAR
VERSION:2.0
PRODID:-//Discover Hollywood Magazine - ECPv6.15.20//NONSGML v1.0//EN
CALSCALE:GREGORIAN
METHOD:PUBLISH
X-ORIGINAL-URL:https://www.discoverhollywood.com
X-WR-CALDESC:Events for Discover Hollywood Magazine
REFRESH-INTERVAL;VALUE=DURATION:PT1H
X-Robots-Tag:noindex
X-PUBLISHED-TTL:PT1H
BEGIN:VTIMEZONE
TZID:Asia/Kolkata
BEGIN:STANDARD
TZOFFSETFROM:+0530
TZOFFSETTO:+0530
TZNAME:IST
DTSTART:19690101T000000
END:STANDARD
END:VTIMEZONE
BEGIN:VEVENT
DTSTART;TZID=Asia/Kolkata:19710930T000000
DTEND;TZID=Asia/Kolkata:19710930T000000
DTSTAMP:20260425T044606
CREATED:20250716T065219Z
LAST-MODIFIED:20250716T065219Z
UID:10014482-55036800-55036800@www.discoverhollywood.com
SUMMARY:Tim Berresheim: Aus Alter Wurzel Neue Kraft
DESCRIPTION:%3cdiv align%3d%22center%22%3e\n	%3cimg class%3d%22%22 alt%3d%22%22 src%3d%22images/Tim-Berresheim8797.jpg%22 height%3d%22518%22 width%3d%22400%22%3e\n	%3cbr%3e\n%3c/div%3eDesignHTMLWords: 0   Characters: 0
URL:https://www.discoverhollywood.com/event/tim-berresheim-aus-alter-wurzel-neue-kraft/
LOCATION:Meliksetian | Briggs\, 313 N. Fairfax Ave.\, West Hollywood\, California\, 90036.0
END:VEVENT
BEGIN:VEVENT
DTSTART;TZID=Asia/Kolkata:19710929T000000
DTEND;TZID=Asia/Kolkata:19710929T000000
DTSTAMP:20260425T044606
CREATED:20250716T065219Z
LAST-MODIFIED:20250716T065219Z
UID:10014483-54950400-54950400@www.discoverhollywood.com
SUMMARY:Tim Berresheim: Aus Alter Wurzel Neue Kraft
DESCRIPTION:%3cdiv align%3d%22center%22%3e\n	%3cimg class%3d%22%22 alt%3d%22%22 src%3d%22images/Tim-Berresheim8797.jpg%22 height%3d%22518%22 width%3d%22400%22%3e\n%3c/div%3eDesignHTMLWords: 0   Characters: 0
URL:https://www.discoverhollywood.com/event/tim-berresheim-aus-alter-wurzel-neue-kraft-2/
LOCATION:Meliksetian | Briggs\, 313 N. Fairfax Ave.\, West Hollywood\, California\, 90036.0
END:VEVENT
BEGIN:VEVENT
DTSTART;TZID=Asia/Kolkata:20260425T044606
DTEND;TZID=Asia/Kolkata:20260425T044606
DTSTAMP:20260425T044606
CREATED:20250716T080621Z
LAST-MODIFIED:20250716T080621Z
UID:10014778-0-0@www.discoverhollywood.com
SUMMARY:Twilight & Lowlifes
DESCRIPTION:%3cbr%3eDesignHTMLWords: 0   Characters: 0
URL:https://www.discoverhollywood.com/event/twilight-lowlifes/
LOCATION:Meliksetian | Briggs\, 313 N. Fairfax Ave.\, West Hollywood\, California\, 90036.0
END:VEVENT
END:VCALENDAR