BEGIN:VCALENDAR
VERSION:2.0
PRODID:-//Discover Hollywood Magazine - ECPv6.15.17//NONSGML v1.0//EN
CALSCALE:GREGORIAN
METHOD:PUBLISH
X-ORIGINAL-URL:https://www.discoverhollywood.com
X-WR-CALDESC:Events for Discover Hollywood Magazine
REFRESH-INTERVAL;VALUE=DURATION:PT1H
X-Robots-Tag:noindex
X-PUBLISHED-TTL:PT1H
BEGIN:VTIMEZONE
TZID:Asia/Kolkata
BEGIN:STANDARD
TZOFFSETFROM:+0530
TZOFFSETTO:+0530
TZNAME:IST
DTSTART:19690101T000000
END:STANDARD
END:VTIMEZONE
BEGIN:VEVENT
DTSTART;TZID=Asia/Kolkata:19950904T000000
DTEND;TZID=Asia/Kolkata:19950904T000000
DTSTAMP:20260422T204051
CREATED:20250703T084332Z
LAST-MODIFIED:20250703T084332Z
UID:10006268-810172800-810172800@www.discoverhollywood.com
SUMMARY:Green Day's American Idiot: The Musical
DESCRIPTION:%3cem%3e%3cb%3e%3ca target%3d%22_blank%22 href%3d%22http%3a//www.domatheatre.com/%22%3eGreen Day%27s American Idiot.%3c/a%3e%3c/b%3e%3c/em%3e A critical smash on Broadway%2c in London and on tour%2c\n%3cem%3eAmerican Idiot %3c/em%3etells the story of three lifelong friends who are forced to choose between their dreams and the safety of suburbia. Featuring music of Green Day and lyrics of lead singer Billie Joe Armstrong including %22Boulevard of Broken Dreams%2c%22 %2221 Guns%2c%22 %22Wake Me Up When September Ends%2c%22 %22Holiday%22 and the blockbuster title track%2c %22American IDesignHTMLWords: 70   Characters: 409
URL:https://www.discoverhollywood.com/event/green-days-american-idiot-the-musical/
LOCATION:MET Theatre\, 1089 N. Oxford Ave.\, Hollywood\, California
END:VEVENT
BEGIN:VEVENT
DTSTART;TZID=Asia/Kolkata:19940311T000000
DTEND;TZID=Asia/Kolkata:19940311T000000
DTSTAMP:20260422T204051
CREATED:20250703T100023Z
LAST-MODIFIED:20250703T100023Z
UID:10006525-763344000-763344000@www.discoverhollywood.com
SUMMARY:Honky
DESCRIPTION:%3cstrong%3e%3cbig%3e\n		When a young African American is shot for a pair of basketball shoes%2c sales triple among white teens. Are ghetto-glorifying commercials to blame for the violence%2c or are they just part of a smart%2c targeted marketing plan%3f Luckily%2c there%27s a new pill for sale%2c guaranteed to cure racism. Taking a satiric look at the symbiotic relationship between bigotry and commercialism%2c %3cem%3eHonky%3c/em%3e is a comedy about navigating the murky waters of race%2c rhetoric and athletic footwear.\n	%3c/big%3e%3c/strong%3eDesignHTMLWords: 75   Characters: 453
URL:https://www.discoverhollywood.com/event/honky/
LOCATION:MET Theatre\, 1089 N. Oxford Ave.\, Hollywood\, California
END:VEVENT
BEGIN:VEVENT
DTSTART;TZID=Asia/Kolkata:19921016T000000
DTEND;TZID=Asia/Kolkata:19921016T000000
DTSTAMP:20260422T204051
CREATED:20250703T111541Z
LAST-MODIFIED:20250703T111541Z
UID:10007036-719193600-719193600@www.discoverhollywood.com
SUMMARY:Jacques Brel is Alive and Well and Living in Paris
DESCRIPTION:DesignHTMLWords: 0   Characters: 0
URL:https://www.discoverhollywood.com/event/jacques-brel-is-alive-and-well-and-living-in-paris/
LOCATION:MET Theatre\, 1089 N. Oxford Ave.\, Hollywood\, California
END:VEVENT
BEGIN:VEVENT
DTSTART;TZID=Asia/Kolkata:19920310T000000
DTEND;TZID=Asia/Kolkata:19920310T000000
DTSTAMP:20260422T204051
CREATED:20250703T115115Z
LAST-MODIFIED:20250703T115115Z
UID:10007256-700185600-700185600@www.discoverhollywood.com
SUMMARY:Jekyll & Hyde\, The Musical
DESCRIPTION:DesignHTMLWords: 0   Characters: 0
URL:https://www.discoverhollywood.com/event/jekyll-hyde-the-musical/
LOCATION:MET Theatre\, 1089 N. Oxford Ave.\, Hollywood\, California
END:VEVENT
BEGIN:VEVENT
DTSTART;TZID=Asia/Kolkata:19920309T000000
DTEND;TZID=Asia/Kolkata:19920309T000000
DTSTAMP:20260422T204051
CREATED:20250703T115116Z
LAST-MODIFIED:20250703T115116Z
UID:10007257-700099200-700099200@www.discoverhollywood.com
SUMMARY:Jekyll and Hyde\, The Musical
DESCRIPTION:DesignHTMLWords: 0   Characters: 0
URL:https://www.discoverhollywood.com/event/jekyll-and-hyde-the-musical/
LOCATION:MET Theatre\, 1089 N. Oxford Ave.\, Hollywood\, California
END:VEVENT
BEGIN:VEVENT
DTSTART;TZID=Asia/Kolkata:19920106T000000
DTEND;TZID=Asia/Kolkata:19920106T000000
DTSTAMP:20260422T204051
CREATED:20250703T115908Z
LAST-MODIFIED:20250703T115908Z
UID:10007320-694656000-694656000@www.discoverhollywood.com
SUMMARY:Jesus Christ Superstar
DESCRIPTION:– The ground-breaking rock opera by Andrew Lloyd Weber and Tim Race is the story of the last seven days in the life of Jesus of Nazareth – told through the eyes of his betrayer%2c Judas Iscariot. As Jesus%27 radical teachings become increasingly embraced
URL:https://www.discoverhollywood.com/event/jesus-christ-superstar/
LOCATION:MET Theatre\, 1089 N. Oxford Ave.\, Hollywood\, California
END:VEVENT
BEGIN:VEVENT
DTSTART;TZID=Asia/Kolkata:19861127T000000
DTEND;TZID=Asia/Kolkata:19861127T000000
DTSTAMP:20260422T204051
CREATED:20250710T101941Z
LAST-MODIFIED:20250710T101941Z
UID:10009586-533433600-533433600@www.discoverhollywood.com
SUMMARY:Musical Theatre 2010 Benefit Concert
DESCRIPTION:DesignHTMLWords: 0   Characters: 0
URL:https://www.discoverhollywood.com/event/musical-theatre-2010-benefit-concert/
LOCATION:MET Theatre\, 1089 N. Oxford Ave.\, Hollywood\, California
END:VEVENT
BEGIN:VEVENT
DTSTART;TZID=Asia/Kolkata:19860112T000000
DTEND;TZID=Asia/Kolkata:19860112T000000
DTSTAMP:20260422T204051
CREATED:20250710T121141Z
LAST-MODIFIED:20250716T063138Z
UID:10009905-505872000-505872000@www.discoverhollywood.com
SUMMARY:Nine!
DESCRIPTION:DesignHTMLWords: 0   Characters: 0
URL:https://www.discoverhollywood.com/event/nine/
LOCATION:MET Theatre\, 1089 N. Oxford Ave.\, Hollywood\, California
END:VEVENT
BEGIN:VEVENT
DTSTART;TZID=Asia/Kolkata:19850809T000000
DTEND;TZID=Asia/Kolkata:19850809T000000
DTSTAMP:20260422T204051
CREATED:20250710T122134Z
LAST-MODIFIED:20250716T064419Z
UID:10010061-492393600-492393600@www.discoverhollywood.com
SUMMARY:Oklahoma!
DESCRIPTION:DesignHTMLWords: 0   Characters: 0
URL:https://www.discoverhollywood.com/event/oklahoma/
LOCATION:MET Theatre\, 1089 N. Oxford Ave.\, Hollywood\, California
END:VEVENT
BEGIN:VEVENT
DTSTART;TZID=Asia/Kolkata:19850630T000000
DTEND;TZID=Asia/Kolkata:19850630T000000
DTSTAMP:20260422T204051
CREATED:20250710T122441Z
LAST-MODIFIED:20250716T064820Z
UID:10010101-488937600-488937600@www.discoverhollywood.com
SUMMARY:On Holy Ground
DESCRIPTION:DesignHTMLWords: 0   Characters: 0
URL:https://www.discoverhollywood.com/event/on-holy-ground/
LOCATION:MET Theatre\, 1089 N. Oxford Ave.\, Hollywood\, California
END:VEVENT
BEGIN:VEVENT
DTSTART;TZID=Asia/Kolkata:19850404T000000
DTEND;TZID=Asia/Kolkata:19850404T000000
DTSTAMP:20260422T204051
CREATED:20250710T123007Z
LAST-MODIFIED:20250710T123007Z
UID:10010188-481420800-481420800@www.discoverhollywood.com
SUMMARY:Orbiting Astral Bodies
DESCRIPTION:DesignHTMLWords: 0   Characters: 0
URL:https://www.discoverhollywood.com/event/orbiting-astral-bodies/
LOCATION:MET Theatre\, 1089 N. Oxford Ave.\, Hollywood\, California
END:VEVENT
BEGIN:VEVENT
DTSTART;TZID=Asia/Kolkata:19830506T000000
DTEND;TZID=Asia/Kolkata:19830506T000000
DTSTAMP:20260422T204051
CREATED:20250714T093020Z
LAST-MODIFIED:20250714T093020Z
UID:10010457-421027200-421027200@www.discoverhollywood.com
SUMMARY:Pocatello
DESCRIPTION:%3cspan%3e%3cbig%3eEddie manages an Italian chain restaurant in Pocatello — a small%2c unexceptional American city that is slowly being paved over with strip malls and franchises. But he is struggling to maintain his sense of home in his own hometown%2c anxiously grappling with the changing landscape and his shifting relationships with family and co-workers. Against the harsh backdrop of Samuel D. Hunter’s Idaho%2c this heartbreaking comedy is a cry for connection in an increasingly lonely American landscape%3c/big%3e%3c/span%3eDesignHTMLWords: 76   Characters: 481
URL:https://www.discoverhollywood.com/event/pocatello/
LOCATION:MET Theatre\, 1089 N. Oxford Ave.\, Hollywood\, California
END:VEVENT
BEGIN:VEVENT
DTSTART;TZID=Asia/Kolkata:19830325T000000
DTEND;TZID=Asia/Kolkata:19830325T000000
DTSTAMP:20260422T204051
CREATED:20250714T093114Z
LAST-MODIFIED:20250714T093114Z
UID:10010499-417398400-417398400@www.discoverhollywood.com
SUMMARY:POP! A Michael Jackson Tribute
DESCRIPTION:DesignHTMLWords: 0   Characters: 0
URL:https://www.discoverhollywood.com/event/pop-a-michael-jackson-tribute/
LOCATION:MET Theatre\, 1089 N. Oxford Ave.\, Hollywood\, California
END:VEVENT
BEGIN:VEVENT
DTSTART;TZID=Asia/Kolkata:19821212T000000
DTEND;TZID=Asia/Kolkata:19821212T000000
DTSTAMP:20260422T204051
CREATED:20250714T093415Z
LAST-MODIFIED:20250714T093415Z
UID:10010602-408499200-408499200@www.discoverhollywood.com
SUMMARY:Psychosexual: A Love Story
DESCRIPTION:Unfortunately %28and unbeknownst to Omeika%29 Brad and Sarah’s own relationship is on the rocks. Seeking solace%2c Brad has started to frequent Floyd’s Fabulous Fantasy Club%2c where exotic dancer%2c Leah Lane%2c has caught his attention.DesignHTMLWords: 34   Characters: 218
URL:https://www.discoverhollywood.com/event/psychosexual-a-love-story/
LOCATION:MET Theatre\, 1089 N. Oxford Ave.\, Hollywood\, California
END:VEVENT
BEGIN:VEVENT
DTSTART;TZID=Asia/Kolkata:19820719T000000
DTEND;TZID=Asia/Kolkata:19820719T000000
DTSTAMP:20260422T204051
CREATED:20250714T093940Z
LAST-MODIFIED:20250714T093940Z
UID:10010748-395884800-395884800@www.discoverhollywood.com
SUMMARY:Rant & Rave
DESCRIPTION:%3cem%3eWe take a group of vocal LA writers%2c give them a topic and a time limit. It%27s an evening of cathartic thinking by some of the most dangerous minds in the city.%3c/em%3e\n%3cb%3e%3cbr%3e%3cbr%3e%3cbr%3e%3c/b%3eDesignHTMLWords: 32   Characters: 155
URL:https://www.discoverhollywood.com/event/rant-rave/
LOCATION:MET Theatre\, 1089 N. Oxford Ave.\, Hollywood\, California
END:VEVENT
BEGIN:VEVENT
DTSTART;TZID=Asia/Kolkata:19820718T000000
DTEND;TZID=Asia/Kolkata:19820718T000000
DTSTAMP:20260422T204051
CREATED:20250714T093940Z
LAST-MODIFIED:20250714T093940Z
UID:10010749-395798400-395798400@www.discoverhollywood.com
SUMMARY:Rant & Rave
DESCRIPTION:%3cp%3eChapter 75%3a TOUCHED%3c/p%3e\n%3cp%3eFeaturing works by Daniel Coronel%2c Jimmy Doyle%2c Jack Lovick%2c Felicia Michaels%2c Christopher Monger%2c and Mary Jo Smith%3c/p%3e\n%3cp%3eHosted%2c as usual%2c by Ron Bottitta%3c/p%3e\n%3cp%3eProduced by Sara Fenton and John Pollono%3c/p%3e\n%3cp%3eGuest co-producer%3a Betsy Zajko%3c/p%3eDesignHTMLWords: 37   Characters: 236
URL:https://www.discoverhollywood.com/event/rant-rave-2/
LOCATION:MET Theatre\, 1089 N. Oxford Ave.\, Hollywood\, California
END:VEVENT
BEGIN:VEVENT
DTSTART;TZID=Asia/Kolkata:19811220T000000
DTEND;TZID=Asia/Kolkata:19811220T000000
DTSTAMP:20260422T204051
CREATED:20250714T095647Z
LAST-MODIFIED:20250714T095647Z
UID:10010959-377654400-377654400@www.discoverhollywood.com
SUMMARY:Richard and Felix: Twilight in Venice
DESCRIPTION:DesignHTMLWords: 0   Characters: 0
URL:https://www.discoverhollywood.com/event/richard-and-felix-twilight-in-venice/
LOCATION:MET Theatre\, 1089 N. Oxford Ave.\, Hollywood\, California
END:VEVENT
BEGIN:VEVENT
DTSTART;TZID=Asia/Kolkata:19790201T000000
DTEND;TZID=Asia/Kolkata:19790201T000000
DTSTAMP:20260422T204051
CREATED:20250714T121914Z
LAST-MODIFIED:20250714T121914Z
UID:10011990-286675200-286675200@www.discoverhollywood.com
SUMMARY:Sight of Land
DESCRIPTION:DesignHTMLWords: 0   Characters: 0
URL:https://www.discoverhollywood.com/event/sight-of-land/
LOCATION:MET Theatre\, 1089 N. Oxford Ave.\, Hollywood\, California
END:VEVENT
BEGIN:VEVENT
DTSTART;TZID=Asia/Kolkata:19780807T000000
DTEND;TZID=Asia/Kolkata:19780807T000000
DTSTAMP:20260422T204051
CREATED:20250714T124522Z
LAST-MODIFIED:20250714T124522Z
UID:10012168-271296000-271296000@www.discoverhollywood.com
SUMMARY:Smoke
DESCRIPTION:%3c%21–%5bif gte mso 9%5d%3e\n	%3cxml%3e%3c/xml%3e\n%3c%21%5bendif%5d–%3e\n%3cp%3e%3cstrong%3eSMOKE%3c/strong%3e by Kim Davies presents an intense sexual situation with adult language. “You know you get to choose what happens to you%2c right%3f” That’s what John tells Julie when they meet by accident at a kink-play party in New York City. She’s an aspiring college dropout living in the shadow of her famous artist parents%3b he’s her father’s intern%2c and the two instantly connect.%3c/p%3eDesignHTMLWords: 64   Characters: 363
URL:https://www.discoverhollywood.com/event/smoke-2/
LOCATION:MET Theatre\, 1089 N. Oxford Ave.\, Hollywood\, California
END:VEVENT
BEGIN:VEVENT
DTSTART;TZID=Asia/Kolkata:19780419T000000
DTEND;TZID=Asia/Kolkata:19780419T000000
DTSTAMP:20260422T204051
CREATED:20250715T080746Z
LAST-MODIFIED:20250715T080746Z
UID:10012279-261792000-261792000@www.discoverhollywood.com
SUMMARY:Songs For a New World
DESCRIPTION:DesignHTMLWords: 0   Characters: 0
URL:https://www.discoverhollywood.com/event/songs-for-a-new-world/
LOCATION:MET Theatre\, 1089 N. Oxford Ave.\, Hollywood\, California
END:VEVENT
BEGIN:VEVENT
DTSTART;TZID=Asia/Kolkata:19770730T000000
DTEND;TZID=Asia/Kolkata:19770730T000000
DTSTAMP:20260422T204051
CREATED:20250715T090829Z
LAST-MODIFIED:20250715T090829Z
UID:10012542-239068800-239068800@www.discoverhollywood.com
SUMMARY:Still Life
DESCRIPTION:With her star on the rise%2c photographer Carrie Ann inexplicably shuts down at the pinnacle of her career. Lost%2c and afraid to even pick up her camera%2c her sudden descent is interrupted by an unexpected romance with Jeff%2c a trend analyst who becomes determined to help her move on%2c even while facing his own uncertain future.DesignHTMLWords: 56   Characters: 317
URL:https://www.discoverhollywood.com/event/still-life/
LOCATION:MET Theatre\, 1089 N. Oxford Ave.\, Hollywood\, California
END:VEVENT
BEGIN:VEVENT
DTSTART;TZID=Asia/Kolkata:19760101T000000
DTEND;TZID=Asia/Kolkata:19760101T000000
DTSTAMP:20260422T204051
CREATED:20250715T111424Z
LAST-MODIFIED:20250715T111424Z
UID:10013118-189302400-189302400@www.discoverhollywood.com
SUMMARY:The Ballad of Bimini Baths: Mexican Day
DESCRIPTION:Lines are meant to be crossed. In 1948%2c Los Angeles Tribune reporter Hisaye Yamamoto puts her job at risk when she joins forces with civil rights pioneer Bayard Rustin to desegregate Bimini Baths. Will it be a new beginning%2c or the beginning of the end%3f %3ca href%3d%22http%3a//www.biminitrilogy.com/%22 target%3d%22_blank%22%3ewww.biminitrilogy.com%3c/a%3eDesignHTMLWords: 46   Characters: 268
URL:https://www.discoverhollywood.com/event/the-ballad-of-bimini-baths-mexican-day/
LOCATION:MET Theatre\, 1089 N. Oxford Ave.\, Hollywood\, California
END:VEVENT
BEGIN:VEVENT
DTSTART;TZID=Asia/Kolkata:19720916T000000
DTEND;TZID=Asia/Kolkata:19720916T000000
DTSTAMP:20260422T204051
CREATED:20250716T053412Z
LAST-MODIFIED:20250716T053412Z
UID:10014135-85449600-85449600@www.discoverhollywood.com
SUMMARY:The Super Variety Match Bonus Round!
DESCRIPTION:%3c%21–%5bif gte mso 9%5d%3e\n	%3cxml%3e%3c/xml%3e\n%3c%21%5bendif%5d–%3e\n%3cp%3eA very modern kid%2c with no vowels in his/her name%2c rents a bedroom in the home of a small-town older Texas couple%2c while attending a big desert music festival weekend. The couple is struggling with grief and how to find a safe place in the big scary rapidly changing world. The kid decides to help. Like a fairy tale come true the couple suddenly find themselves in a 1970s-era TV game show where the stakes are life itself and the prize is a new beginning.%3c/DesignHTMLWords: 85   Characters: 448
URL:https://www.discoverhollywood.com/event/the-super-variety-match-bonus-round/
LOCATION:MET Theatre\, 1089 N. Oxford Ave.\, Hollywood\, California
END:VEVENT
BEGIN:VEVENT
DTSTART;TZID=Asia/Kolkata:19720610T000000
DTEND;TZID=Asia/Kolkata:19720610T000000
DTSTAMP:20260422T204051
CREATED:20250716T060045Z
LAST-MODIFIED:20250716T060045Z
UID:10014233-76982400-76982400@www.discoverhollywood.com
SUMMARY:The V Room
DESCRIPTION:DesignHTMLWords: 0   Characters: 0
URL:https://www.discoverhollywood.com/event/the-v-room/
LOCATION:MET Theatre\, 1089 N. Oxford Ave.\, Hollywood\, California
END:VEVENT
BEGIN:VEVENT
DTSTART;TZID=Asia/Kolkata:19720411T000000
DTEND;TZID=Asia/Kolkata:19720411T000000
DTSTAMP:20260422T204051
CREATED:20250716T060717Z
LAST-MODIFIED:20250716T060717Z
UID:10014293-71798400-71798400@www.discoverhollywood.com
SUMMARY:The Who's Tommy
DESCRIPTION:DesignHTMLWords: 0   Characters: 0
URL:https://www.discoverhollywood.com/event/the-whos-tommy/
LOCATION:MET Theatre\, 1089 N. Oxford Ave.\, Hollywood\, California
END:VEVENT
BEGIN:VEVENT
DTSTART;TZID=Asia/Kolkata:20260422T204051
DTEND;TZID=Asia/Kolkata:20260422T204051
DTSTAMP:20260422T204051
CREATED:20250716T084616Z
LAST-MODIFIED:20250716T084616Z
UID:10015498-0-0@www.discoverhollywood.com
SUMMARY:Xanadu
DESCRIPTION:DesignHTMLWords: 0   Characters: 0
URL:https://www.discoverhollywood.com/event/xanadu/
LOCATION:MET Theatre\, 1089 N. Oxford Ave.\, Hollywood\, California
END:VEVENT
BEGIN:VEVENT
DTSTART;TZID=Asia/Kolkata:20260422T204051
DTEND;TZID=Asia/Kolkata:20260422T204051
DTSTAMP:20260422T204051
CREATED:20250716T083517Z
LAST-MODIFIED:20250716T083517Z
UID:10015334-0-0@www.discoverhollywood.com
SUMMARY:Who is Curtis Lee
DESCRIPTION:It%27s the 1950%27s in Greensboro North Carolina%2c Joe runs a shabby tavern that caters to African American clientele. Curtis Lee Arrives at Joe%27s place one day. Joe is either the real deal or just another con man. Certain people want to do curtis harm%2c but Joe has taken a lking to curtis and gives him work cleaning up and running errands. Both are men who harbor secrets about their past. Joe%27s secrets%2c however%2c involve blood on his hands.\n%3cbr%3e\n%3cbr%3e\nGo to\n%3ca href%3d%22http%3a//themettheatre.com/met/%22%3eThe MET %3c/a%3eDesignHTMLWords: 82   Characters: 439
URL:https://www.discoverhollywood.com/event/who-is-curtis-lee/
LOCATION:MET Theatre\, 1089 N. Oxford Ave.\, Hollywood\, California
END:VEVENT
END:VCALENDAR