BEGIN:VCALENDAR
VERSION:2.0
PRODID:-//Discover Hollywood Magazine - ECPv6.15.20//NONSGML v1.0//EN
CALSCALE:GREGORIAN
METHOD:PUBLISH
X-WR-CALNAME:Discover Hollywood Magazine
X-ORIGINAL-URL:https://www.discoverhollywood.com
X-WR-CALDESC:Events for Discover Hollywood Magazine
REFRESH-INTERVAL;VALUE=DURATION:PT1H
X-Robots-Tag:noindex
X-PUBLISHED-TTL:PT1H
BEGIN:VTIMEZONE
TZID:Asia/Kolkata
BEGIN:STANDARD
TZOFFSETFROM:+0530
TZOFFSETTO:+0530
TZNAME:IST
DTSTART:19690101T000000
END:STANDARD
END:VTIMEZONE
BEGIN:VEVENT
DTSTART;TZID=Asia/Kolkata:19720411T000000
DTEND;TZID=Asia/Kolkata:19720411T000000
DTSTAMP:20260423T022517
CREATED:20250716T060717Z
LAST-MODIFIED:20250716T060717Z
UID:10014293-71798400-71798400@www.discoverhollywood.com
SUMMARY:The Who's Tommy
DESCRIPTION:DesignHTMLWords: 0   Characters: 0
URL:https://www.discoverhollywood.com/event/the-whos-tommy/
LOCATION:MET Theatre\, 1089 N. Oxford Ave.\, Hollywood\, California
END:VEVENT
BEGIN:VEVENT
DTSTART;TZID=Asia/Kolkata:20260423T022517
DTEND;TZID=Asia/Kolkata:20260423T022517
DTSTAMP:20260423T022517
CREATED:20250716T084616Z
LAST-MODIFIED:20250716T084616Z
UID:10015498-0-0@www.discoverhollywood.com
SUMMARY:Xanadu
DESCRIPTION:DesignHTMLWords: 0   Characters: 0
URL:https://www.discoverhollywood.com/event/xanadu/
LOCATION:MET Theatre\, 1089 N. Oxford Ave.\, Hollywood\, California
END:VEVENT
BEGIN:VEVENT
DTSTART;TZID=Asia/Kolkata:20260423T022517
DTEND;TZID=Asia/Kolkata:20260423T022517
DTSTAMP:20260423T022517
CREATED:20250716T083517Z
LAST-MODIFIED:20250716T083517Z
UID:10015334-0-0@www.discoverhollywood.com
SUMMARY:Who is Curtis Lee
DESCRIPTION:It%27s the 1950%27s in Greensboro North Carolina%2c Joe runs a shabby tavern that caters to African American clientele. Curtis Lee Arrives at Joe%27s place one day. Joe is either the real deal or just another con man. Certain people want to do curtis harm%2c but Joe has taken a lking to curtis and gives him work cleaning up and running errands. Both are men who harbor secrets about their past. Joe%27s secrets%2c however%2c involve blood on his hands.\n%3cbr%3e\n%3cbr%3e\nGo to\n%3ca href%3d%22http%3a//themettheatre.com/met/%22%3eThe MET %3c/a%3eDesignHTMLWords: 82   Characters: 439
URL:https://www.discoverhollywood.com/event/who-is-curtis-lee/
LOCATION:MET Theatre\, 1089 N. Oxford Ave.\, Hollywood\, California
END:VEVENT
END:VCALENDAR