BEGIN:VCALENDAR
VERSION:2.0
PRODID:-//Discover Hollywood Magazine - ECPv6.15.20//NONSGML v1.0//EN
CALSCALE:GREGORIAN
METHOD:PUBLISH
X-ORIGINAL-URL:https://www.discoverhollywood.com
X-WR-CALDESC:Events for Discover Hollywood Magazine
REFRESH-INTERVAL;VALUE=DURATION:PT1H
X-Robots-Tag:noindex
X-PUBLISHED-TTL:PT1H
BEGIN:VTIMEZONE
TZID:Asia/Kolkata
BEGIN:STANDARD
TZOFFSETFROM:+0530
TZOFFSETTO:+0530
TZNAME:IST
DTSTART:19690101T000000
END:STANDARD
END:VTIMEZONE
BEGIN:VEVENT
DTSTART;TZID=Asia/Kolkata:20210111T000000
DTEND;TZID=Asia/Kolkata:20210111T000000
DTSTAMP:20260425T031401
CREATED:20250630T095141Z
LAST-MODIFIED:20250630T095141Z
UID:10001386-1610323200-1610323200@www.discoverhollywood.com
SUMMARY:A New Sublime
DESCRIPTION:The exhibition consists of two related but distinct bodies of work. Pieces on panel painted with acrylic%2c heightened with graphite%2c express brightly hued linear gradients that both expand and contract in space%3b works on paper mounted to panel echo the wildly colorful line work%2c while adding the complexity of organically fluid forms\n%3cbr%3eDesignHTMLWords: 52   Characters: 328
URL:https://www.discoverhollywood.com/event/a-new-sublime-2/
LOCATION:Moskowitz Bayse\, 743 N. La Brea Avenue\, Los Angeles\, California\, 90038.0
END:VEVENT
BEGIN:VEVENT
DTSTART;TZID=Asia/Kolkata:20180711T000000
DTEND;TZID=Asia/Kolkata:20180711T000000
DTSTAMP:20260425T031401
CREATED:20250630T103503Z
LAST-MODIFIED:20250630T103503Z
UID:10001686-1531267200-1531267200@www.discoverhollywood.com
SUMMARY:Alexa Guariglia: Sink or Swim
DESCRIPTION:%3cspan%3eAn exhibition of new works on paper by Alexa Guariglia. The occasion marks the artist’s fifth solo exhibition with the gallery.%26nbsp%3b%3c/span%3e\n%3cdiv%3e\n	%3cspan%3e%3cbr%3e%3c/span%3e\n%3c/div%3e\n%3cdiv%3e\n	%3ca href%3d%22http%3a//www.moskowitzbayse.com/alexa-guariglia-sink-or-swim%22%3ehttp%3a//www.moskowitzbayse.com/alexa-guariglia-sink-or-swim%3c/a%3e\n%3c/div%3eDesignHTMLWords: 22   Characters: 180
URL:https://www.discoverhollywood.com/event/alexa-guariglia-sink-or-swim-2/
LOCATION:Moskowitz Bayse\, 743 N. La Brea Avenue\, Los Angeles\, California\, 90038.0
END:VEVENT
BEGIN:VEVENT
DTSTART;TZID=Asia/Kolkata:20150228T000000
DTEND;TZID=Asia/Kolkata:20150228T000000
DTSTAMP:20260425T031401
CREATED:20250630T113935Z
LAST-MODIFIED:20250630T113935Z
UID:10002137-1425081600-1425081600@www.discoverhollywood.com
SUMMARY:Anthony Miserendino
DESCRIPTION:DesignHTMLWords: 0   Characters: 0
URL:https://www.discoverhollywood.com/event/anthony-miserendino/
LOCATION:Moskowitz Bayse\, 743 N. La Brea Avenue\, Los Angeles\, California\, 90038.0
END:VEVENT
BEGIN:VEVENT
DTSTART;TZID=Asia/Kolkata:20051008T000000
DTEND;TZID=Asia/Kolkata:20051008T000000
DTSTAMP:20260425T031401
CREATED:20250701T090704Z
LAST-MODIFIED:20250701T090704Z
UID:10003753-1128729600-1128729600@www.discoverhollywood.com
SUMMARY:Christopher Richmond: Hyperway
DESCRIPTION:%3cspan%3ePresented as part of Christopher RIchmond%27s exhibition %3ci%3eSpace%2c%26nbsp%3b Hyperway%3c/i%3e%3c/span%3e\n%3cspan%3e%26nbsp%3b%282018%29 evokes all that hyperspace promises. Astronauts depart on an intergalactic journey from Los Angeles to an alien world in an air-conditioned Honda Civic%2c taking them through California desert highways and exotic planetary landscapes.%26nbsp%3b%3c/span%3e\n%3cspan%3e\n	%3cbr%3e\n%3c%21–%5bif %21supportLineBreakNewLine%5d–%3e \n	%3cbr%3e\n%3c%21–%5bendif%5d–%3e%3c/span%3eDesignHTMLWords: 43   Characters: 304
URL:https://www.discoverhollywood.com/event/christopher-richmond-hyperway/
LOCATION:Moskowitz Bayse\, 743 N. La Brea Avenue\, Los Angeles\, California\, 90038.0
END:VEVENT
BEGIN:VEVENT
DTSTART;TZID=Asia/Kolkata:20051006T000000
DTEND;TZID=Asia/Kolkata:20051006T000000
DTSTAMP:20260425T031401
CREATED:20250701T090704Z
LAST-MODIFIED:20250701T090704Z
UID:10003754-1128556800-1128556800@www.discoverhollywood.com
SUMMARY:Christopher Richmond: Space
DESCRIPTION:%3cem%3e%3cspan%3eHyperway%3c/span%3e%3c/em%3e\n%3cspan%3eevokes all that hyperspace promises. Astronauts depart on an intergalactic journey from Los Angeles to an alien world in an air-conditioned Honda Civic%2c taking them through California desert highways and exotic planetary landscapes.%3c/span%3e\n%3cdiv%3e\n	%3cspan%3e%3cspan%3e%3cbr%3e%3c/span%3e%3c/span%3e\n%3c/div%3e\n%3cdiv%3e\n	%3cspan%3e%3cspan%3e%3ca href%3d%22http%3a//www.moskowitzbayse.com/christopher-richmond-space%22 target%3d%22_blank%22%3ewww.moskowitzbayse.com/christopher-richmond-space%3c/a%3e%3c/span%3e%3c/span%3e\n	%3cspan%3e%26nbsp%3bDesignHTMLWords: 35   Characters: 285
URL:https://www.discoverhollywood.com/event/christopher-richmond-space/
LOCATION:Moskowitz Bayse\, 743 N. La Brea Avenue\, Los Angeles\, California\, 90038.0
END:VEVENT
BEGIN:VEVENT
DTSTART;TZID=Asia/Kolkata:19981213T000000
DTEND;TZID=Asia/Kolkata:19981213T000000
DTSTAMP:20260425T031401
CREATED:20250701T135845Z
LAST-MODIFIED:20250702T044811Z
UID:10005076-913507200-913507200@www.discoverhollywood.com
SUMMARY:Eleanor Swordy
DESCRIPTION:%3cbr%3eDesignHTMLWords: 0   Characters: 0
URL:https://www.discoverhollywood.com/event/eleanor-swordy/
LOCATION:Moskowitz Bayse\, 743 N. La Brea Avenue\, Los Angeles\, California\, 90038.0
END:VEVENT
BEGIN:VEVENT
DTSTART;TZID=Asia/Kolkata:19981212T000000
DTEND;TZID=Asia/Kolkata:19981212T000000
DTSTAMP:20260425T031401
CREATED:20250701T135846Z
LAST-MODIFIED:20250702T044811Z
UID:10005077-913420800-913420800@www.discoverhollywood.com
SUMMARY:Eleanor Swordy: Is This Real
DESCRIPTION:The second solo exhibition of paintings by Eleanor Swordy. %3ca href%3d%22http%3a//www.moskowitzbayse.com/eleanor-swordy-is-this-real%22 target%3d%22_blank%22%3ewww.moskowitzbayse.com/eleanor-swordy-is-this-real%3c/a%3eDesignHTMLWords: 10   Characters: 102
URL:https://www.discoverhollywood.com/event/eleanor-swordy-is-this-real/
LOCATION:Moskowitz Bayse\, 743 N. La Brea Avenue\, Los Angeles\, California\, 90038.0
END:VEVENT
BEGIN:VEVENT
DTSTART;TZID=Asia/Kolkata:19981211T000000
DTEND;TZID=Asia/Kolkata:19981211T000000
DTSTAMP:20260425T031401
CREATED:20250701T135846Z
LAST-MODIFIED:20250702T044811Z
UID:10005078-913334400-913334400@www.discoverhollywood.com
SUMMARY:Eleanor Swordy: Solo Exhibit
DESCRIPTION:Drawing from collective narrative and imagination%2c Eleanor Swordy’s paintings reveal the experience of being awake%2c both at once in awe of the natural world%2c while situated in a sociopolitical horror.DesignHTMLWords: 30   Characters: 196
URL:https://www.discoverhollywood.com/event/eleanor-swordy-solo-exhibit/
LOCATION:Moskowitz Bayse\, 743 N. La Brea Avenue\, Los Angeles\, California\, 90038.0
END:VEVENT
BEGIN:VEVENT
DTSTART;TZID=Asia/Kolkata:19951016T000000
DTEND;TZID=Asia/Kolkata:19951016T000000
DTSTAMP:20260425T031401
CREATED:20250703T084227Z
LAST-MODIFIED:20250703T084227Z
UID:10006226-813801600-813801600@www.discoverhollywood.com
SUMMARY:Grammars of Creation
DESCRIPTION:%3ca href%3d%22https%3a//www.artsy.net/show/moskowitz-bayse-grammars-of-creation%22%3ehttps%3a//www.artsy.net/show/moskowitz-bayse-grammars-of-creation%3c/a%3eDesignHTMLWords: 1   Characters: 56
URL:https://www.discoverhollywood.com/event/grammars-of-creation/
LOCATION:Moskowitz Bayse\, 743 N. La Brea Avenue\, Los Angeles\, California\, 90038.0
END:VEVENT
BEGIN:VEVENT
DTSTART;TZID=Asia/Kolkata:19900522T000000
DTEND;TZID=Asia/Kolkata:19900522T000000
DTSTAMP:20260425T031401
CREATED:20250709T060925Z
LAST-MODIFIED:20250709T060925Z
UID:10007914-643334400-643334400@www.discoverhollywood.com
SUMMARY:Kim Shoen: Hawaii
DESCRIPTION:%3cbr%3eDesignHTMLWords: 0   Characters: 0
URL:https://www.discoverhollywood.com/event/kim-shoen-hawaii/
LOCATION:Moskowitz Bayse\, 743 N. La Brea Avenue\, Los Angeles\, California\, 90038.0
END:VEVENT
BEGIN:VEVENT
DTSTART;TZID=Asia/Kolkata:20260425T031401
DTEND;TZID=Asia/Kolkata:20260425T031401
DTSTAMP:20260425T031401
CREATED:20250716T081602Z
LAST-MODIFIED:20250716T081602Z
UID:10014953-0-0@www.discoverhollywood.com
SUMMARY:Valerie Green - Gray Area
DESCRIPTION:In Gray Area%2c Valerie Green explores the idea of interface as it relates to photography%2c technology%2c and generation.%3cdiv%3e\n	%3cbr%3e\n%3c/div%3e\n%3cdiv%3e\n	%3ca href%3d%22http%3a//www.moskowitzbayse.com/valerie-green-gray-area%22 target%3d%22_blank%22%3ewww.www.moskowitzbayse.com/valerie-green-gray-area%3c/a%3e\n%3c/div%3eDesignHTMLWords: 19   Characters: 159
URL:https://www.discoverhollywood.com/event/valerie-green-gray-area/
LOCATION:Moskowitz Bayse\, 743 N. La Brea Avenue\, Los Angeles\, California\, 90038.0
END:VEVENT
BEGIN:VEVENT
DTSTART;TZID=Asia/Kolkata:20260425T031401
DTEND;TZID=Asia/Kolkata:20260425T031401
DTSTAMP:20260425T031401
CREATED:20250716T081601Z
LAST-MODIFIED:20250716T081601Z
UID:10014952-0-0@www.discoverhollywood.com
SUMMARY:Valerie Green
DESCRIPTION:DesignHTMLWords: 0   Characters: 0
URL:https://www.discoverhollywood.com/event/valerie-green/
LOCATION:Moskowitz Bayse\, 743 N. La Brea Avenue\, Los Angeles\, California\, 90038.0
END:VEVENT
END:VCALENDAR