BEGIN:VCALENDAR
VERSION:2.0
PRODID:-//Discover Hollywood Magazine - ECPv6.15.20//NONSGML v1.0//EN
CALSCALE:GREGORIAN
METHOD:PUBLISH
X-WR-CALNAME:Discover Hollywood Magazine
X-ORIGINAL-URL:https://www.discoverhollywood.com
X-WR-CALDESC:Events for Discover Hollywood Magazine
REFRESH-INTERVAL;VALUE=DURATION:PT1H
X-Robots-Tag:noindex
X-PUBLISHED-TTL:PT1H
BEGIN:VTIMEZONE
TZID:Asia/Kolkata
BEGIN:STANDARD
TZOFFSETFROM:+0530
TZOFFSETTO:+0530
TZNAME:IST
DTSTART:20040101T000000
END:STANDARD
END:VTIMEZONE
BEGIN:VEVENT
DTSTART;TZID=Asia/Kolkata:20220708T000000
DTEND;TZID=Asia/Kolkata:20220708T000000
DTSTAMP:20260423T200548
CREATED:20250630T090510Z
LAST-MODIFIED:20250630T090510Z
UID:10001205-1657238400-1657238400@www.discoverhollywood.com
SUMMARY:3 Ring Circus
DESCRIPTION:%3ca href%3d%22http%3a//thenewbev.com/%22 target%3d%22_blank%22%3ehttp%3a//thenewbev.com/%3c/a%3eDesignHTMLWords: 1   Characters: 19
URL:https://www.discoverhollywood.com/event/3-ring-circus-2/
LOCATION:New Beverly Cinema\, 7165 Beverly Blvd.\, Hollywood\, California
END:VEVENT
BEGIN:VEVENT
DTSTART;TZID=Asia/Kolkata:20210812T000000
DTEND;TZID=Asia/Kolkata:20210812T000000
DTSTAMP:20260423T200548
CREATED:20250630T093537Z
LAST-MODIFIED:20250630T093537Z
UID:10001315-1628726400-1628726400@www.discoverhollywood.com
SUMMARY:A Better Tomorrow II
DESCRIPTION:%3ca href%3d%22http%3a//thenewbev.com/%22%3ehttp%3a//thenewbev.com/%3c/a%3eDesignHTMLWords: 1   Characters: 19
URL:https://www.discoverhollywood.com/event/a-better-tomorrow-ii-2/
LOCATION:New Beverly Cinema\, 7165 Beverly Blvd.\, Hollywood\, California
END:VEVENT
BEGIN:VEVENT
DTSTART;TZID=Asia/Kolkata:20210628T000000
DTEND;TZID=Asia/Kolkata:20210628T000000
DTSTAMP:20260423T200548
CREATED:20250630T094140Z
LAST-MODIFIED:20250630T094140Z
UID:10001330-1624838400-1624838400@www.discoverhollywood.com
SUMMARY:A Christmas Story
DESCRIPTION:%3ca href%3d%22http%3a//thenewbev.com/%22 target%3d%22_blank%22%3ehttp%3a//thenewbev.com/%3c/a%3eDesignHTMLWords: 1   Characters: 19
URL:https://www.discoverhollywood.com/event/a-christmas-story-2/
LOCATION:New Beverly Cinema\, 7165 Beverly Blvd.\, Hollywood\, California
END:VEVENT
BEGIN:VEVENT
DTSTART;TZID=Asia/Kolkata:20200823T000000
DTEND;TZID=Asia/Kolkata:20200823T000000
DTSTAMP:20260423T200548
CREATED:20250630T095737Z
LAST-MODIFIED:20250630T095737Z
UID:10001433-1598140800-1598140800@www.discoverhollywood.com
SUMMARY:A Taste of Killing and Romance
DESCRIPTION:%3ca href%3d%22http%3a//thenewbev.com/%22 target%3d%22_blank%22%3ehttp%3a//thenewbev.com/%3c/a%3eDesignHTMLWords: 1   Characters: 19
URL:https://www.discoverhollywood.com/event/a-taste-of-killing-and-romance-2/
LOCATION:New Beverly Cinema\, 7165 Beverly Blvd.\, Hollywood\, California
END:VEVENT
BEGIN:VEVENT
DTSTART;TZID=Asia/Kolkata:20190904T000000
DTEND;TZID=Asia/Kolkata:20190904T000000
DTSTAMP:20260423T200548
CREATED:20250630T102803Z
LAST-MODIFIED:20250630T102803Z
UID:10001546-1567555200-1567555200@www.discoverhollywood.com
SUMMARY:Adam's Rib
DESCRIPTION:%3ca href%3d%22http%3a//thenewbev.com/%22 target%3d%22_blank%22%3ehttp%3a//thenewbev.com/%3c/a%3eDesignHTMLWords: 1   Characters: 19
URL:https://www.discoverhollywood.com/event/adams-rib-2/
LOCATION:New Beverly Cinema\, 7165 Beverly Blvd.\, Hollywood\, California
END:VEVENT
BEGIN:VEVENT
DTSTART;TZID=Asia/Kolkata:20190513T000000
DTEND;TZID=Asia/Kolkata:20190513T000000
DTSTAMP:20260423T200548
CREATED:20250630T102948Z
LAST-MODIFIED:20250630T102948Z
UID:10001584-1557705600-1557705600@www.discoverhollywood.com
SUMMARY:After the Fox
DESCRIPTION:%3ca href%3d%22http%3a//thenewbev.com/%22%3ehttp%3a//thenewbev.com/%3c/a%3eDesignHTMLWords: 1   Characters: 19
URL:https://www.discoverhollywood.com/event/after-the-fox-2/
LOCATION:New Beverly Cinema\, 7165 Beverly Blvd.\, Hollywood\, California
END:VEVENT
BEGIN:VEVENT
DTSTART;TZID=Asia/Kolkata:20170722T000000
DTEND;TZID=Asia/Kolkata:20170722T000000
DTSTAMP:20260423T200548
CREATED:20250630T104241Z
LAST-MODIFIED:20250630T104241Z
UID:10001804-1500681600-1500681600@www.discoverhollywood.com
SUMMARY:Amazon Women on the Moon
DESCRIPTION:%3ca href%3d%22http%3a//thenewbev.com%22 target%3d%22_blank%22%3ehttp%3a//thenewbev.com%3c/a%3eDesignHTMLWords: 1   Characters: 18
URL:https://www.discoverhollywood.com/event/amazon-women-on-the-moon-2/
LOCATION:New Beverly Cinema\, 7165 Beverly Blvd.\, Hollywood\, California
END:VEVENT
BEGIN:VEVENT
DTSTART;TZID=Asia/Kolkata:20170601T000000
DTEND;TZID=Asia/Kolkata:20170601T000000
DTSTAMP:20260423T200548
CREATED:20250630T105241Z
LAST-MODIFIED:20250630T105241Z
UID:10001821-1496275200-1496275200@www.discoverhollywood.com
SUMMARY:American Graffiti
DESCRIPTION:%3ca href%3d%22http%3a//thenewbev.com%22 target%3d%22_blank%22%3ehttp%3a//thenewbev.com%3c/a%3eDesignHTMLWords: 1   Characters: 18
URL:https://www.discoverhollywood.com/event/american-graffiti-2/
LOCATION:New Beverly Cinema\, 7165 Beverly Blvd.\, Hollywood\, California
END:VEVENT
BEGIN:VEVENT
DTSTART;TZID=Asia/Kolkata:20170526T000000
DTEND;TZID=Asia/Kolkata:20170526T000000
DTSTAMP:20260423T200548
CREATED:20250630T105242Z
LAST-MODIFIED:20250630T105242Z
UID:10001823-1495756800-1495756800@www.discoverhollywood.com
SUMMARY:American Hot Wax
DESCRIPTION:%3ca href%3d%22http%3a//thenewbev.com/%22 target%3d%22_blank%22%3ehttp%3a//thenewbev.com/%3c/a%3eDesignHTMLWords: 1   Characters: 19
URL:https://www.discoverhollywood.com/event/american-hot-wax-2/
LOCATION:New Beverly Cinema\, 7165 Beverly Blvd.\, Hollywood\, California
END:VEVENT
BEGIN:VEVENT
DTSTART;TZID=Asia/Kolkata:20150819T000000
DTEND;TZID=Asia/Kolkata:20150819T000000
DTSTAMP:20260423T200548
CREATED:20250630T113520Z
LAST-MODIFIED:20250630T113520Z
UID:10002051-1439942400-1439942400@www.discoverhollywood.com
SUMMARY:Angel Baby
DESCRIPTION:%3ca href%3d%22http%3a//thenewbev.com/%22 target%3d%22_blank%22%3ehttp%3a//thenewbev.com/%3c/a%3eDesignHTMLWords: 1   Characters: 19
URL:https://www.discoverhollywood.com/event/angel-baby/
LOCATION:New Beverly Cinema\, 7165 Beverly Blvd.\, Hollywood\, California
END:VEVENT
BEGIN:VEVENT
DTSTART;TZID=Asia/Kolkata:20150702T000000
DTEND;TZID=Asia/Kolkata:20150702T000000
DTSTAMP:20260423T200548
CREATED:20250630T113635Z
LAST-MODIFIED:20250630T113635Z
UID:10002075-1435795200-1435795200@www.discoverhollywood.com
SUMMARY:Animal House
DESCRIPTION:%3ca href%3d%22http%3a//thenewbev.com/%22%3ehttp%3a//thenewbev.com/%3c/a%3eDesignHTMLWords: 1   Characters: 19
URL:https://www.discoverhollywood.com/event/animal-house/
LOCATION:New Beverly Cinema\, 7165 Beverly Blvd.\, Hollywood\, California
END:VEVENT
BEGIN:VEVENT
DTSTART;TZID=Asia/Kolkata:20140806T000000
DTEND;TZID=Asia/Kolkata:20140806T000000
DTSTAMP:20260423T200548
CREATED:20250630T114453Z
LAST-MODIFIED:20250630T114453Z
UID:10002240-1407283200-1407283200@www.discoverhollywood.com
SUMMARY:Arthur
DESCRIPTION:%3ca href%3d%22http%3a//thenewbev.com/%22 target%3d%22_blank%22%3ehttp%3a//thenewbev.com/%3c/a%3eDesignHTMLWords: 1   Characters: 19
URL:https://www.discoverhollywood.com/event/arthur/
LOCATION:New Beverly Cinema\, 7165 Beverly Blvd.\, Hollywood\, California
END:VEVENT
BEGIN:VEVENT
DTSTART;TZID=Asia/Kolkata:20130330T000000
DTEND;TZID=Asia/Kolkata:20130330T000000
DTSTAMP:20260423T200548
CREATED:20250630T120512Z
LAST-MODIFIED:20250630T120512Z
UID:10002487-1364601600-1364601600@www.discoverhollywood.com
SUMMARY:Barefoot in the Park
DESCRIPTION:%3ca href%3d%22http%3a//thenewbev.com/%22%3ehttp%3a//thenewbev.com/%3c/a%3eDesignHTMLWords: 1   Characters: 19
URL:https://www.discoverhollywood.com/event/barefoot-in-the-park-2/
LOCATION:New Beverly Cinema\, 7165 Beverly Blvd.\, Hollywood\, California
END:VEVENT
BEGIN:VEVENT
DTSTART;TZID=Asia/Kolkata:20121118T000000
DTEND;TZID=Asia/Kolkata:20121118T000000
DTSTAMP:20260423T200548
CREATED:20250630T120603Z
LAST-MODIFIED:20250630T120603Z
UID:10002553-1353196800-1353196800@www.discoverhollywood.com
SUMMARY:Battle of the Coral Sea
DESCRIPTION:%3ca href%3d%22http%3a//thenewbev.com/%22 target%3d%22_blank%22%3ehttp%3a//thenewbev.com/%3c/a%3eDesignHTMLWords: 1   Characters: 19
URL:https://www.discoverhollywood.com/event/battle-of-the-coral-sea/
LOCATION:New Beverly Cinema\, 7165 Beverly Blvd.\, Hollywood\, California
END:VEVENT
BEGIN:VEVENT
DTSTART;TZID=Asia/Kolkata:20120731T000000
DTEND;TZID=Asia/Kolkata:20120731T000000
DTSTAMP:20260423T200548
CREATED:20250630T120647Z
LAST-MODIFIED:20250630T120647Z
UID:10002608-1343692800-1343692800@www.discoverhollywood.com
SUMMARY:Because They're Young
DESCRIPTION:%3ca href%3d%22http%3a//thenewbev.com/%22 target%3d%22_blank%22%3ehttp%3a//thenewbev.com/%3c/a%3eDesignHTMLWords: 1   Characters: 19
URL:https://www.discoverhollywood.com/event/because-theyre-young/
LOCATION:New Beverly Cinema\, 7165 Beverly Blvd.\, Hollywood\, California
END:VEVENT
BEGIN:VEVENT
DTSTART;TZID=Asia/Kolkata:20110905T000000
DTEND;TZID=Asia/Kolkata:20110905T000000
DTSTAMP:20260423T200548
CREATED:20250630T123019Z
LAST-MODIFIED:20250630T123019Z
UID:10002773-1315180800-1315180800@www.discoverhollywood.com
SUMMARY:Beyond the Poseidon Adventure
DESCRIPTION:%3ca href%3d%22http%3a//thenewbev.com/%22 target%3d%22_blank%22%3ehttp%3a//thenewbev.com/%3c/a%3eDesignHTMLWords: 1   Characters: 19
URL:https://www.discoverhollywood.com/event/beyond-the-poseidon-adventure/
LOCATION:New Beverly Cinema\, 7165 Beverly Blvd.\, Hollywood\, California
END:VEVENT
BEGIN:VEVENT
DTSTART;TZID=Asia/Kolkata:20101219T000000
DTEND;TZID=Asia/Kolkata:20101219T000000
DTSTAMP:20260423T200548
CREATED:20250630T123636Z
LAST-MODIFIED:20250630T123636Z
UID:10002904-1292716800-1292716800@www.discoverhollywood.com
SUMMARY:Black Christmas
DESCRIPTION:%3ca href%3d%22http%3a//thenewbev.com/%22 target%3d%22_blank%22%3ehttp%3a//thenewbev.com/%3c/a%3eDesignHTMLWords: 1   Characters: 19
URL:https://www.discoverhollywood.com/event/black-christmas/
LOCATION:New Beverly Cinema\, 7165 Beverly Blvd.\, Hollywood\, California
END:VEVENT
BEGIN:VEVENT
DTSTART;TZID=Asia/Kolkata:20101014T000000
DTEND;TZID=Asia/Kolkata:20101014T000000
DTSTAMP:20260423T200548
CREATED:20250630T130837Z
LAST-MODIFIED:20250716T121555Z
UID:10002937-1287014400-1287014400@www.discoverhollywood.com
SUMMARY:Black Sunday
DESCRIPTION:%3ca href%3d%22http%3a//thenewbev.com/%22%3ehttp%3a//thenewbev.com/%3c/a%3eDesignHTMLWords: 1   Characters: 19
URL:https://www.discoverhollywood.com/event/black-sunday/
LOCATION:New Beverly Cinema\, 7165 Beverly Blvd.\, Hollywood\, California
END:VEVENT
BEGIN:VEVENT
DTSTART;TZID=Asia/Kolkata:20100529T000000
DTEND;TZID=Asia/Kolkata:20100529T000000
DTSTAMP:20260423T200548
CREATED:20250630T131055Z
LAST-MODIFIED:20250716T122212Z
UID:10003006-1275091200-1275091200@www.discoverhollywood.com
SUMMARY:Bloody Mama
DESCRIPTION:%3ca href%3d%22http%3a//thenewbev.com/%22%3ehttp%3a//thenewbev.com/%3c/a%3eDesignHTMLWords: 1   Characters: 19
URL:https://www.discoverhollywood.com/event/bloody-mama/
LOCATION:New Beverly Cinema\, 7165 Beverly Blvd.\, Hollywood\, California
END:VEVENT
BEGIN:VEVENT
DTSTART;TZID=Asia/Kolkata:20100308T000000
DTEND;TZID=Asia/Kolkata:20100308T000000
DTSTAMP:20260423T200548
CREATED:20250630T131147Z
LAST-MODIFIED:20250716T122317Z
UID:10003047-1268006400-1268006400@www.discoverhollywood.com
SUMMARY:Bob le Flambeur
DESCRIPTION:%3ca href%3d%22http%3a//thenewbev.com/%22%3ehttp%3a//thenewbev.com/%3c/a%3eDesignHTMLWords: 1   Characters: 19
URL:https://www.discoverhollywood.com/event/bob-le-flambeur/
LOCATION:New Beverly Cinema\, 7165 Beverly Blvd.\, Hollywood\, California
END:VEVENT
BEGIN:VEVENT
DTSTART;TZID=Asia/Kolkata:20091025T000000
DTEND;TZID=Asia/Kolkata:20091025T000000
DTSTAMP:20260423T200548
CREATED:20250630T131239Z
LAST-MODIFIED:20250716T125331Z
UID:10003114-1256428800-1256428800@www.discoverhollywood.com
SUMMARY:Boogie Nights
DESCRIPTION:%3ca href%3d%22http%3a//thenewbev.com/%22 target%3d%22_blank%22%3ehttp%3a//thenewbev.com/%3c/a%3eDesignHTMLWords: 1   Characters: 19
URL:https://www.discoverhollywood.com/event/boogie-nights/
LOCATION:New Beverly Cinema\, 7165 Beverly Blvd.\, Hollywood\, California
END:VEVENT
BEGIN:VEVENT
DTSTART;TZID=Asia/Kolkata:20090528T000000
DTEND;TZID=Asia/Kolkata:20090528T000000
DTSTAMP:20260423T200548
CREATED:20250630T131404Z
LAST-MODIFIED:20250716T130814Z
UID:10003189-1243468800-1243468800@www.discoverhollywood.com
SUMMARY:Breakfast at Tiffany's
DESCRIPTION:%3ca href%3d%22http%3a//thenewbev.com/%22 target%3d%22_blank%22%3ehttp%3a//thenewbev.com/%3c/a%3eDesignHTMLWords: 1   Characters: 19
URL:https://www.discoverhollywood.com/event/breakfast-at-tiffanys-3/
LOCATION:New Beverly Cinema\, 7165 Beverly Blvd.\, Hollywood\, California
END:VEVENT
BEGIN:VEVENT
DTSTART;TZID=Asia/Kolkata:20090221T000000
DTEND;TZID=Asia/Kolkata:20090221T000000
DTSTAMP:20260423T200548
CREATED:20250701T061531Z
LAST-MODIFIED:20250701T061531Z
UID:10003232-1235174400-1235174400@www.discoverhollywood.com
SUMMARY:Bringing Out the Dead
DESCRIPTION:%3ca href%3d%22http%3a//thenewbev.com/%22%3ehttp%3a//thenewbev.com/%3c/a%3eDesignHTMLWords: 1   Characters: 19
URL:https://www.discoverhollywood.com/event/bringing-out-the-dead/
LOCATION:New Beverly Cinema\, 7165 Beverly Blvd.\, Hollywood\, California
END:VEVENT
BEGIN:VEVENT
DTSTART;TZID=Asia/Kolkata:20081117T000000
DTEND;TZID=Asia/Kolkata:20081117T000000
DTSTAMP:20260423T200548
CREATED:20250701T063121Z
LAST-MODIFIED:20250701T063121Z
UID:10003280-1226880000-1226880000@www.discoverhollywood.com
SUMMARY:Brother Sun\, Sister Moon
DESCRIPTION:%3ca href%3d%22http%3a//thenewbev.com%22 target%3d%22_blank%22%3ehttp%3a//thenewbev.com%3c/a%3eDesignHTMLWords: 1   Characters: 18
URL:https://www.discoverhollywood.com/event/brother-sun-sister-moon/
LOCATION:New Beverly Cinema\, 7165 Beverly Blvd.\, Hollywood\, California
END:VEVENT
BEGIN:VEVENT
DTSTART;TZID=Asia/Kolkata:20080813T000000
DTEND;TZID=Asia/Kolkata:20080813T000000
DTSTAMP:20260423T200548
CREATED:20250701T063237Z
LAST-MODIFIED:20250701T063237Z
UID:10003328-1218585600-1218585600@www.discoverhollywood.com
SUMMARY:Bugsy Malone
DESCRIPTION:%3ca href%3d%22http%3a//thenewbev.com%22 target%3d%22_blank%22%3ehttp%3a//thenewbev.com%3c/a%3eDesignHTMLWords: 1   Characters: 18
URL:https://www.discoverhollywood.com/event/bugsy-malone/
LOCATION:New Beverly Cinema\, 7165 Beverly Blvd.\, Hollywood\, California
END:VEVENT
BEGIN:VEVENT
DTSTART;TZID=Asia/Kolkata:20080523T000000
DTEND;TZID=Asia/Kolkata:20080523T000000
DTSTAMP:20260423T200548
CREATED:20250701T063329Z
LAST-MODIFIED:20250701T063329Z
UID:10003369-1211500800-1211500800@www.discoverhollywood.com
SUMMARY:Butch & Sundance: The Early Days
DESCRIPTION:%3ca href%3d%22http%3a//thenewbev.com/%22 target%3d%22_blank%22%3ehttp%3a//thenewbev.com/%3c/a%3eDesignHTMLWords: 1   Characters: 19
URL:https://www.discoverhollywood.com/event/butch-sundance-the-early-days/
LOCATION:New Beverly Cinema\, 7165 Beverly Blvd.\, Hollywood\, California
END:VEVENT
BEGIN:VEVENT
DTSTART;TZID=Asia/Kolkata:20080521T000000
DTEND;TZID=Asia/Kolkata:20080521T000000
DTSTAMP:20260423T200548
CREATED:20250701T063329Z
LAST-MODIFIED:20250701T063329Z
UID:10003370-1211328000-1211328000@www.discoverhollywood.com
SUMMARY:Butch Cassidy and the Sundance Kid
DESCRIPTION:%3ca href%3d%22http%3a//thenewbev.com/%22 target%3d%22_blank%22%3ehttp%3a//thenewbev.com/%3c/a%3eDesignHTMLWords: 1   Characters: 19
URL:https://www.discoverhollywood.com/event/butch-cassidy-and-the-sundance-kid/
LOCATION:New Beverly Cinema\, 7165 Beverly Blvd.\, Hollywood\, California
END:VEVENT
BEGIN:VEVENT
DTSTART;TZID=Asia/Kolkata:20080328T000000
DTEND;TZID=Asia/Kolkata:20080328T000000
DTSTAMP:20260423T200548
CREATED:20250701T063417Z
LAST-MODIFIED:20250701T063417Z
UID:10003397-1206662400-1206662400@www.discoverhollywood.com
SUMMARY:Cabaret
DESCRIPTION:%3ca href%3d%22http%3a//thenewbev.com/%22 target%3d%22_blank%22%3ehttp%3a//thenewbev.com/%3c/a%3eDesignHTMLWords: 1   Characters: 19
URL:https://www.discoverhollywood.com/event/cabaret-2/
LOCATION:New Beverly Cinema\, 7165 Beverly Blvd.\, Hollywood\, California
END:VEVENT
BEGIN:VEVENT
DTSTART;TZID=Asia/Kolkata:20060721T000000
DTEND;TZID=Asia/Kolkata:20060721T000000
DTSTAMP:20260423T200548
CREATED:20250701T083033Z
LAST-MODIFIED:20250701T083033Z
UID:10003610-1153440000-1153440000@www.discoverhollywood.com
SUMMARY:Cheech and Chong's Next Movie
DESCRIPTION:%3ca href%3d%22http%3a//thenewbev.com/%22%3ehttp%3a//thenewbev.com/%3c/a%3eDesignHTMLWords: 1   Characters: 19
URL:https://www.discoverhollywood.com/event/cheech-and-chongs-next-movie/
LOCATION:New Beverly Cinema\, 7165 Beverly Blvd.\, Hollywood\, California
END:VEVENT
BEGIN:VEVENT
DTSTART;TZID=Asia/Kolkata:20051103T000000
DTEND;TZID=Asia/Kolkata:20051103T000000
DTSTAMP:20260423T200548
CREATED:20250701T090101Z
LAST-MODIFIED:20250701T090101Z
UID:10003740-1130976000-1130976000@www.discoverhollywood.com
SUMMARY:Christmas Evil
DESCRIPTION:%3ca href%3d%22http%3a//thenewbev.com/%22 target%3d%22_blank%22%3ehttp%3a//thenewbev.com/%3c/a%3eDesignHTMLWords: 1   Characters: 19
URL:https://www.discoverhollywood.com/event/christmas-evil/
LOCATION:New Beverly Cinema\, 7165 Beverly Blvd.\, Hollywood\, California
END:VEVENT
END:VCALENDAR