BEGIN:VCALENDAR
VERSION:2.0
PRODID:-//Discover Hollywood Magazine - ECPv6.15.20//NONSGML v1.0//EN
CALSCALE:GREGORIAN
METHOD:PUBLISH
X-WR-CALNAME:Discover Hollywood Magazine
X-ORIGINAL-URL:https://www.discoverhollywood.com
X-WR-CALDESC:Events for Discover Hollywood Magazine
REFRESH-INTERVAL;VALUE=DURATION:PT1H
X-Robots-Tag:noindex
X-PUBLISHED-TTL:PT1H
BEGIN:VTIMEZONE
TZID:Asia/Kolkata
BEGIN:STANDARD
TZOFFSETFROM:+0530
TZOFFSETTO:+0530
TZNAME:IST
DTSTART:19960101T000000
END:STANDARD
END:VTIMEZONE
BEGIN:VEVENT
DTSTART;TZID=Asia/Kolkata:20080813T000000
DTEND;TZID=Asia/Kolkata:20080813T000000
DTSTAMP:20260424T013547
CREATED:20250701T063237Z
LAST-MODIFIED:20250701T063237Z
UID:10003328-1218585600-1218585600@www.discoverhollywood.com
SUMMARY:Bugsy Malone
DESCRIPTION:%3ca href%3d%22http%3a//thenewbev.com%22 target%3d%22_blank%22%3ehttp%3a//thenewbev.com%3c/a%3eDesignHTMLWords: 1   Characters: 18
URL:https://www.discoverhollywood.com/event/bugsy-malone/
LOCATION:New Beverly Cinema\, 7165 Beverly Blvd.\, Hollywood\, California
END:VEVENT
BEGIN:VEVENT
DTSTART;TZID=Asia/Kolkata:20080523T000000
DTEND;TZID=Asia/Kolkata:20080523T000000
DTSTAMP:20260424T013547
CREATED:20250701T063329Z
LAST-MODIFIED:20250701T063329Z
UID:10003369-1211500800-1211500800@www.discoverhollywood.com
SUMMARY:Butch & Sundance: The Early Days
DESCRIPTION:%3ca href%3d%22http%3a//thenewbev.com/%22 target%3d%22_blank%22%3ehttp%3a//thenewbev.com/%3c/a%3eDesignHTMLWords: 1   Characters: 19
URL:https://www.discoverhollywood.com/event/butch-sundance-the-early-days/
LOCATION:New Beverly Cinema\, 7165 Beverly Blvd.\, Hollywood\, California
END:VEVENT
BEGIN:VEVENT
DTSTART;TZID=Asia/Kolkata:20080521T000000
DTEND;TZID=Asia/Kolkata:20080521T000000
DTSTAMP:20260424T013547
CREATED:20250701T063329Z
LAST-MODIFIED:20250701T063329Z
UID:10003370-1211328000-1211328000@www.discoverhollywood.com
SUMMARY:Butch Cassidy and the Sundance Kid
DESCRIPTION:%3ca href%3d%22http%3a//thenewbev.com/%22 target%3d%22_blank%22%3ehttp%3a//thenewbev.com/%3c/a%3eDesignHTMLWords: 1   Characters: 19
URL:https://www.discoverhollywood.com/event/butch-cassidy-and-the-sundance-kid/
LOCATION:New Beverly Cinema\, 7165 Beverly Blvd.\, Hollywood\, California
END:VEVENT
BEGIN:VEVENT
DTSTART;TZID=Asia/Kolkata:20080328T000000
DTEND;TZID=Asia/Kolkata:20080328T000000
DTSTAMP:20260424T013547
CREATED:20250701T063417Z
LAST-MODIFIED:20250701T063417Z
UID:10003397-1206662400-1206662400@www.discoverhollywood.com
SUMMARY:Cabaret
DESCRIPTION:%3ca href%3d%22http%3a//thenewbev.com/%22 target%3d%22_blank%22%3ehttp%3a//thenewbev.com/%3c/a%3eDesignHTMLWords: 1   Characters: 19
URL:https://www.discoverhollywood.com/event/cabaret-2/
LOCATION:New Beverly Cinema\, 7165 Beverly Blvd.\, Hollywood\, California
END:VEVENT
BEGIN:VEVENT
DTSTART;TZID=Asia/Kolkata:20060721T000000
DTEND;TZID=Asia/Kolkata:20060721T000000
DTSTAMP:20260424T013547
CREATED:20250701T083033Z
LAST-MODIFIED:20250701T083033Z
UID:10003610-1153440000-1153440000@www.discoverhollywood.com
SUMMARY:Cheech and Chong's Next Movie
DESCRIPTION:%3ca href%3d%22http%3a//thenewbev.com/%22%3ehttp%3a//thenewbev.com/%3c/a%3eDesignHTMLWords: 1   Characters: 19
URL:https://www.discoverhollywood.com/event/cheech-and-chongs-next-movie/
LOCATION:New Beverly Cinema\, 7165 Beverly Blvd.\, Hollywood\, California
END:VEVENT
BEGIN:VEVENT
DTSTART;TZID=Asia/Kolkata:20051103T000000
DTEND;TZID=Asia/Kolkata:20051103T000000
DTSTAMP:20260424T013547
CREATED:20250701T090101Z
LAST-MODIFIED:20250701T090101Z
UID:10003740-1130976000-1130976000@www.discoverhollywood.com
SUMMARY:Christmas Evil
DESCRIPTION:%3ca href%3d%22http%3a//thenewbev.com/%22 target%3d%22_blank%22%3ehttp%3a//thenewbev.com/%3c/a%3eDesignHTMLWords: 1   Characters: 19
URL:https://www.discoverhollywood.com/event/christmas-evil/
LOCATION:New Beverly Cinema\, 7165 Beverly Blvd.\, Hollywood\, California
END:VEVENT
BEGIN:VEVENT
DTSTART;TZID=Asia/Kolkata:20050119T000000
DTEND;TZID=Asia/Kolkata:20050119T000000
DTSTAMP:20260424T013547
CREATED:20250701T093532Z
LAST-MODIFIED:20250701T093532Z
UID:10003884-1106092800-1106092800@www.discoverhollywood.com
SUMMARY:Cloudy With a Chance of Meatballs
DESCRIPTION:%3ca href%3d%22http%3a//thenewbev.com/%22%3ehttp%3a//thenewbev.com/%3c/a%3eDesignHTMLWords: 1   Characters: 19
URL:https://www.discoverhollywood.com/event/cloudy-with-a-chance-of-meatballs/
LOCATION:New Beverly Cinema\, 7165 Beverly Blvd.\, Hollywood\, California
END:VEVENT
BEGIN:VEVENT
DTSTART;TZID=Asia/Kolkata:20030317T000000
DTEND;TZID=Asia/Kolkata:20030317T000000
DTSTAMP:20260424T013547
CREATED:20250701T113013Z
LAST-MODIFIED:20250701T113013Z
UID:10004221-1047859200-1047859200@www.discoverhollywood.com
SUMMARY:Dames
DESCRIPTION:%3ca href%3d%22http%3a//thenewbev.com%22 target%3d%22_blank%22%3ehttp%3a//thenewbev.com%3c/a%3eDesignHTMLWords: 1   Characters: 18
URL:https://www.discoverhollywood.com/event/dames/
LOCATION:New Beverly Cinema\, 7165 Beverly Blvd.\, Hollywood\, California
END:VEVENT
BEGIN:VEVENT
DTSTART;TZID=Asia/Kolkata:20021107T000000
DTEND;TZID=Asia/Kolkata:20021107T000000
DTSTAMP:20260424T013547
CREATED:20250701T113503Z
LAST-MODIFIED:20250701T113503Z
UID:10004286-1036627200-1036627200@www.discoverhollywood.com
SUMMARY:Darby O'Gill and the Little People
DESCRIPTION:%3ca href%3d%22http%3a//thenewbev.com%22 target%3d%22_blank%22%3ehttp%3a//thenewbev.com%3c/a%3eDesignHTMLWords: 1   Characters: 18
URL:https://www.discoverhollywood.com/event/darby-ogill-and-the-little-people/
LOCATION:New Beverly Cinema\, 7165 Beverly Blvd.\, Hollywood\, California
END:VEVENT
BEGIN:VEVENT
DTSTART;TZID=Asia/Kolkata:20020314T000000
DTEND;TZID=Asia/Kolkata:20020314T000000
DTSTAMP:20260424T013547
CREATED:20250701T120418Z
LAST-MODIFIED:20250701T120418Z
UID:10004405-1016064000-1016064000@www.discoverhollywood.com
SUMMARY:Dazed and Confused
DESCRIPTION:http%3a//thenewbev.com/DesignHTMLWords: 1   Characters: 19
URL:https://www.discoverhollywood.com/event/dazed-and-confused/
LOCATION:New Beverly Cinema\, 7165 Beverly Blvd.\, Hollywood\, California
END:VEVENT
BEGIN:VEVENT
DTSTART;TZID=Asia/Kolkata:20020208T000000
DTEND;TZID=Asia/Kolkata:20020208T000000
DTSTAMP:20260424T013547
CREATED:20250701T120512Z
LAST-MODIFIED:20250701T120513Z
UID:10004422-1013126400-1013126400@www.discoverhollywood.com
SUMMARY:Dead Men Don't Wear Plaid
DESCRIPTION:%3ca href%3d%22http%3a//thenewbev.com%22 target%3d%22_blank%22%3ehttp%3a//thenewbev.com%3c/a%3eDesignHTMLWords: 1   Characters: 18
URL:https://www.discoverhollywood.com/event/dead-men-dont-wear-plaid/
LOCATION:New Beverly Cinema\, 7165 Beverly Blvd.\, Hollywood\, California
END:VEVENT
BEGIN:VEVENT
DTSTART;TZID=Asia/Kolkata:20020115T000000
DTEND;TZID=Asia/Kolkata:20020115T000000
DTSTAMP:20260424T013547
CREATED:20250701T120548Z
LAST-MODIFIED:20250701T120548Z
UID:10004434-1011052800-1011052800@www.discoverhollywood.com
SUMMARY:Deadly Illusion
DESCRIPTION:%3ca href%3d%22http%3a//thenewbev.com/%22 target%3d%22_blank%22%3ehttp%3a//thenewbev.com/%3c/a%3eDesignHTMLWords: 1   Characters: 19
URL:https://www.discoverhollywood.com/event/deadly-illusion/
LOCATION:New Beverly Cinema\, 7165 Beverly Blvd.\, Hollywood\, California
END:VEVENT
BEGIN:VEVENT
DTSTART;TZID=Asia/Kolkata:20011116T000000
DTEND;TZID=Asia/Kolkata:20011116T000000
DTSTAMP:20260424T013547
CREATED:20250701T120642Z
LAST-MODIFIED:20250701T120642Z
UID:10004464-1005868800-1005868800@www.discoverhollywood.com
SUMMARY:Death Race 2000
DESCRIPTION:%3ca href%3d%22http%3a//thenewbev.com/%22 target%3d%22_blank%22%3ehttp%3a//thenewbev.com/%3c/a%3eDesignHTMLWords: 1   Characters: 19
URL:https://www.discoverhollywood.com/event/death-race-2000/
LOCATION:New Beverly Cinema\, 7165 Beverly Blvd.\, Hollywood\, California
END:VEVENT
BEGIN:VEVENT
DTSTART;TZID=Asia/Kolkata:20010820T000000
DTEND;TZID=Asia/Kolkata:20010820T000000
DTSTAMP:20260424T013547
CREATED:20250701T120759Z
LAST-MODIFIED:20250701T120759Z
UID:10004508-998265600-998265600@www.discoverhollywood.com
SUMMARY:Deliverance
DESCRIPTION:%3ca href%3d%22http%3a//thenewbev.com/%22 target%3d%22_blank%22%3ehttp%3a//thenewbev.com/%3c/a%3eDesignHTMLWords: 1   Characters: 19
URL:https://www.discoverhollywood.com/event/deliverance/
LOCATION:New Beverly Cinema\, 7165 Beverly Blvd.\, Hollywood\, California
END:VEVENT
BEGIN:VEVENT
DTSTART;TZID=Asia/Kolkata:20010530T000000
DTEND;TZID=Asia/Kolkata:20010530T000000
DTSTAMP:20260424T013547
CREATED:20250701T120842Z
LAST-MODIFIED:20250701T120842Z
UID:10004549-991180800-991180800@www.discoverhollywood.com
SUMMARY:Desk Set
DESCRIPTION:%3ca href%3d%22http%3a//thenewbev.com/%22 target%3d%22_blank%22%3ehttp%3a//thenewbev.com/%3c/a%3eDesignHTMLWords: 1   Characters: 19
URL:https://www.discoverhollywood.com/event/desk-set/
LOCATION:New Beverly Cinema\, 7165 Beverly Blvd.\, Hollywood\, California
END:VEVENT
BEGIN:VEVENT
DTSTART;TZID=Asia/Kolkata:20010430T000000
DTEND;TZID=Asia/Kolkata:20010430T000000
DTSTAMP:20260424T013547
CREATED:20250701T120856Z
LAST-MODIFIED:20250701T120856Z
UID:10004564-988588800-988588800@www.discoverhollywood.com
SUMMARY:Devil in a Blue Dress
DESCRIPTION:%3ca href%3d%22http%3a//thenewbev.com/%22 target%3d%22_blank%22%3ehttp%3a//thenewbev.com/%3c/a%3eDesignHTMLWords: 1   Characters: 19
URL:https://www.discoverhollywood.com/event/devil-in-a-blue-dress/
LOCATION:New Beverly Cinema\, 7165 Beverly Blvd.\, Hollywood\, California
END:VEVENT
BEGIN:VEVENT
DTSTART;TZID=Asia/Kolkata:20010112T000000
DTEND;TZID=Asia/Kolkata:20010112T000000
DTSTAMP:20260424T013547
CREATED:20250701T122035Z
LAST-MODIFIED:20250701T122035Z
UID:10004608-979257600-979257600@www.discoverhollywood.com
SUMMARY:Diggstown
DESCRIPTION:%3ca href%3d%22http%3a//thenewbev.com/%22%3ehttp%3a//thenewbev.com/%3c/a%3eDesignHTMLWords: 1   Characters: 19
URL:https://www.discoverhollywood.com/event/diggstown/
LOCATION:New Beverly Cinema\, 7165 Beverly Blvd.\, Hollywood\, California
END:VEVENT
BEGIN:VEVENT
DTSTART;TZID=Asia/Kolkata:20001119T000000
DTEND;TZID=Asia/Kolkata:20001119T000000
DTSTAMP:20260424T013547
CREATED:20250701T122308Z
LAST-MODIFIED:20250701T122308Z
UID:10004635-974592000-974592000@www.discoverhollywood.com
SUMMARY:Dirty Harry
DESCRIPTION:%3ca href%3d%22http%3a//thenewbev.com/%22%3ehttp%3a//thenewbev.com/%3c/a%3eDesignHTMLWords: 1   Characters: 19
URL:https://www.discoverhollywood.com/event/dirty-harry/
LOCATION:New Beverly Cinema\, 7165 Beverly Blvd.\, Hollywood\, California
END:VEVENT
BEGIN:VEVENT
DTSTART;TZID=Asia/Kolkata:20001010T000000
DTEND;TZID=Asia/Kolkata:20001010T000000
DTSTAMP:20260424T013547
CREATED:20250701T123112Z
LAST-MODIFIED:20250701T123112Z
UID:10004655-971136000-971136000@www.discoverhollywood.com
SUMMARY:Disco Godfather
DESCRIPTION:%3ca href%3d%22http%3a//thenewbev.com/%22 target%3d%22_blank%22%3ehttp%3a//thenewbev.com/%3c/a%3eDesignHTMLWords: 1   Characters: 19
URL:https://www.discoverhollywood.com/event/disco-godfather/
LOCATION:New Beverly Cinema\, 7165 Beverly Blvd.\, Hollywood\, California
END:VEVENT
BEGIN:VEVENT
DTSTART;TZID=Asia/Kolkata:20000411T000000
DTEND;TZID=Asia/Kolkata:20000411T000000
DTSTAMP:20260424T013547
CREATED:20250701T125723Z
LAST-MODIFIED:20250701T125723Z
UID:10004746-955411200-955411200@www.discoverhollywood.com
SUMMARY:Don't Play With Fire
DESCRIPTION:%3ca href%3d%22http%3a//thenewbev.com/%22%3ehttp%3a//thenewbev.com/%3c/a%3eDesignHTMLWords: 1   Characters: 19
URL:https://www.discoverhollywood.com/event/dont-play-with-fire/
LOCATION:New Beverly Cinema\, 7165 Beverly Blvd.\, Hollywood\, California
END:VEVENT
BEGIN:VEVENT
DTSTART;TZID=Asia/Kolkata:20000320T000000
DTEND;TZID=Asia/Kolkata:20000320T000000
DTSTAMP:20260424T013547
CREATED:20250701T125737Z
LAST-MODIFIED:20250701T125737Z
UID:10004757-953510400-953510400@www.discoverhollywood.com
SUMMARY:Donnie Brasco
DESCRIPTION:%3ca href%3d%22http%3a//thenewbev.com%22 target%3d%22_blank%22%3ehttp%3a//thenewbev.com%3c/a%3eDesignHTMLWords: 1   Characters: 18
URL:https://www.discoverhollywood.com/event/donnie-brasco/
LOCATION:New Beverly Cinema\, 7165 Beverly Blvd.\, Hollywood\, California
END:VEVENT
BEGIN:VEVENT
DTSTART;TZID=Asia/Kolkata:19990827T000000
DTEND;TZID=Asia/Kolkata:19990827T000000
DTSTAMP:20260424T013547
CREATED:20250701T125939Z
LAST-MODIFIED:20250701T125939Z
UID:10004860-935712000-935712000@www.discoverhollywood.com
SUMMARY:Drive\, He Said
DESCRIPTION:%3ca href%3d%22http%3a//thenewbev.com/%22%3ehttp%3a//thenewbev.com/%3c/a%3eDesignHTMLWords: 1   Characters: 19
URL:https://www.discoverhollywood.com/event/drive-he-said/
LOCATION:New Beverly Cinema\, 7165 Beverly Blvd.\, Hollywood\, California
END:VEVENT
BEGIN:VEVENT
DTSTART;TZID=Asia/Kolkata:19980627T000000
DTEND;TZID=Asia/Kolkata:19980627T000000
DTSTAMP:20260424T013547
CREATED:20250702T052031Z
LAST-MODIFIED:20250702T052031Z
UID:10005245-898905600-898905600@www.discoverhollywood.com
SUMMARY:Escape From Alcatraz
DESCRIPTION:%3ca href%3d%22http%3a//thenewbev.com/%22%3ehttp%3a//thenewbev.com/%3c/a%3eDesignHTMLWords: 1   Characters: 19
URL:https://www.discoverhollywood.com/event/escape-from-alcatraz/
LOCATION:New Beverly Cinema\, 7165 Beverly Blvd.\, Hollywood\, California
END:VEVENT
BEGIN:VEVENT
DTSTART;TZID=Asia/Kolkata:19980510T000000
DTEND;TZID=Asia/Kolkata:19980510T000000
DTSTAMP:20260424T013547
CREATED:20250702T052750Z
LAST-MODIFIED:20250702T052750Z
UID:10005293-894758400-894758400@www.discoverhollywood.com
SUMMARY:Everything You Always Wanted to Know About Sex* But Were Afraid to Ask
DESCRIPTION:%3ca href%3d%22http%3a//thenewbev.com%22 target%3d%22_blank%22%3ehttp%3a//thenewbev.com%3c/a%3eDesignHTMLWords: 1   Characters: 18
URL:https://www.discoverhollywood.com/event/everything-you-always-wanted-to-know-about-sex-but-were-afraid-to-ask/
LOCATION:New Beverly Cinema\, 7165 Beverly Blvd.\, Hollywood\, California
END:VEVENT
BEGIN:VEVENT
DTSTART;TZID=Asia/Kolkata:19980424T000000
DTEND;TZID=Asia/Kolkata:19980424T000000
DTSTAMP:20260424T013547
CREATED:20250702T053044Z
LAST-MODIFIED:20250702T053044Z
UID:10005309-893376000-893376000@www.discoverhollywood.com
SUMMARY:Exit the Dragon\, Enter the Tiger
DESCRIPTION:%3ca href%3d%22http%3a//thenewbev.com%22 target%3d%22_blank%22%3ehttp%3a//thenewbev.com%3c/a%3eDesignHTMLWords: 1   Characters: 18
URL:https://www.discoverhollywood.com/event/exit-the-dragon-enter-the-tiger/
LOCATION:New Beverly Cinema\, 7165 Beverly Blvd.\, Hollywood\, California
END:VEVENT
BEGIN:VEVENT
DTSTART;TZID=Asia/Kolkata:19980410T000000
DTEND;TZID=Asia/Kolkata:19980410T000000
DTSTAMP:20260424T013547
CREATED:20250702T053648Z
LAST-MODIFIED:20250702T053648Z
UID:10005323-892166400-892166400@www.discoverhollywood.com
SUMMARY:Eyes Wide Shut
DESCRIPTION:%3ca href%3d%22http%3a//thenewbev.com/%22%3ehttp%3a//thenewbev.com/%3c/a%3eDesignHTMLWords: 1   Characters: 19
URL:https://www.discoverhollywood.com/event/eyes-wide-shut/
LOCATION:New Beverly Cinema\, 7165 Beverly Blvd.\, Hollywood\, California
END:VEVENT
BEGIN:VEVENT
DTSTART;TZID=Asia/Kolkata:19980227T000000
DTEND;TZID=Asia/Kolkata:19980227T000000
DTSTAMP:20260424T013547
CREATED:20250702T055446Z
LAST-MODIFIED:20250702T055446Z
UID:10005365-888537600-888537600@www.discoverhollywood.com
SUMMARY:Family Enforcer (aka The Death Collector)
DESCRIPTION:%3ca href%3d%22http%3a//thenewbev.com%22 target%3d%22_blank%22%3ehttp%3a//thenewbev.com%3c/a%3eDesignHTMLWords: 1   Characters: 18
URL:https://www.discoverhollywood.com/event/family-enforcer-aka-the-death-collector/
LOCATION:New Beverly Cinema\, 7165 Beverly Blvd.\, Hollywood\, California
END:VEVENT
BEGIN:VEVENT
DTSTART;TZID=Asia/Kolkata:19980221T000000
DTEND;TZID=Asia/Kolkata:19980221T000000
DTSTAMP:20260424T013547
CREATED:20250702T055613Z
LAST-MODIFIED:20250702T055613Z
UID:10005371-888019200-888019200@www.discoverhollywood.com
SUMMARY:Family Plot
DESCRIPTION:%3ca href%3d%22http%3a//thenewbev.com/%22%3ehttp%3a//thenewbev.com/%3c/a%3eDesignHTMLWords: 1   Characters: 19
URL:https://www.discoverhollywood.com/event/family-plot/
LOCATION:New Beverly Cinema\, 7165 Beverly Blvd.\, Hollywood\, California
END:VEVENT
BEGIN:VEVENT
DTSTART;TZID=Asia/Kolkata:19980120T000000
DTEND;TZID=Asia/Kolkata:19980120T000000
DTSTAMP:20260424T013547
CREATED:20250702T060013Z
LAST-MODIFIED:20250702T060013Z
UID:10005403-885254400-885254400@www.discoverhollywood.com
SUMMARY:Faster Pussycat! Kill! Kill!
DESCRIPTION:%3ca href%3d%22http%3a//thenewbev.com/%22 target%3d%22_blank%22%3ehttp%3a//thenewbev.com/%3c/a%3eDesignHTMLWords: 1   Characters: 19
URL:https://www.discoverhollywood.com/event/faster-pussycat-kill-kill/
LOCATION:New Beverly Cinema\, 7165 Beverly Blvd.\, Hollywood\, California
END:VEVENT
BEGIN:VEVENT
DTSTART;TZID=Asia/Kolkata:19971009T000000
DTEND;TZID=Asia/Kolkata:19971009T000000
DTSTAMP:20260424T013547
CREATED:20250703T061418Z
LAST-MODIFIED:20250703T061418Z
UID:10005506-876355200-876355200@www.discoverhollywood.com
SUMMARY:Fillmore
DESCRIPTION:%3ca href%3d%22http%3a//thenewbev.com/%22 target%3d%22_blank%22%3ehttp%3a//thenewbev.com/%3c/a%3eDesignHTMLWords: 1   Characters: 19
URL:https://www.discoverhollywood.com/event/fillmore/
LOCATION:New Beverly Cinema\, 7165 Beverly Blvd.\, Hollywood\, California
END:VEVENT
END:VCALENDAR