BEGIN:VCALENDAR
VERSION:2.0
PRODID:-//Discover Hollywood Magazine - ECPv6.15.20//NONSGML v1.0//EN
CALSCALE:GREGORIAN
METHOD:PUBLISH
X-ORIGINAL-URL:https://www.discoverhollywood.com
X-WR-CALDESC:Events for Discover Hollywood Magazine
REFRESH-INTERVAL;VALUE=DURATION:PT1H
X-Robots-Tag:noindex
X-PUBLISHED-TTL:PT1H
BEGIN:VTIMEZONE
TZID:Asia/Kolkata
BEGIN:STANDARD
TZOFFSETFROM:+0530
TZOFFSETTO:+0530
TZNAME:IST
DTSTART:19840101T000000
END:STANDARD
END:VTIMEZONE
BEGIN:VEVENT
DTSTART;TZID=Asia/Kolkata:19931022T000000
DTEND;TZID=Asia/Kolkata:19931022T000000
DTSTAMP:20260424T122510
CREATED:20250703T105745Z
LAST-MODIFIED:20250703T105745Z
UID:10006665-751248000-751248000@www.discoverhollywood.com
SUMMARY:I Ought To Be In Pictures
DESCRIPTION:%3ca href%3d%22http%3a//thenewbev.com/%22%3ehttp%3a//thenewbev.com/%3c/a%3eDesignHTMLWords: 1   Characters: 19
URL:https://www.discoverhollywood.com/event/i-ought-to-be-in-pictures/
LOCATION:New Beverly Cinema\, 7165 Beverly Blvd.\, Hollywood\, California
END:VEVENT
BEGIN:VEVENT
DTSTART;TZID=Asia/Kolkata:19930820T000000
DTEND;TZID=Asia/Kolkata:19930820T000000
DTSTAMP:20260424T122510
CREATED:20250703T105853Z
LAST-MODIFIED:20250703T105853Z
UID:10006728-745804800-745804800@www.discoverhollywood.com
SUMMARY:Il Bidone
DESCRIPTION:%3ca href%3d%22http%3a//thenewbev.com%22 target%3d%22_blank%22%3ehttp%3a//thenewbev.com%3c/a%3eDesignHTMLWords: 1   Characters: 18
URL:https://www.discoverhollywood.com/event/il-bidone/
LOCATION:New Beverly Cinema\, 7165 Beverly Blvd.\, Hollywood\, California
END:VEVENT
BEGIN:VEVENT
DTSTART;TZID=Asia/Kolkata:19930127T000000
DTEND;TZID=Asia/Kolkata:19930127T000000
DTSTAMP:20260424T122510
CREATED:20250703T111218Z
LAST-MODIFIED:20250703T111218Z
UID:10006933-728092800-728092800@www.discoverhollywood.com
SUMMARY:It's a Wonderful Life
DESCRIPTION:%3ca href%3d%22http%3a//thenewbev.com/%22 target%3d%22_blank%22%3ehttp%3a//thenewbev.com/%3c/a%3eDesignHTMLWords: 1   Characters: 19
URL:https://www.discoverhollywood.com/event/its-a-wonderful-life-4/
LOCATION:New Beverly Cinema\, 7165 Beverly Blvd.\, Hollywood\, California
END:VEVENT
BEGIN:VEVENT
DTSTART;TZID=Asia/Kolkata:19921206T000000
DTEND;TZID=Asia/Kolkata:19921206T000000
DTSTAMP:20260424T122510
CREATED:20250703T111430Z
LAST-MODIFIED:20250703T111430Z
UID:10006985-723600000-723600000@www.discoverhollywood.com
SUMMARY:J.W.Coop
DESCRIPTION:%3ca href%3d%22http%3a//thenewbev.com%22 target%3d%22_blank%22%3ehttp%3a//thenewbev.com%3c/a%3eDesignHTMLWords: 1   Characters: 18
URL:https://www.discoverhollywood.com/event/j-w-coop/
LOCATION:New Beverly Cinema\, 7165 Beverly Blvd.\, Hollywood\, California
END:VEVENT
BEGIN:VEVENT
DTSTART;TZID=Asia/Kolkata:19921109T000000
DTEND;TZID=Asia/Kolkata:19921109T000000
DTSTAMP:20260424T122510
CREATED:20250703T111511Z
LAST-MODIFIED:20250703T111511Z
UID:10007012-721267200-721267200@www.discoverhollywood.com
SUMMARY:Jackie Brown
DESCRIPTION:%3ca href%3d%22http%3a//thenewbev.com/%22 target%3d%22_blank%22%3ehttp%3a//thenewbev.com/%3c/a%3eDesignHTMLWords: 1   Characters: 19
URL:https://www.discoverhollywood.com/event/jackie-brown/
LOCATION:New Beverly Cinema\, 7165 Beverly Blvd.\, Hollywood\, California
END:VEVENT
BEGIN:VEVENT
DTSTART;TZID=Asia/Kolkata:19920519T000000
DTEND;TZID=Asia/Kolkata:19920519T000000
DTSTAMP:20260424T122510
CREATED:20250703T113941Z
LAST-MODIFIED:20250703T113941Z
UID:10007186-706233600-706233600@www.discoverhollywood.com
SUMMARY:Jaws
DESCRIPTION:%3ca href%3d%22http%3a//thenewbev.com/%22 target%3d%22_blank%22%3ehttp%3a//thenewbev.com/%3c/a%3eDesignHTMLWords: 1   Characters: 19
URL:https://www.discoverhollywood.com/event/jaws-2/
LOCATION:New Beverly Cinema\, 7165 Beverly Blvd.\, Hollywood\, California
END:VEVENT
BEGIN:VEVENT
DTSTART;TZID=Asia/Kolkata:19911120T000000
DTEND;TZID=Asia/Kolkata:19911120T000000
DTSTAMP:20260424T122510
CREATED:20250703T120447Z
LAST-MODIFIED:20250703T120447Z
UID:10007367-690595200-690595200@www.discoverhollywood.com
SUMMARY:Jingle All the Way
DESCRIPTION:%3ca href%3d%22http%3a//thenewbev.com/%22 target%3d%22_blank%22%3ehttp%3a//thenewbev.com/%3c/a%3eDesignHTMLWords: 1   Characters: 19
URL:https://www.discoverhollywood.com/event/jingle-all-the-way/
LOCATION:New Beverly Cinema\, 7165 Beverly Blvd.\, Hollywood\, California
END:VEVENT
BEGIN:VEVENT
DTSTART;TZID=Asia/Kolkata:19910122T000000
DTEND;TZID=Asia/Kolkata:19910122T000000
DTSTAMP:20260424T122510
CREATED:20250703T122105Z
LAST-MODIFIED:20250703T122105Z
UID:10007669-664502400-664502400@www.discoverhollywood.com
SUMMARY:Jurassic Park
DESCRIPTION:%3ca href%3d%22http%3a//thenewbev.com/%22%3ehttp%3a//thenewbev.com/%3c/a%3eDesignHTMLWords: 1   Characters: 19
URL:https://www.discoverhollywood.com/event/jurassic-park/
LOCATION:New Beverly Cinema\, 7165 Beverly Blvd.\, Hollywood\, California
END:VEVENT
BEGIN:VEVENT
DTSTART;TZID=Asia/Kolkata:19901107T000000
DTEND;TZID=Asia/Kolkata:19901107T000000
DTSTAMP:20260424T122510
CREATED:20250709T090422Z
LAST-MODIFIED:20250709T090422Z
UID:10008405-657936000-657936000@www.discoverhollywood.com
SUMMARY:Let The Good Times Roll
DESCRIPTION:%3ca href%3d%22http%3a//thenewbev.com/%22 target%3d%22_blank%22%3ehttp%3a//thenewbev.com/%3c/a%3eDesignHTMLWords: 1   Characters: 19
URL:https://www.discoverhollywood.com/event/let-the-good-times-roll/
LOCATION:New Beverly Cinema\, 7165 Beverly Blvd.\, Hollywood\, California
END:VEVENT
BEGIN:VEVENT
DTSTART;TZID=Asia/Kolkata:19900612T000000
DTEND;TZID=Asia/Kolkata:19900612T000000
DTSTAMP:20260424T122510
CREATED:20250709T060604Z
LAST-MODIFIED:20250709T060604Z
UID:10007893-645148800-645148800@www.discoverhollywood.com
SUMMARY:Kill Bill Vol. 1
DESCRIPTION:%3ca href%3d%22http%3a//thenewbev.com/%22 target%3d%22_blank%22%3ehttp%3a//thenewbev.com/%3c/a%3eDesignHTMLWords: 1   Characters: 19
URL:https://www.discoverhollywood.com/event/kill-bill-vol-1/
LOCATION:New Beverly Cinema\, 7165 Beverly Blvd.\, Hollywood\, California
END:VEVENT
BEGIN:VEVENT
DTSTART;TZID=Asia/Kolkata:19900611T000000
DTEND;TZID=Asia/Kolkata:19900611T000000
DTSTAMP:20260424T122510
CREATED:20250709T060604Z
LAST-MODIFIED:20250709T060604Z
UID:10007894-645062400-645062400@www.discoverhollywood.com
SUMMARY:Kill Bill Vol. 2
DESCRIPTION:%3ca href%3d%22http%3a//thenewbev.com/%22 target%3d%22_blank%22%3ehttp%3a//thenewbev.com/%3c/a%3eDesignHTMLWords: 1   Characters: 19
URL:https://www.discoverhollywood.com/event/kill-bill-vol-2/
LOCATION:New Beverly Cinema\, 7165 Beverly Blvd.\, Hollywood\, California
END:VEVENT
BEGIN:VEVENT
DTSTART;TZID=Asia/Kolkata:19900110T000000
DTEND;TZID=Asia/Kolkata:19900110T000000
DTSTAMP:20260424T122510
CREATED:20250709T062912Z
LAST-MODIFIED:20250709T062912Z
UID:10008046-631929600-631929600@www.discoverhollywood.com
SUMMARY:Kung Fu Executioner
DESCRIPTION:%3ca href%3d%22http%3a//thenewbev.com%22 target%3d%22_blank%22%3ehttp%3a//thenewbev.com%3c/a%3eDesignHTMLWords: 1   Characters: 18
URL:https://www.discoverhollywood.com/event/kung-fu-executioner/
LOCATION:New Beverly Cinema\, 7165 Beverly Blvd.\, Hollywood\, California
END:VEVENT
BEGIN:VEVENT
DTSTART;TZID=Asia/Kolkata:19890415T000000
DTEND;TZID=Asia/Kolkata:19890415T000000
DTSTAMP:20260424T122510
CREATED:20250709T123319Z
LAST-MODIFIED:20250709T123319Z
UID:10008726-608601600-608601600@www.discoverhollywood.com
SUMMARY:Magnolia
DESCRIPTION:%3ca href%3d%22http%3a//thenewbev.com/%22%3ehttp%3a//thenewbev.com/%3c/a%3eDesignHTMLWords: 1   Characters: 19
URL:https://www.discoverhollywood.com/event/magnolia/
LOCATION:New Beverly Cinema\, 7165 Beverly Blvd.\, Hollywood\, California
END:VEVENT
BEGIN:VEVENT
DTSTART;TZID=Asia/Kolkata:19890403T000000
DTEND;TZID=Asia/Kolkata:19890403T000000
DTSTAMP:20260424T122510
CREATED:20250709T123405Z
LAST-MODIFIED:20250709T123405Z
UID:10008728-607564800-607564800@www.discoverhollywood.com
SUMMARY:Major Dundee
DESCRIPTION:%3ca href%3d%22http%3a//thenewbev.com/%22%3ehttp%3a//thenewbev.com/%3c/a%3eDesignHTMLWords: 1   Characters: 19
URL:https://www.discoverhollywood.com/event/major-dundee/
LOCATION:New Beverly Cinema\, 7165 Beverly Blvd.\, Hollywood\, California
END:VEVENT
BEGIN:VEVENT
DTSTART;TZID=Asia/Kolkata:19890309T000000
DTEND;TZID=Asia/Kolkata:19890309T000000
DTSTAMP:20260424T122510
CREATED:20250709T123450Z
LAST-MODIFIED:20250709T123450Z
UID:10008753-605404800-605404800@www.discoverhollywood.com
SUMMARY:Malone
DESCRIPTION:%3ca href%3d%22http%3a//thenewbev.com/%22 target%3d%22_blank%22%3ehttp%3a//thenewbev.com/%3c/a%3eDesignHTMLWords: 1   Characters: 19
URL:https://www.discoverhollywood.com/event/malone/
LOCATION:New Beverly Cinema\, 7165 Beverly Blvd.\, Hollywood\, California
END:VEVENT
BEGIN:VEVENT
DTSTART;TZID=Asia/Kolkata:19890120T000000
DTEND;TZID=Asia/Kolkata:19890120T000000
DTSTAMP:20260424T122510
CREATED:20250709T123653Z
LAST-MODIFIED:20250709T123653Z
UID:10008801-601257600-601257600@www.discoverhollywood.com
SUMMARY:March of the Wooden Soldiers
DESCRIPTION:%3ca href%3d%22http%3a//thenewbev.com/%22 target%3d%22_blank%22%3ehttp%3a//thenewbev.com/%3c/a%3eDesignHTMLWords: 1   Characters: 19
URL:https://www.discoverhollywood.com/event/march-of-the-wooden-soldiers/
LOCATION:New Beverly Cinema\, 7165 Beverly Blvd.\, Hollywood\, California
END:VEVENT
BEGIN:VEVENT
DTSTART;TZID=Asia/Kolkata:19871013T000000
DTEND;TZID=Asia/Kolkata:19871013T000000
DTSTAMP:20260424T122510
CREATED:20250710T095814Z
LAST-MODIFIED:20250710T095814Z
UID:10009266-561081600-561081600@www.discoverhollywood.com
SUMMARY:Mildred Pierce
DESCRIPTION:%3ca href%3d%22http%3a//thenewbev.com%22 target%3d%22_blank%22%3ehttp%3a//thenewbev.com%3c/a%3eDesignHTMLWords: 1   Characters: 18
URL:https://www.discoverhollywood.com/event/mildred-pierce-2/
LOCATION:New Beverly Cinema\, 7165 Beverly Blvd.\, Hollywood\, California
END:VEVENT
BEGIN:VEVENT
DTSTART;TZID=Asia/Kolkata:19870503T000000
DTEND;TZID=Asia/Kolkata:19870503T000000
DTSTAMP:20260424T122510
CREATED:20250710T101614Z
LAST-MODIFIED:20250710T101614Z
UID:10009429-546998400-546998400@www.discoverhollywood.com
SUMMARY:Monterey Pop
DESCRIPTION:%3ca href%3d%22http%3a//thenewbev.com/%22 target%3d%22_blank%22%3ehttp%3a//thenewbev.com/%3c/a%3eDesignHTMLWords: 1   Characters: 19
URL:https://www.discoverhollywood.com/event/monterey-pop/
LOCATION:New Beverly Cinema\, 7165 Beverly Blvd.\, Hollywood\, California
END:VEVENT
BEGIN:VEVENT
DTSTART;TZID=Asia/Kolkata:19870427T000000
DTEND;TZID=Asia/Kolkata:19870427T000000
DTSTAMP:20260424T122510
CREATED:20250710T101617Z
LAST-MODIFIED:20250710T101617Z
UID:10009435-546480000-546480000@www.discoverhollywood.com
SUMMARY:Monty Python and the Holy Grail
DESCRIPTION:%3ca href%3d%22http%3a//thenewbev.com%22 target%3d%22_blank%22%3ehttp%3a//thenewbev.com%3c/a%3eDesignHTMLWords: 1   Characters: 18
URL:https://www.discoverhollywood.com/event/monty-python-and-the-holy-grail/
LOCATION:New Beverly Cinema\, 7165 Beverly Blvd.\, Hollywood\, California
END:VEVENT
BEGIN:VEVENT
DTSTART;TZID=Asia/Kolkata:19870426T000000
DTEND;TZID=Asia/Kolkata:19870426T000000
DTSTAMP:20260424T122510
CREATED:20250710T101617Z
LAST-MODIFIED:20250710T101617Z
UID:10009436-546393600-546393600@www.discoverhollywood.com
SUMMARY:Monty Python's The Meaning of Life
DESCRIPTION:%3ca href%3d%22http%3a//thenewbev.com%22 target%3d%22_blank%22%3ehttp%3a//thenewbev.com%3c/a%3eDesignHTMLWords: 1   Characters: 18
URL:https://www.discoverhollywood.com/event/monty-pythons-the-meaning-of-life/
LOCATION:New Beverly Cinema\, 7165 Beverly Blvd.\, Hollywood\, California
END:VEVENT
BEGIN:VEVENT
DTSTART;TZID=Asia/Kolkata:19870408T000000
DTEND;TZID=Asia/Kolkata:19870408T000000
DTSTAMP:20260424T122510
CREATED:20250710T101636Z
LAST-MODIFIED:20250710T101636Z
UID:10009454-544838400-544838400@www.discoverhollywood.com
SUMMARY:More American Graffiti
DESCRIPTION:%3ca href%3d%22http%3a//thenewbev.com%22 target%3d%22_blank%22%3ehttp%3a//thenewbev.com%3c/a%3eDesignHTMLWords: 1   Characters: 18
URL:https://www.discoverhollywood.com/event/more-american-graffiti/
LOCATION:New Beverly Cinema\, 7165 Beverly Blvd.\, Hollywood\, California
END:VEVENT
BEGIN:VEVENT
DTSTART;TZID=Asia/Kolkata:19870310T000000
DTEND;TZID=Asia/Kolkata:19870310T000000
DTSTAMP:20260424T122510
CREATED:20250710T101706Z
LAST-MODIFIED:20250710T101706Z
UID:10009483-542332800-542332800@www.discoverhollywood.com
SUMMARY:Motorpsycho
DESCRIPTION:%3ca href%3d%22http%3a//thenewbev.com/%22 target%3d%22_blank%22%3ehttp%3a//thenewbev.com/%3c/a%3eDesignHTMLWords: 1   Characters: 19
URL:https://www.discoverhollywood.com/event/motorpsycho/
LOCATION:New Beverly Cinema\, 7165 Beverly Blvd.\, Hollywood\, California
END:VEVENT
BEGIN:VEVENT
DTSTART;TZID=Asia/Kolkata:19860817T000000
DTEND;TZID=Asia/Kolkata:19860817T000000
DTSTAMP:20260424T122510
CREATED:20250710T115650Z
LAST-MODIFIED:20250710T115650Z
UID:10009688-524620800-524620800@www.discoverhollywood.com
SUMMARY:National Lampoon's Christmas Vacation
DESCRIPTION:%3ca href%3d%22http%3a//thenewbev.com/%22 target%3d%22_blank%22%3ehttp%3a//thenewbev.com/%3c/a%3eDesignHTMLWords: 1   Characters: 19
URL:https://www.discoverhollywood.com/event/national-lampoons-christmas-vacation/
LOCATION:New Beverly Cinema\, 7165 Beverly Blvd.\, Hollywood\, California
END:VEVENT
BEGIN:VEVENT
DTSTART;TZID=Asia/Kolkata:19860816T000000
DTEND;TZID=Asia/Kolkata:19860816T000000
DTSTAMP:20260424T122510
CREATED:20250710T115651Z
LAST-MODIFIED:20250710T115651Z
UID:10009689-524534400-524534400@www.discoverhollywood.com
SUMMARY:National Velvet
DESCRIPTION:%3ca href%3d%22http%3a//thenewbev.com%22 target%3d%22_blank%22%3ehttp%3a//thenewbev.com%3c/a%3eDesignHTMLWords: 1   Characters: 18
URL:https://www.discoverhollywood.com/event/national-velvet/
LOCATION:New Beverly Cinema\, 7165 Beverly Blvd.\, Hollywood\, California
END:VEVENT
BEGIN:VEVENT
DTSTART;TZID=Asia/Kolkata:19860714T000000
DTEND;TZID=Asia/Kolkata:19860714T000000
DTSTAMP:20260424T122510
CREATED:20250710T120010Z
LAST-MODIFIED:20250710T120010Z
UID:10009722-521683200-521683200@www.discoverhollywood.com
SUMMARY:Neighbors
DESCRIPTION:%3ca href%3d%22http%3a//thenewbev.com/%22%3ehttp%3a//thenewbev.com/%3c/a%3eDesignHTMLWords: 1   Characters: 19
URL:https://www.discoverhollywood.com/event/neighbors-2/
LOCATION:New Beverly Cinema\, 7165 Beverly Blvd.\, Hollywood\, California
END:VEVENT
BEGIN:VEVENT
DTSTART;TZID=Asia/Kolkata:19860406T000000
DTEND;TZID=Asia/Kolkata:19860406T000000
DTSTAMP:20260424T122510
CREATED:20250710T120342Z
LAST-MODIFIED:20250710T120342Z
UID:10009821-513129600-513129600@www.discoverhollywood.com
SUMMARY:New Year's Evil
DESCRIPTION:%3ca href%3d%22http%3a//thenewbev.com/%22 target%3d%22_blank%22%3ehttp%3a//thenewbev.com/%3c/a%3eDesignHTMLWords: 1   Characters: 19
URL:https://www.discoverhollywood.com/event/new-years-evil/
LOCATION:New Beverly Cinema\, 7165 Beverly Blvd.\, Hollywood\, California
END:VEVENT
BEGIN:VEVENT
DTSTART;TZID=Asia/Kolkata:19860204T000000
DTEND;TZID=Asia/Kolkata:19860204T000000
DTSTAMP:20260424T122510
CREATED:20250710T121040Z
LAST-MODIFIED:20250710T121040Z
UID:10009882-507859200-507859200@www.discoverhollywood.com
SUMMARY:Nighthawks
DESCRIPTION:%3ca href%3d%22http%3a//thenewbev.com/%22 target%3d%22_blank%22%3ehttp%3a//thenewbev.com/%3c/a%3eDesignHTMLWords: 1   Characters: 19
URL:https://www.discoverhollywood.com/event/nighthawks/
LOCATION:New Beverly Cinema\, 7165 Beverly Blvd.\, Hollywood\, California
END:VEVENT
BEGIN:VEVENT
DTSTART;TZID=Asia/Kolkata:19850718T000000
DTEND;TZID=Asia/Kolkata:19850718T000000
DTSTAMP:20260424T122510
CREATED:20250710T122421Z
LAST-MODIFIED:20250716T064741Z
UID:10010083-490492800-490492800@www.discoverhollywood.com
SUMMARY:Oliver!
DESCRIPTION:%3ca href%3d%22http%3a//thenewbev.com/%22 target%3d%22_blank%22%3ehttp%3a//thenewbev.com/%3c/a%3eDesignHTMLWords: 1   Characters: 19
URL:https://www.discoverhollywood.com/event/oliver/
LOCATION:New Beverly Cinema\, 7165 Beverly Blvd.\, Hollywood\, California
END:VEVENT
BEGIN:VEVENT
DTSTART;TZID=Asia/Kolkata:19850602T000000
DTEND;TZID=Asia/Kolkata:19850602T000000
DTSTAMP:20260424T122510
CREATED:20250710T122552Z
LAST-MODIFIED:20250710T122552Z
UID:10010129-486518400-486518400@www.discoverhollywood.com
SUMMARY:One Flew Over the Cuckoo's Nest
DESCRIPTION:%3ca href%3d%22http%3a//thenewbev.com/%22 target%3d%22_blank%22%3ehttp%3a//thenewbev.com/%3c/a%3eDesignHTMLWords: 1   Characters: 19
URL:https://www.discoverhollywood.com/event/one-flew-over-the-cuckoos-nest/
LOCATION:New Beverly Cinema\, 7165 Beverly Blvd.\, Hollywood\, California
END:VEVENT
BEGIN:VEVENT
DTSTART;TZID=Asia/Kolkata:19850507T000000
DTEND;TZID=Asia/Kolkata:19850507T000000
DTSTAMP:20260424T122510
CREATED:20250710T122704Z
LAST-MODIFIED:20250710T122704Z
UID:10010155-484272000-484272000@www.discoverhollywood.com
SUMMARY:Only When I Laugh
DESCRIPTION:%3ca href%3d%22http%3a//thenewbev.com/%22%3ehttp%3a//thenewbev.com/%3c/a%3eDesignHTMLWords: 1   Characters: 19
URL:https://www.discoverhollywood.com/event/only-when-i-laugh/
LOCATION:New Beverly Cinema\, 7165 Beverly Blvd.\, Hollywood\, California
END:VEVENT
END:VCALENDAR