BEGIN:VCALENDAR
VERSION:2.0
PRODID:-//Discover Hollywood Magazine - ECPv6.15.20//NONSGML v1.0//EN
CALSCALE:GREGORIAN
METHOD:PUBLISH
X-WR-CALNAME:Discover Hollywood Magazine
X-ORIGINAL-URL:https://www.discoverhollywood.com
X-WR-CALDESC:Events for Discover Hollywood Magazine
REFRESH-INTERVAL;VALUE=DURATION:PT1H
X-Robots-Tag:noindex
X-PUBLISHED-TTL:PT1H
BEGIN:VTIMEZONE
TZID:Asia/Kolkata
BEGIN:STANDARD
TZOFFSETFROM:+0530
TZOFFSETTO:+0530
TZNAME:IST
DTSTART:19780101T000000
END:STANDARD
END:VTIMEZONE
BEGIN:VEVENT
DTSTART;TZID=Asia/Kolkata:20161103T000000
DTEND;TZID=Asia/Kolkata:20161103T000000
DTSTAMP:20260424T212127
CREATED:20250630T105714Z
LAST-MODIFIED:20250630T105714Z
UID:10001891-1478131200-1478131200@www.discoverhollywood.com
SUMMARY:An Evening of Short Film Screenings
DESCRIPTION:DesignHTMLWords: 0   Characters: 0
URL:https://www.discoverhollywood.com/event/an-evening-of-short-film-screenings-2/
LOCATION:Newfilmmakers\, 1438 N. Gower St.\, Los Angeles\, California\, 90028
END:VEVENT
BEGIN:VEVENT
DTSTART;TZID=Asia/Kolkata:19930408T000000
DTEND;TZID=Asia/Kolkata:19930408T000000
DTSTAMP:20260424T212127
CREATED:20250703T110856Z
LAST-MODIFIED:20250703T110856Z
UID:10006862-734227200-734227200@www.discoverhollywood.com
SUMMARY:International and Local Shorts
DESCRIPTION:3 separate screenings\n%3cbr%3e\nIn Focus%3a Black Cinema\n%3cbr%3e\n%3cspan%3eIn Focus Shorts Program%3a Cinema of the Middle East and Arabian Peninsula%3c/span%3e\n%3cbr%3eDesignHTMLWords: 19   Characters: 115
URL:https://www.discoverhollywood.com/event/international-and-local-shorts/
LOCATION:Newfilmmakers\, 1438 N. Gower St.\, Los Angeles\, California\, 90028
END:VEVENT
BEGIN:VEVENT
DTSTART;TZID=Asia/Kolkata:19860427T000000
DTEND;TZID=Asia/Kolkata:19860427T000000
DTSTAMP:20260424T212127
CREATED:20250710T120315Z
LAST-MODIFIED:20250710T120315Z
UID:10009800-514944000-514944000@www.discoverhollywood.com
SUMMARY:New Filmmakers LA June Screening
DESCRIPTION:%3cb%3e6%3a00PM Shorts Program %231 Pre-Screening Reception %3cbr%3e6%3a30PM Shor%3c/b%3e\n%3cspan class%3d%22text_exposed_show%22%3e%3cb%3ets Program %231 Screening%3c/b%3e%3c/span%3e\n%3cdiv%3e\n	%3cspan class%3d%22text_exposed_show%22%3e%3cb%3e7%3a30PM Shorts Program %232 Pre-Screening Reception %3cbr%3e7%3a50PM Shorts Program %231 After-Party %3cbr%3e8%3a00PM Shorts Program %232 Screening%3c/b%3e%3c/span%3e\n%3c/div%3e\n%3cdiv%3e\n	%3cspan class%3d%22text_exposed_show%22%3e%3cb%3e9%3a00PM Shorts Program %233 Pre-Screening Reception %3cbr%3e9%3a30PM Shorts Program %232 After-Party%3cbr%3e9%3a35PM Shorts Program %233 Screening%3c/b%3e%3c/DesignHTMLWords: 44   Characters: 305
URL:https://www.discoverhollywood.com/event/new-filmmakers-la-june-screening/
LOCATION:Newfilmmakers\, 1438 N. Gower St.\, Los Angeles\, California\, 90028
END:VEVENT
BEGIN:VEVENT
DTSTART;TZID=Asia/Kolkata:19790314T000000
DTEND;TZID=Asia/Kolkata:19790314T000000
DTSTAMP:20260424T212127
CREATED:20250714T120608Z
LAST-MODIFIED:20250714T120608Z
UID:10011949-290217600-290217600@www.discoverhollywood.com
SUMMARY:Short Film Screenings and After Party
DESCRIPTION:You will have the opportunity to meet the directors of each film%2c the actors and other crew %2b participate in a live audience Q%26amp%3bA. There are pre-receptions and after-parties for each program. Admissions to the programs are only %246 which includes the screening ticket and access to the filmmaker lounge.%26nbsp%3b %3ca href%3d%22http%3a//www.nfmla.org%22%3ewww.nfmla.org%3c/a%3eDesignHTMLWords: 51   Characters: 307
URL:https://www.discoverhollywood.com/event/short-film-screenings-and-after-party/
LOCATION:Newfilmmakers\, 1438 N. Gower St.\, Los Angeles\, California\, 90028
END:VEVENT
BEGIN:VEVENT
DTSTART;TZID=Asia/Kolkata:19790306T000000
DTEND;TZID=Asia/Kolkata:19790306T000000
DTSTAMP:20260424T212127
CREATED:20250714T120619Z
LAST-MODIFIED:20250714T120619Z
UID:10011957-289526400-289526400@www.discoverhollywood.com
SUMMARY:Shorts Program and After-Party
DESCRIPTION:DesignHTMLWords: 0   Characters: 0
URL:https://www.discoverhollywood.com/event/shorts-program-and-after-party/
LOCATION:Newfilmmakers\, 1438 N. Gower St.\, Los Angeles\, California\, 90028
END:VEVENT
END:VCALENDAR