BEGIN:VCALENDAR
VERSION:2.0
PRODID:-//Discover Hollywood Magazine - ECPv6.15.17//NONSGML v1.0//EN
CALSCALE:GREGORIAN
METHOD:PUBLISH
X-WR-CALNAME:Discover Hollywood Magazine
X-ORIGINAL-URL:https://www.discoverhollywood.com
X-WR-CALDESC:Events for Discover Hollywood Magazine
REFRESH-INTERVAL;VALUE=DURATION:PT1H
X-Robots-Tag:noindex
X-PUBLISHED-TTL:PT1H
BEGIN:VTIMEZONE
TZID:Asia/Kolkata
BEGIN:STANDARD
TZOFFSETFROM:+0530
TZOFFSETTO:+0530
TZNAME:IST
DTSTART:20250101T000000
END:STANDARD
END:VTIMEZONE
BEGIN:VEVENT
DTSTART;TZID=Asia/Kolkata:20260505T193000
DTEND;TZID=Asia/Kolkata:20260505T223000
DTSTAMP:20260421T023402
CREATED:20251003T114855Z
LAST-MODIFIED:20251003T120221Z
UID:10020752-1778009400-1778020200@www.discoverhollywood.com
SUMMARY:The Sound of Music
DESCRIPTION:
URL:https://www.discoverhollywood.com/event/the-sound-of-music-2/2026-05-05/
LOCATION:Hollywood Pantages Theatre\, 6233 Hollywood Blvd. Wayne McWorter (213)365-3500\, Hollywood\, CA\, 90028.0
END:VEVENT
BEGIN:VEVENT
DTSTART;TZID=Asia/Kolkata:20260506T193000
DTEND;TZID=Asia/Kolkata:20260506T223000
DTSTAMP:20260421T023402
CREATED:20251003T114855Z
LAST-MODIFIED:20251003T120221Z
UID:10020753-1778095800-1778106600@www.discoverhollywood.com
SUMMARY:The Sound of Music
DESCRIPTION:
URL:https://www.discoverhollywood.com/event/the-sound-of-music-2/2026-05-06/
LOCATION:Hollywood Pantages Theatre\, 6233 Hollywood Blvd. Wayne McWorter (213)365-3500\, Hollywood\, CA\, 90028.0
END:VEVENT
BEGIN:VEVENT
DTSTART;TZID=Asia/Kolkata:20260507T193000
DTEND;TZID=Asia/Kolkata:20260507T223000
DTSTAMP:20260421T023402
CREATED:20251003T114855Z
LAST-MODIFIED:20251003T120221Z
UID:10020754-1778182200-1778193000@www.discoverhollywood.com
SUMMARY:The Sound of Music
DESCRIPTION:
URL:https://www.discoverhollywood.com/event/the-sound-of-music-2/2026-05-07/
LOCATION:Hollywood Pantages Theatre\, 6233 Hollywood Blvd. Wayne McWorter (213)365-3500\, Hollywood\, CA\, 90028.0
END:VEVENT
BEGIN:VEVENT
DTSTART;TZID=Asia/Kolkata:20260508T200000
DTEND;TZID=Asia/Kolkata:20260508T230000
DTSTAMP:20260421T023402
CREATED:20251003T114855Z
LAST-MODIFIED:20251003T120221Z
UID:10020755-1778270400-1778281200@www.discoverhollywood.com
SUMMARY:The Sound of Music
DESCRIPTION:
URL:https://www.discoverhollywood.com/event/the-sound-of-music-2/2026-05-08/
LOCATION:Hollywood Pantages Theatre\, 6233 Hollywood Blvd. Wayne McWorter (213)365-3500\, Hollywood\, CA\, 90028.0
END:VEVENT
BEGIN:VEVENT
DTSTART;TZID=Asia/Kolkata:20260509T020000
DTEND;TZID=Asia/Kolkata:20260509T170000
DTSTAMP:20260421T023402
CREATED:20251003T114855Z
LAST-MODIFIED:20251003T120221Z
UID:10020756-1778292000-1778346000@www.discoverhollywood.com
SUMMARY:The Sound of Music
DESCRIPTION:
URL:https://www.discoverhollywood.com/event/the-sound-of-music-2/2026-05-09/1/
LOCATION:Hollywood Pantages Theatre\, 6233 Hollywood Blvd. Wayne McWorter (213)365-3500\, Hollywood\, CA\, 90028.0
END:VEVENT
BEGIN:VEVENT
DTSTART;TZID=Asia/Kolkata:20260509T200000
DTEND;TZID=Asia/Kolkata:20260509T230000
DTSTAMP:20260421T023402
CREATED:20251003T114855Z
LAST-MODIFIED:20251003T120221Z
UID:10020757-1778356800-1778367600@www.discoverhollywood.com
SUMMARY:The Sound of Music
DESCRIPTION:
URL:https://www.discoverhollywood.com/event/the-sound-of-music-2/2026-05-09/2/
LOCATION:Hollywood Pantages Theatre\, 6233 Hollywood Blvd. Wayne McWorter (213)365-3500\, Hollywood\, CA\, 90028.0
END:VEVENT
BEGIN:VEVENT
DTSTART;TZID=Asia/Kolkata:20260510T063000
DTEND;TZID=Asia/Kolkata:20260510T213000
DTSTAMP:20260421T023402
CREATED:20251003T114855Z
LAST-MODIFIED:20251003T120221Z
UID:10020758-1778394600-1778448600@www.discoverhollywood.com
SUMMARY:The Sound of Music
DESCRIPTION:
URL:https://www.discoverhollywood.com/event/the-sound-of-music-2/2026-05-10/1/
LOCATION:Hollywood Pantages Theatre\, 6233 Hollywood Blvd. Wayne McWorter (213)365-3500\, Hollywood\, CA\, 90028.0
END:VEVENT
BEGIN:VEVENT
DTSTART;TZID=Asia/Kolkata:20260510T130000
DTEND;TZID=Asia/Kolkata:20260510T160000
DTSTAMP:20260421T023402
CREATED:20251003T114855Z
LAST-MODIFIED:20251003T120221Z
UID:10020759-1778418000-1778428800@www.discoverhollywood.com
SUMMARY:The Sound of Music
DESCRIPTION:
URL:https://www.discoverhollywood.com/event/the-sound-of-music-2/2026-05-10/2/
LOCATION:Hollywood Pantages Theatre\, 6233 Hollywood Blvd. Wayne McWorter (213)365-3500\, Hollywood\, CA\, 90028.0
END:VEVENT
BEGIN:VEVENT
DTSTART;TZID=Asia/Kolkata:20260512T193000
DTEND;TZID=Asia/Kolkata:20260512T223000
DTSTAMP:20260421T023402
CREATED:20251003T114855Z
LAST-MODIFIED:20251003T120221Z
UID:10020760-1778614200-1778625000@www.discoverhollywood.com
SUMMARY:The Sound of Music
DESCRIPTION:
URL:https://www.discoverhollywood.com/event/the-sound-of-music-2/2026-05-12/
LOCATION:Hollywood Pantages Theatre\, 6233 Hollywood Blvd. Wayne McWorter (213)365-3500\, Hollywood\, CA\, 90028.0
END:VEVENT
BEGIN:VEVENT
DTSTART;TZID=Asia/Kolkata:20260513T193000
DTEND;TZID=Asia/Kolkata:20260513T223000
DTSTAMP:20260421T023403
CREATED:20251003T114855Z
LAST-MODIFIED:20251003T120221Z
UID:10020761-1778700600-1778711400@www.discoverhollywood.com
SUMMARY:The Sound of Music
DESCRIPTION:
URL:https://www.discoverhollywood.com/event/the-sound-of-music-2/2026-05-13/
LOCATION:Hollywood Pantages Theatre\, 6233 Hollywood Blvd. Wayne McWorter (213)365-3500\, Hollywood\, CA\, 90028.0
END:VEVENT
BEGIN:VEVENT
DTSTART;TZID=Asia/Kolkata:20260514T193000
DTEND;TZID=Asia/Kolkata:20260514T223000
DTSTAMP:20260421T023403
CREATED:20251003T114855Z
LAST-MODIFIED:20251003T120221Z
UID:10020762-1778787000-1778797800@www.discoverhollywood.com
SUMMARY:The Sound of Music
DESCRIPTION:
URL:https://www.discoverhollywood.com/event/the-sound-of-music-2/2026-05-14/
LOCATION:Hollywood Pantages Theatre\, 6233 Hollywood Blvd. Wayne McWorter (213)365-3500\, Hollywood\, CA\, 90028.0
END:VEVENT
BEGIN:VEVENT
DTSTART;TZID=Asia/Kolkata:20260515T200000
DTEND;TZID=Asia/Kolkata:20260515T230000
DTSTAMP:20260421T023403
CREATED:20251003T114855Z
LAST-MODIFIED:20251003T120221Z
UID:10020763-1778875200-1778886000@www.discoverhollywood.com
SUMMARY:The Sound of Music
DESCRIPTION:
URL:https://www.discoverhollywood.com/event/the-sound-of-music-2/2026-05-15/
LOCATION:Hollywood Pantages Theatre\, 6233 Hollywood Blvd. Wayne McWorter (213)365-3500\, Hollywood\, CA\, 90028.0
END:VEVENT
BEGIN:VEVENT
DTSTART;TZID=Asia/Kolkata:20260516T140000
DTEND;TZID=Asia/Kolkata:20260516T170000
DTSTAMP:20260421T023403
CREATED:20251003T114855Z
LAST-MODIFIED:20251003T120221Z
UID:10020764-1778940000-1778950800@www.discoverhollywood.com
SUMMARY:The Sound of Music
DESCRIPTION:
URL:https://www.discoverhollywood.com/event/the-sound-of-music-2/2026-05-16/1/
LOCATION:Hollywood Pantages Theatre\, 6233 Hollywood Blvd. Wayne McWorter (213)365-3500\, Hollywood\, CA\, 90028.0
END:VEVENT
BEGIN:VEVENT
DTSTART;TZID=Asia/Kolkata:20260516T200000
DTEND;TZID=Asia/Kolkata:20260516T230000
DTSTAMP:20260421T023403
CREATED:20251003T114855Z
LAST-MODIFIED:20251003T120221Z
UID:10020765-1778961600-1778972400@www.discoverhollywood.com
SUMMARY:The Sound of Music
DESCRIPTION:
URL:https://www.discoverhollywood.com/event/the-sound-of-music-2/2026-05-16/2/
LOCATION:Hollywood Pantages Theatre\, 6233 Hollywood Blvd. Wayne McWorter (213)365-3500\, Hollywood\, CA\, 90028.0
END:VEVENT
BEGIN:VEVENT
DTSTART;TZID=Asia/Kolkata:20260517T130000
DTEND;TZID=Asia/Kolkata:20260517T160000
DTSTAMP:20260421T023403
CREATED:20251003T114855Z
LAST-MODIFIED:20251003T120221Z
UID:10020766-1779022800-1779033600@www.discoverhollywood.com
SUMMARY:The Sound of Music
DESCRIPTION:
URL:https://www.discoverhollywood.com/event/the-sound-of-music-2/2026-05-17/1/
LOCATION:Hollywood Pantages Theatre\, 6233 Hollywood Blvd. Wayne McWorter (213)365-3500\, Hollywood\, CA\, 90028.0
END:VEVENT
BEGIN:VEVENT
DTSTART;TZID=Asia/Kolkata:20260517T183000
DTEND;TZID=Asia/Kolkata:20260517T213000
DTSTAMP:20260421T023403
CREATED:20251003T114855Z
LAST-MODIFIED:20251003T120221Z
UID:10020767-1779042600-1779053400@www.discoverhollywood.com
SUMMARY:The Sound of Music
DESCRIPTION:
URL:https://www.discoverhollywood.com/event/the-sound-of-music-2/2026-05-17/2/
LOCATION:Hollywood Pantages Theatre\, 6233 Hollywood Blvd. Wayne McWorter (213)365-3500\, Hollywood\, CA\, 90028.0
END:VEVENT
BEGIN:VEVENT
DTSTART;TZID=Asia/Kolkata:20260519T193000
DTEND;TZID=Asia/Kolkata:20260519T223000
DTSTAMP:20260421T023403
CREATED:20251003T114855Z
LAST-MODIFIED:20251003T120221Z
UID:10020768-1779219000-1779229800@www.discoverhollywood.com
SUMMARY:The Sound of Music
DESCRIPTION:
URL:https://www.discoverhollywood.com/event/the-sound-of-music-2/2026-05-19/
LOCATION:Hollywood Pantages Theatre\, 6233 Hollywood Blvd. Wayne McWorter (213)365-3500\, Hollywood\, CA\, 90028.0
END:VEVENT
BEGIN:VEVENT
DTSTART;TZID=Asia/Kolkata:20260520T193000
DTEND;TZID=Asia/Kolkata:20260520T223000
DTSTAMP:20260421T023403
CREATED:20251003T114855Z
LAST-MODIFIED:20251003T120221Z
UID:10020769-1779305400-1779316200@www.discoverhollywood.com
SUMMARY:The Sound of Music
DESCRIPTION:
URL:https://www.discoverhollywood.com/event/the-sound-of-music-2/2026-05-20/
LOCATION:Hollywood Pantages Theatre\, 6233 Hollywood Blvd. Wayne McWorter (213)365-3500\, Hollywood\, CA\, 90028.0
END:VEVENT
BEGIN:VEVENT
DTSTART;TZID=Asia/Kolkata:20260521T193000
DTEND;TZID=Asia/Kolkata:20260521T223000
DTSTAMP:20260421T023403
CREATED:20251003T114855Z
LAST-MODIFIED:20251003T120221Z
UID:10020770-1779391800-1779402600@www.discoverhollywood.com
SUMMARY:The Sound of Music
DESCRIPTION:
URL:https://www.discoverhollywood.com/event/the-sound-of-music-2/2026-05-21/
LOCATION:Hollywood Pantages Theatre\, 6233 Hollywood Blvd. Wayne McWorter (213)365-3500\, Hollywood\, CA\, 90028.0
END:VEVENT
BEGIN:VEVENT
DTSTART;TZID=Asia/Kolkata:20260522T200000
DTEND;TZID=Asia/Kolkata:20260522T230000
DTSTAMP:20260421T023403
CREATED:20251003T114855Z
LAST-MODIFIED:20251003T120221Z
UID:10020771-1779480000-1779490800@www.discoverhollywood.com
SUMMARY:The Sound of Music
DESCRIPTION:
URL:https://www.discoverhollywood.com/event/the-sound-of-music-2/2026-05-22/
LOCATION:Hollywood Pantages Theatre\, 6233 Hollywood Blvd. Wayne McWorter (213)365-3500\, Hollywood\, CA\, 90028.0
END:VEVENT
BEGIN:VEVENT
DTSTART;TZID=Asia/Kolkata:20260523T140000
DTEND;TZID=Asia/Kolkata:20260523T170000
DTSTAMP:20260421T023403
CREATED:20251003T114855Z
LAST-MODIFIED:20251003T120221Z
UID:10020772-1779544800-1779555600@www.discoverhollywood.com
SUMMARY:The Sound of Music
DESCRIPTION:
URL:https://www.discoverhollywood.com/event/the-sound-of-music-2/2026-05-23/1/
LOCATION:Hollywood Pantages Theatre\, 6233 Hollywood Blvd. Wayne McWorter (213)365-3500\, Hollywood\, CA\, 90028.0
END:VEVENT
BEGIN:VEVENT
DTSTART;TZID=Asia/Kolkata:20260523T200000
DTEND;TZID=Asia/Kolkata:20260523T230000
DTSTAMP:20260421T023403
CREATED:20251003T114855Z
LAST-MODIFIED:20251003T120221Z
UID:10020773-1779566400-1779577200@www.discoverhollywood.com
SUMMARY:The Sound of Music
DESCRIPTION:
URL:https://www.discoverhollywood.com/event/the-sound-of-music-2/2026-05-23/2/
LOCATION:Hollywood Pantages Theatre\, 6233 Hollywood Blvd. Wayne McWorter (213)365-3500\, Hollywood\, CA\, 90028.0
END:VEVENT
BEGIN:VEVENT
DTSTART;TZID=Asia/Kolkata:20260524T130000
DTEND;TZID=Asia/Kolkata:20260524T160000
DTSTAMP:20260421T023403
CREATED:20251003T114855Z
LAST-MODIFIED:20251003T120221Z
UID:10020774-1779627600-1779638400@www.discoverhollywood.com
SUMMARY:The Sound of Music
DESCRIPTION:
URL:https://www.discoverhollywood.com/event/the-sound-of-music-2/2026-05-24/1/
LOCATION:Hollywood Pantages Theatre\, 6233 Hollywood Blvd. Wayne McWorter (213)365-3500\, Hollywood\, CA\, 90028.0
END:VEVENT
BEGIN:VEVENT
DTSTART;TZID=Asia/Kolkata:20260524T183000
DTEND;TZID=Asia/Kolkata:20260524T223000
DTSTAMP:20260421T023403
CREATED:20251003T114855Z
LAST-MODIFIED:20251003T120221Z
UID:10020775-1779647400-1779661800@www.discoverhollywood.com
SUMMARY:The Sound of Music
DESCRIPTION:
URL:https://www.discoverhollywood.com/event/the-sound-of-music-2/2026-05-24/2/
LOCATION:Hollywood Pantages Theatre\, 6233 Hollywood Blvd. Wayne McWorter (213)365-3500\, Hollywood\, CA\, 90028.0
END:VEVENT
BEGIN:VEVENT
DTSTART;TZID=Asia/Kolkata:20260526T193000
DTEND;TZID=Asia/Kolkata:20260526T223000
DTSTAMP:20260421T023403
CREATED:20251003T120513Z
LAST-MODIFIED:20251003T121926Z
UID:10020777-1779823800-1779834600@www.discoverhollywood.com
SUMMARY:Hell's Kitchen The Musical
DESCRIPTION:
URL:https://www.discoverhollywood.com/event/hells-kitchen-the-musical/2026-05-26/
LOCATION:Hollywood Pantages Theatre\, 6233 Hollywood Blvd. Wayne McWorter (213)365-3500\, Hollywood\, CA\, 90028.0
END:VEVENT
BEGIN:VEVENT
DTSTART;TZID=Asia/Kolkata:20260527T193000
DTEND;TZID=Asia/Kolkata:20260527T223000
DTSTAMP:20260421T023403
CREATED:20251003T120513Z
LAST-MODIFIED:20251003T121926Z
UID:10020778-1779910200-1779921000@www.discoverhollywood.com
SUMMARY:Hell's Kitchen The Musical
DESCRIPTION:
URL:https://www.discoverhollywood.com/event/hells-kitchen-the-musical/2026-05-27/
LOCATION:Hollywood Pantages Theatre\, 6233 Hollywood Blvd. Wayne McWorter (213)365-3500\, Hollywood\, CA\, 90028.0
END:VEVENT
BEGIN:VEVENT
DTSTART;TZID=Asia/Kolkata:20260528T193000
DTEND;TZID=Asia/Kolkata:20260528T223000
DTSTAMP:20260421T023403
CREATED:20251003T120513Z
LAST-MODIFIED:20251003T121926Z
UID:10020779-1779996600-1780007400@www.discoverhollywood.com
SUMMARY:Hell's Kitchen The Musical
DESCRIPTION:
URL:https://www.discoverhollywood.com/event/hells-kitchen-the-musical/2026-05-28/
LOCATION:Hollywood Pantages Theatre\, 6233 Hollywood Blvd. Wayne McWorter (213)365-3500\, Hollywood\, CA\, 90028.0
END:VEVENT
BEGIN:VEVENT
DTSTART;TZID=Asia/Kolkata:20260529T200000
DTEND;TZID=Asia/Kolkata:20260529T230000
DTSTAMP:20260421T023403
CREATED:20251003T120513Z
LAST-MODIFIED:20251003T121926Z
UID:10020780-1780084800-1780095600@www.discoverhollywood.com
SUMMARY:Hell's Kitchen The Musical
DESCRIPTION:
URL:https://www.discoverhollywood.com/event/hells-kitchen-the-musical/2026-05-29/
LOCATION:Hollywood Pantages Theatre\, 6233 Hollywood Blvd. Wayne McWorter (213)365-3500\, Hollywood\, CA\, 90028.0
END:VEVENT
BEGIN:VEVENT
DTSTART;TZID=Asia/Kolkata:20260530T140000
DTEND;TZID=Asia/Kolkata:20260530T170000
DTSTAMP:20260421T023403
CREATED:20251003T120513Z
LAST-MODIFIED:20251003T121926Z
UID:10020781-1780149600-1780160400@www.discoverhollywood.com
SUMMARY:Hell's Kitchen The Musical
DESCRIPTION:
URL:https://www.discoverhollywood.com/event/hells-kitchen-the-musical/2026-05-30/1/
LOCATION:Hollywood Pantages Theatre\, 6233 Hollywood Blvd. Wayne McWorter (213)365-3500\, Hollywood\, CA\, 90028.0
END:VEVENT
BEGIN:VEVENT
DTSTART;TZID=Asia/Kolkata:20260530T200000
DTEND;TZID=Asia/Kolkata:20260530T230000
DTSTAMP:20260421T023403
CREATED:20251003T120513Z
LAST-MODIFIED:20251003T121926Z
UID:10020782-1780171200-1780182000@www.discoverhollywood.com
SUMMARY:Hell's Kitchen The Musical
DESCRIPTION:
URL:https://www.discoverhollywood.com/event/hells-kitchen-the-musical/2026-05-30/2/
LOCATION:Hollywood Pantages Theatre\, 6233 Hollywood Blvd. Wayne McWorter (213)365-3500\, Hollywood\, CA\, 90028.0
END:VEVENT
END:VCALENDAR