BEGIN:VCALENDAR
VERSION:2.0
PRODID:-//Discover Hollywood Magazine - ECPv6.15.20//NONSGML v1.0//EN
CALSCALE:GREGORIAN
METHOD:PUBLISH
X-WR-CALNAME:Discover Hollywood Magazine
X-ORIGINAL-URL:https://www.discoverhollywood.com
X-WR-CALDESC:Events for Discover Hollywood Magazine
REFRESH-INTERVAL;VALUE=DURATION:PT1H
X-Robots-Tag:noindex
X-PUBLISHED-TTL:PT1H
BEGIN:VTIMEZONE
TZID:Asia/Kolkata
BEGIN:STANDARD
TZOFFSETFROM:+0530
TZOFFSETTO:+0530
TZNAME:IST
DTSTART:19690101T000000
END:STANDARD
END:VTIMEZONE
BEGIN:VEVENT
DTSTART;TZID=Asia/Kolkata:19961211T000000
DTEND;TZID=Asia/Kolkata:19961211T000000
DTSTAMP:20260424T180043
CREATED:20250703T064209Z
LAST-MODIFIED:20250703T064209Z
UID:10005804-850262400-850262400@www.discoverhollywood.com
SUMMARY:Fruit Fly
DESCRIPTION:%26nbsp%3b%26nbsp%3b%26nbsp%3b%26nbsp%3b%26nbsp%3b%26nbsp%3b%26nbsp%3b%26nbsp%3b%26nbsp%3b%26nbsp%3b%26nbsp%3b West Fest 2014 presents three full weekends of shows%2c a totally different presentation each week%2c to entice the loyal audiences who have returned for West Fest every year%2c as well as to introduce new audiences to the richly varied work of the city%27s longest-running%2c continuously operating professional company.DesignHTMLWords: 48   Characters: 304
URL:https://www.discoverhollywood.com/event/fruit-fly/
LOCATION:Renberg Theatre\, Select
END:VEVENT
BEGIN:VEVENT
DTSTART;TZID=Asia/Kolkata:19961202T000000
DTEND;TZID=Asia/Kolkata:19961202T000000
DTSTAMP:20260424T180043
CREATED:20250703T064225Z
LAST-MODIFIED:20250703T064225Z
UID:10005813-849484800-849484800@www.discoverhollywood.com
SUMMARY:Full of Gin and Regret: An Evening with Leslie Jordan
DESCRIPTION:DesignHTMLWords: 0   Characters: 0
URL:https://www.discoverhollywood.com/event/full-of-gin-and-regret-an-evening-with-leslie-jordan/
LOCATION:Renberg Theatre\, Select
END:VEVENT
BEGIN:VEVENT
DTSTART;TZID=Asia/Kolkata:19960520T000000
DTEND;TZID=Asia/Kolkata:19960520T000000
DTSTAMP:20260424T180043
CREATED:20250703T065607Z
LAST-MODIFIED:20250703T065607Z
UID:10006009-832550400-832550400@www.discoverhollywood.com
SUMMARY:Getting Started and One Way Street
DESCRIPTION:Screening of the latest work from Andrea Meyerson.%26nbsp%3b Getting Started tells the story of Tori and Joy.%26nbsp%3b Will their mutual attraction be enough to overcome the challenges that arise%3f%26nbsp%3b One Way Street explores what happens when your desire drives you in the wrong direction. Includes Q%26amp%3bA with cast and crew.DesignHTMLWords: 50   Characters: 296
URL:https://www.discoverhollywood.com/event/getting-started-and-one-way-street/
LOCATION:Renberg Theatre\, Select
END:VEVENT
BEGIN:VEVENT
DTSTART;TZID=Asia/Kolkata:19931016T000000
DTEND;TZID=Asia/Kolkata:19931016T000000
DTSTAMP:20260424T180043
CREATED:20250703T105748Z
LAST-MODIFIED:20250703T105748Z
UID:10006671-750729600-750729600@www.discoverhollywood.com
SUMMARY:I Stand Corrected
DESCRIPTION:Film screening and live jazz concert featuring the Jennifer Leitham TrioDesignHTMLWords: 11   Characters: 72
URL:https://www.discoverhollywood.com/event/i-stand-corrected/
LOCATION:Renberg Theatre\, Select
END:VEVENT
BEGIN:VEVENT
DTSTART;TZID=Asia/Kolkata:19921110T000000
DTEND;TZID=Asia/Kolkata:19921110T000000
DTSTAMP:20260424T180043
CREATED:20250703T111511Z
LAST-MODIFIED:20250703T111511Z
UID:10007011-721353600-721353600@www.discoverhollywood.com
SUMMARY:Jackie Beat: And The Beat Goes On
DESCRIPTION:%3cp%3eThe Los Angeles LGBT Center%27s Lily Tomlin/Jane Wagner Cultural Arts Center welcomes Los Angeles drag superstar Jackie Beat to its Renberg Theatre for her first solo show in the plush Hollywood venue. Ms. Beat is celebrating a quarter century of drag genius with this one-night-only%2c once-in-a-lifetime%2c one-of-a-kind%2c best-of show. Featuring her favorite world-famous sick %27n%27 twisted song parodies%2c video flashbacks%2c and lots of special surprises%2c this golden girl%27s silver anniversary is not to be missed%21%3c/DesignHTMLWords: 75   Characters: 483
URL:https://www.discoverhollywood.com/event/jackie-beat-and-the-beat-goes-on/
LOCATION:Renberg Theatre\, Select
END:VEVENT
BEGIN:VEVENT
DTSTART;TZID=Asia/Kolkata:19920306T000000
DTEND;TZID=Asia/Kolkata:19920306T000000
DTSTAMP:20260424T180043
CREATED:20250703T115316Z
LAST-MODIFIED:20250703T115316Z
UID:10007260-699840000-699840000@www.discoverhollywood.com
SUMMARY:Jenifer Lewis's Hot Flash!
DESCRIPTION:DesignHTMLWords: 0   Characters: 0
URL:https://www.discoverhollywood.com/event/jenifer-lewiss-hot-flash/
LOCATION:Renberg Theatre\, Select
END:VEVENT
BEGIN:VEVENT
DTSTART;TZID=Asia/Kolkata:19920224T000000
DTEND;TZID=Asia/Kolkata:19920224T000000
DTSTAMP:20260424T180043
CREATED:20250703T115416Z
LAST-MODIFIED:20250703T115416Z
UID:10007271-698889600-698889600@www.discoverhollywood.com
SUMMARY:Jennifer Lewis: The Mother of Black Hollywood
DESCRIPTION:%3cdiv%3e\n	Lewis returns to the LGBT Center to celebrate her memoir %3ci%3eThe Mother of Black Hollywood%3c/i%3e as well as her birthday%2c with an evening of new songs and stories as only she can sing and tell them.%26nbsp%3b\n%3c/div%3e\n%3cdiv%3e\n	%3cbr%3e\n%3c/div%3e\n%3cdiv%3e\n	%3ca href%3d%22https%3a//lalgbtcenter.org/culture-education/on-our-stages%22 target%3d%22_blank%22%3elalgbtcenter.org/culture-education/on-our-stages%3c/a%3e\n%3c/div%3eDesignHTMLWords: 37   Characters: 234
URL:https://www.discoverhollywood.com/event/jennifer-lewis-the-mother-of-black-hollywood/
LOCATION:Renberg Theatre\, Select
END:VEVENT
BEGIN:VEVENT
DTSTART;TZID=Asia/Kolkata:19910227T000000
DTEND;TZID=Asia/Kolkata:19910227T000000
DTSTAMP:20260424T180043
CREATED:20250703T122017Z
LAST-MODIFIED:20250703T122017Z
UID:10007633-667612800-667612800@www.discoverhollywood.com
SUMMARY:Julie Budd in Concert
DESCRIPTION:DesignHTMLWords: 0   Characters: 0
URL:https://www.discoverhollywood.com/event/julie-budd-in-concert/
LOCATION:Renberg Theatre\, Select
END:VEVENT
BEGIN:VEVENT
DTSTART;TZID=Asia/Kolkata:19901119T000000
DTEND;TZID=Asia/Kolkata:19901119T000000
DTSTAMP:20260424T180043
CREATED:20250709T090214Z
LAST-MODIFIED:20250709T090214Z
UID:10008393-658972800-658972800@www.discoverhollywood.com
SUMMARY:Lesbian Love in Shorts
DESCRIPTION:An evening of lesbian-themed film shorts%2c many award-winning%2c from the 2018 festival circuit.%3cdiv%3e\n	%3cbr%3e\n%3c/div%3e\n%3cdiv%3e\n	%3ca href%3d%22https%3a//lalgbtcenter.org/culture-education/on-our-stages%22 target%3d%22_blank%22%3elalgbtcenter.org/culture-education/on-our-stages%3c/a%3e\n%3c/div%3eDesignHTMLWords: 14   Characters: 135
URL:https://www.discoverhollywood.com/event/lesbian-love-in-shorts/
LOCATION:Renberg Theatre\, Select
END:VEVENT
BEGIN:VEVENT
DTSTART;TZID=Asia/Kolkata:19901115T000000
DTEND;TZID=Asia/Kolkata:19901115T000000
DTSTAMP:20260424T180043
CREATED:20250709T090313Z
LAST-MODIFIED:20250709T090313Z
UID:10008397-658627200-658627200@www.discoverhollywood.com
SUMMARY:Leslie Jordan: Show Pony
DESCRIPTION:DesignHTMLWords: 0   Characters: 0
URL:https://www.discoverhollywood.com/event/leslie-jordan-show-pony/
LOCATION:Renberg Theatre\, Select
END:VEVENT
BEGIN:VEVENT
DTSTART;TZID=Asia/Kolkata:19901031T000000
DTEND;TZID=Asia/Kolkata:19901031T000000
DTSTAMP:20260424T180043
CREATED:20250709T090824Z
LAST-MODIFIED:20250709T090824Z
UID:10008412-657331200-657331200@www.discoverhollywood.com
SUMMARY:Letter To Anita
DESCRIPTION:%3cp%3eexplores the painful legacy of singer Anita Bryant%27s infamous anti-gay campaign of the late 1970s. Narrated by Emmy-winner Meredith Baxter%2c LETTER TO ANITA tells the story of Dr. Ronni Sanlo%2c a married mother of two who came out as a lesbian and divorced her husband%2c losing custody of her children as a result-an injustice that propelled Dr. Sanlo into a life of LGBT activism.%3c/p%3eDesignHTMLWords: 64   Characters: 367
URL:https://www.discoverhollywood.com/event/letter-to-anita/
LOCATION:Renberg Theatre\, Select
END:VEVENT
BEGIN:VEVENT
DTSTART;TZID=Asia/Kolkata:19900922T000000
DTEND;TZID=Asia/Kolkata:19900922T000000
DTSTAMP:20260424T180043
CREATED:20250709T091314Z
LAST-MODIFIED:20250709T091314Z
UID:10008451-653961600-653961600@www.discoverhollywood.com
SUMMARY:Light in the Water
DESCRIPTION:The ReelAbilities Film Festival presents a documentary about the founding of West Hollywood Aquatics%2c the first LGBT Masters swim team. Tickets are free%2c but registration is required. %3ca href%3d%22https%3a//www.eventbrite.com/e/light-in-the-water-premiere-theatrical-screening-tickets-48350148596%3faff%3deivtefrnd%22 target%3d%22_blank%22%3ewww.eventbrite.com/e/light-in-the-water-premiere-theatrical-screening-tickets-48350148596%3c/a%3eDesignHTMLWords: 28   Characters: 259
URL:https://www.discoverhollywood.com/event/light-in-the-water/
LOCATION:Renberg Theatre\, Select
END:VEVENT
BEGIN:VEVENT
DTSTART;TZID=Asia/Kolkata:19880402T000000
DTEND;TZID=Asia/Kolkata:19880402T000000
DTSTAMP:20260424T180043
CREATED:20250710T094942Z
LAST-MODIFIED:20250710T094942Z
UID:10009094-575942400-575942400@www.discoverhollywood.com
SUMMARY:Memoircita
DESCRIPTION:A new solo show by award-winning Broadway and TV star Jackie Hoffman.%26nbsp%3b Fresh off her fifth Broadway musical%2c this self-loathing scene stealer shares the inside dish on Broadway%2c filming %3ci%3eFEUD%3a Bette and Joan%3c/i%3e%2c and all things Emmy.%26nbsp%3b%26nbsp%3b\n%3cbr%3e\n%3cbr%3e\n%3ca href%3d%22https%3a//lalgbtcenter.org/culture-education/on-our-stages%22 target%3d%22_blank%22%3ewww.lalgbtcenter.org/culture-education/on-our-stages%3c/a%3eDesignHTMLWords: 38   Characters: 271
URL:https://www.discoverhollywood.com/event/memoircita/
LOCATION:Renberg Theatre\, Select
END:VEVENT
BEGIN:VEVENT
DTSTART;TZID=Asia/Kolkata:19870826T000000
DTEND;TZID=Asia/Kolkata:19870826T000000
DTSTAMP:20260424T180043
CREATED:20250710T101308Z
LAST-MODIFIED:20250710T101308Z
UID:10009314-556934400-556934400@www.discoverhollywood.com
SUMMARY:Miss Coco Peru: Have You Heard?
DESCRIPTION:DesignHTMLWords: 0   Characters: 0
URL:https://www.discoverhollywood.com/event/miss-coco-peru-have-you-heard/
LOCATION:Renberg Theatre\, Select
END:VEVENT
BEGIN:VEVENT
DTSTART;TZID=Asia/Kolkata:19850826T000000
DTEND;TZID=Asia/Kolkata:19850826T000000
DTSTAMP:20260424T180043
CREATED:20250710T121923Z
LAST-MODIFIED:20250716T064104Z
UID:10010044-493862400-493862400@www.discoverhollywood.com
SUMMARY:Oh But Wait\, There's More!
DESCRIPTION:Written and performed by Kim Coles and directed by Scotch Ellis Loring. %26nbsp%3bBenefiting the Gay and Lesbian Center.DesignHTMLWords: 18   Characters: 109
URL:https://www.discoverhollywood.com/event/oh-but-wait-theres-more/
LOCATION:Renberg Theatre\, Select
END:VEVENT
BEGIN:VEVENT
DTSTART;TZID=Asia/Kolkata:19850207T000000
DTEND;TZID=Asia/Kolkata:19850207T000000
DTSTAMP:20260424T180043
CREATED:20250710T123533Z
LAST-MODIFIED:20250710T123533Z
UID:10010244-476582400-476582400@www.discoverhollywood.com
SUMMARY:Out Of Eclipse
DESCRIPTION:%3ca href%3d%22https%3a//www.eventbrite.com/e/joanna-gleason-out-of-the-eclipse-tickets-81875023399%22%3ehttps%3a//www.eventbrite.com/e/joanna-gleason-out-of-the-eclipse-tickets-81875023399%3c/a%3eDesignHTMLWords: 1   Characters: 72
URL:https://www.discoverhollywood.com/event/out-of-eclipse/
LOCATION:Renberg Theatre\, Select
END:VEVENT
BEGIN:VEVENT
DTSTART;TZID=Asia/Kolkata:19790914T000000
DTEND;TZID=Asia/Kolkata:19790914T000000
DTSTAMP:20260424T180043
CREATED:20250714T115717Z
LAST-MODIFIED:20250714T115717Z
UID:10011765-306115200-306115200@www.discoverhollywood.com
SUMMARY:Selene Luna: Pretty Special
DESCRIPTION:A new%2c one-hour stand-up comedy show%2c directed by Margaret Cho%2c features Luna’s original%2c biting%2c and heartfelt perspective on being a little person%2c an atheist who’s afraid of ghosts%2c and being married to a “normalsized” man.%3cdiv%3e\n	%3cbr%3e\n%3c/div%3e\n%3cdiv%3e\n	%3ca href%3d%22https%3a//lalgbtcenter.org/culture-education/on-our-stages%22 target%3d%22_blank%22%3elalgbtcenter.org/culture-education/on-our-stages%3c/a%3e\n%3c/div%3eDesignHTMLWords: 36   Characters: 263
URL:https://www.discoverhollywood.com/event/selene-luna-pretty-special/
LOCATION:Renberg Theatre\, Select
END:VEVENT
BEGIN:VEVENT
DTSTART;TZID=Asia/Kolkata:19790912T000000
DTEND;TZID=Asia/Kolkata:19790912T000000
DTSTAMP:20260424T180043
CREATED:20250714T115717Z
LAST-MODIFIED:20250714T115717Z
UID:10011767-305942400-305942400@www.discoverhollywood.com
SUMMARY:Sell/Buy/Date
DESCRIPTION:An exuberant show inspired by the real-life experiences of people affected by the sex industry. %3ca href%3d%22https%3a//www.eventbrite.com/e/sellbuydate-tickets-49114766589%22 target%3d%22_blank%22%3ewww.eventbrite.com/e/sellbuydate-tickets-49114766589%3c/a%3eDesignHTMLWords: 16   Characters: 142
URL:https://www.discoverhollywood.com/event/sell-buy-date/
LOCATION:Renberg Theatre\, Select
END:VEVENT
BEGIN:VEVENT
DTSTART;TZID=Asia/Kolkata:19761217T000000
DTEND;TZID=Asia/Kolkata:19761217T000000
DTSTAMP:20260424T180043
CREATED:20250715T093601Z
LAST-MODIFIED:20250715T093601Z
UID:10012767-219628800-219628800@www.discoverhollywood.com
SUMMARY:Suzanne Westenhoefer: March On!
DESCRIPTION:%3cspan%3eTrailblazing pioneer of queer comedy in a one-night-only performance that includes a VIP reception and after party.%3c/span%3e\n%3cdiv%3e\n	%3cspan%3e%3cbr%3e%3c/span%3e\n%3c/div%3e\n%3cdiv%3e\n	%3ca href%3d%22https%3a//www.eventbrite.com/e/suzanne-westenhoefer-march-on-tickets-56064528514%22%3ehttps%3a//www.eventbrite.com/e/suzanne-westenhoefer-march-on-tickets-56064528514%3c/a%3e\n%3c/div%3eDesignHTMLWords: 18   Characters: 185
URL:https://www.discoverhollywood.com/event/suzanne-westenhoefer-march-on/
LOCATION:Renberg Theatre\, Select
END:VEVENT
BEGIN:VEVENT
DTSTART;TZID=Asia/Kolkata:19761006T000000
DTEND;TZID=Asia/Kolkata:19761006T000000
DTSTAMP:20260424T180043
CREATED:20250715T093738Z
LAST-MODIFIED:20250715T093738Z
UID:10012839-213408000-213408000@www.discoverhollywood.com
SUMMARY:Take A Walk on the Softer Side
DESCRIPTION:Goldman describes herself as “the worst lesbian in the world” and is renowned for her brash mix of humor%2c observation%2c and music %28she plays guitar at a third grade level%2c specializing in lesbian folk-rock realness%29. She has three TV comedy specials under her belt which have been seen on LOGO%2c Showtime%2c and Comedy Central%2c and she has appeared on Bones%2c RuPaul’s Drag U%2c Happy Endings%2c The Mindy Project%2c MTV’s Faking It%2c among others. Goldman performs her comedy standup all over the country.%26nbsp%3bDesignHTMLWords: 82   Characters: 477
URL:https://www.discoverhollywood.com/event/take-a-walk-on-the-softer-side/
LOCATION:Renberg Theatre\, Select
END:VEVENT
BEGIN:VEVENT
DTSTART;TZID=Asia/Kolkata:19751208T000000
DTEND;TZID=Asia/Kolkata:19751208T000000
DTSTAMP:20260424T180043
CREATED:20250715T111755Z
LAST-MODIFIED:20250715T111755Z
UID:10013142-187228800-187228800@www.discoverhollywood.com
SUMMARY:The Beast of Times
DESCRIPTION:DesignHTMLWords: 0   Characters: 0
URL:https://www.discoverhollywood.com/event/the-beast-of-times/
LOCATION:Renberg Theatre\, Select
END:VEVENT
BEGIN:VEVENT
DTSTART;TZID=Asia/Kolkata:19751207T000000
DTEND;TZID=Asia/Kolkata:19751207T000000
DTSTAMP:20260424T180043
CREATED:20250715T111755Z
LAST-MODIFIED:20250715T111755Z
UID:10013143-187142400-187142400@www.discoverhollywood.com
SUMMARY:The Beast of Times
DESCRIPTION:DesignHTMLWords: 0   Characters: 0
URL:https://www.discoverhollywood.com/event/the-beast-of-times-2/
LOCATION:Renberg Theatre\, Select
END:VEVENT
BEGIN:VEVENT
DTSTART;TZID=Asia/Kolkata:19750921T000000
DTEND;TZID=Asia/Kolkata:19750921T000000
DTSTAMP:20260424T180043
CREATED:20250715T115235Z
LAST-MODIFIED:20250715T115235Z
UID:10013220-180489600-180489600@www.discoverhollywood.com
SUMMARY:The Book of Liz
DESCRIPTION:%3cdiv align%3d%22center%22%3e\n	%3ca target%3d%22_blank%22 href%3d%22www.theBlank.com%22%3e%3cimg class%3d%22%22 alt%3d%22%22 src%3d%22images/Liz-Reunion4241.jpg%22 height%3d%22263%22 width%3d%22300%22%3e%3c/a%3e\n%3c/div%3eDesignHTMLWords: 0   Characters: 0
URL:https://www.discoverhollywood.com/event/the-book-of-liz/
LOCATION:Renberg Theatre\, Select
END:VEVENT
BEGIN:VEVENT
DTSTART;TZID=Asia/Kolkata:19731007T000000
DTEND;TZID=Asia/Kolkata:19731007T000000
DTSTAMP:20260424T180043
CREATED:20250715T125056Z
LAST-MODIFIED:20250715T125056Z
UID:10013749-118800000-118800000@www.discoverhollywood.com
SUMMARY:The Mismatch Game
DESCRIPTION:Dennis Hensley %26amp%3b Company return for another installment of our unstoppable hit comedy show%2c The MisMatch Game%2c which features audience contestants and a panel of demented celebrity impersonations by some of L.A.%27s sharpest comic improvisers.DesignHTMLWords: 34   Characters: 234
URL:https://www.discoverhollywood.com/event/the-mismatch-game-2/
LOCATION:Renberg Theatre\, Select
END:VEVENT
BEGIN:VEVENT
DTSTART;TZID=Asia/Kolkata:19710322T000000
DTEND;TZID=Asia/Kolkata:19710322T000000
DTSTAMP:20260424T180043
CREATED:20250716T070646Z
LAST-MODIFIED:20250716T070646Z
UID:10014659-38448000-38448000@www.discoverhollywood.com
SUMMARY:Trans Chorus of Los Angeles
DESCRIPTION:TCLA is the largest group of trans and gender non-conforming people anywhere in the world who gather together regularly to raise their voices in song.\n%3cbr%3eDesignHTMLWords: 25   Characters: 148
URL:https://www.discoverhollywood.com/event/trans-chorus-of-los-angeles/
LOCATION:Renberg Theatre\, Select
END:VEVENT
BEGIN:VEVENT
DTSTART;TZID=Asia/Kolkata:19710321T000000
DTEND;TZID=Asia/Kolkata:19710321T000000
DTSTAMP:20260424T180043
CREATED:20250716T070646Z
LAST-MODIFIED:20250716T070646Z
UID:10014660-38361600-38361600@www.discoverhollywood.com
SUMMARY:Trans Chorus of Los Angeles: The Rise and Fall of Ziggy Stardust and the Spiders from Mars
DESCRIPTION:TCLA will once again perform planet Earth%27s first staged concert production of the full The Rise and Fall of Ziggy Stardust and the Spiders from Mars by David Bowie. As Bowie intended%2c additional hit songs will complete the entire musical saga.DesignHTMLWords: 41   Characters: 240
URL:https://www.discoverhollywood.com/event/trans-chorus-of-los-angeles-the-rise-and-fall-of-ziggy-stardust-and-the-spiders-from-mars/
LOCATION:Renberg Theatre\, Select
END:VEVENT
BEGIN:VEVENT
DTSTART;TZID=Asia/Kolkata:20260424T180043
DTEND;TZID=Asia/Kolkata:20260424T180043
DTSTAMP:20260424T180043
CREATED:20250716T082522Z
LAST-MODIFIED:20250716T082522Z
UID:10015237-0-0@www.discoverhollywood.com
SUMMARY:Well-Strung
DESCRIPTION:Take four sexy gay guys in black t-shirts and tank tops. Add string instruments. Mix classical with contemporary music. Combine that with tremendous charisma. What do you have%3f%26nbsp%3b Well-Strung%21\n%3cbr%3eDesignHTMLWords: 29   Characters: 182
URL:https://www.discoverhollywood.com/event/well-strung/
LOCATION:Renberg Theatre\, Select
END:VEVENT
BEGIN:VEVENT
DTSTART;TZID=Asia/Kolkata:20260424T180043
DTEND;TZID=Asia/Kolkata:20260424T180043
DTSTAMP:20260424T180043
CREATED:20250716T082522Z
LAST-MODIFIED:20250716T082522Z
UID:10015239-0-0@www.discoverhollywood.com
SUMMARY:Well-Strung: The Singing String Quartet
DESCRIPTION:Well-Strung%3a The Singing String Quartet returns to the Renberg Theatre with their innovative mash-up of classical masterpieces and pop hits by such luminaries as Rihanna%2c Kelly Clarkson%2c Taylor Swift%2c and many more%21DesignHTMLWords: 32   Characters: 208
URL:https://www.discoverhollywood.com/event/well-strung-the-singing-string-quartet-2/
LOCATION:Renberg Theatre\, Select
END:VEVENT
BEGIN:VEVENT
DTSTART;TZID=Asia/Kolkata:20260424T180043
DTEND;TZID=Asia/Kolkata:20260424T180043
DTSTAMP:20260424T180043
CREATED:20250716T081754Z
LAST-MODIFIED:20250716T081754Z
UID:10015025-0-0@www.discoverhollywood.com
SUMMARY:Village Variety Pack
DESCRIPTION:DesignHTMLWords: 0   Characters: 0
URL:https://www.discoverhollywood.com/event/village-variety-pack/
LOCATION:Renberg Theatre\, Select
END:VEVENT
BEGIN:VEVENT
DTSTART;TZID=Asia/Kolkata:20260424T180043
DTEND;TZID=Asia/Kolkata:20260424T180043
DTSTAMP:20260424T180043
CREATED:20250716T081621Z
LAST-MODIFIED:20250716T081621Z
UID:10014975-0-0@www.discoverhollywood.com
SUMMARY:Varla Jean Merman's Big Black Hole
DESCRIPTION:The great Varla Jean Merman returns to the Renberg Theatre in a science-fiction extravaganza. Varla takes you on a warped tour of outer space in a theatrical show as hilarious as it is demented. Boldly go where thousands of men have gone before%21DesignHTMLWords: 43   Characters: 241
URL:https://www.discoverhollywood.com/event/varla-jean-mermans-big-black-hole/
LOCATION:Renberg Theatre\, Select
END:VEVENT
END:VCALENDAR