BEGIN:VCALENDAR
VERSION:2.0
PRODID:-//Discover Hollywood Magazine - ECPv6.15.17//NONSGML v1.0//EN
CALSCALE:GREGORIAN
METHOD:PUBLISH
X-WR-CALNAME:Discover Hollywood Magazine
X-ORIGINAL-URL:https://www.discoverhollywood.com
X-WR-CALDESC:Events for Discover Hollywood Magazine
REFRESH-INTERVAL;VALUE=DURATION:PT1H
X-Robots-Tag:noindex
X-PUBLISHED-TTL:PT1H
BEGIN:VTIMEZONE
TZID:America/Los_Angeles
BEGIN:DAYLIGHT
TZOFFSETFROM:-0800
TZOFFSETTO:-0700
TZNAME:PDT
DTSTART:20250309T100000
END:DAYLIGHT
BEGIN:STANDARD
TZOFFSETFROM:-0700
TZOFFSETTO:-0800
TZNAME:PST
DTSTART:20251102T090000
END:STANDARD
BEGIN:DAYLIGHT
TZOFFSETFROM:-0800
TZOFFSETTO:-0700
TZNAME:PDT
DTSTART:20260308T100000
END:DAYLIGHT
BEGIN:STANDARD
TZOFFSETFROM:-0700
TZOFFSETTO:-0800
TZNAME:PST
DTSTART:20261101T090000
END:STANDARD
BEGIN:DAYLIGHT
TZOFFSETFROM:-0800
TZOFFSETTO:-0700
TZNAME:PDT
DTSTART:20270314T100000
END:DAYLIGHT
BEGIN:STANDARD
TZOFFSETFROM:-0700
TZOFFSETTO:-0800
TZNAME:PST
DTSTART:20271107T090000
END:STANDARD
END:VTIMEZONE
BEGIN:VEVENT
DTSTART;TZID=America/Los_Angeles:20260422T193000
DTEND;TZID=America/Los_Angeles:20260422T223000
DTSTAMP:20260422T141402
CREATED:20260327T224555Z
LAST-MODIFIED:20260327T224555Z
UID:10030663-1776886200-1776897000@www.discoverhollywood.com
SUMMARY:Comedy Gives Back Presents: Alt Comedy All-Stars 2026
DESCRIPTION:Get ready for a night of legendary laughter and profound heart as Comedy Gives Back Presents: Alt Comedy All-Stars 2026. This third annual benefit brings together a staggering lineup of alternative comedy icons for a one-night-only showcase\, turning the stage into a vital safety net for the comedy community. The vibe of the evening is electric\, communal\, and wonderfully offbeat; as a celebration of the “alt-comedy” spirit\, the atmosphere trades traditional punchlines for inventive storytelling and those rare\, unscripted moments that only happen when a group of longtime collaborators reunite. It is a sophisticated yet rowdy “family reunion” for the comedy world\, where every laugh directly supports financial relief\, mental health therapy\, and essential resources for stand-up comedians in need. \nThis year’s showcase features a truly stellar ensemble of performers\, headlined by the incomparable Bob Odenkirk and the iconic cast of Mr. Show. They are joined by a powerhouse roster of talent including the sharp observational wit of Patton Oswalt\, the raw and quirky brilliance of Mary Lynn Rajskub\, and the acerbic mastery of Laura Kightlinger. With the addition of Brian Posehn’s signature dry delivery and a host of unannounced special guests\, the evening promises the kind of surprise appearances that make these benefit shows the stuff of Hollywood legend. Whether you are a devotee of the 90s alt-comedy boom or a lover of modern stand-up\, join us for an evening where the comedy community shows up for its own—proving that behind every great punchline is a person worth supporting.
URL:https://www.discoverhollywood.com/event/comedy-gives-back-presents-alt-comedy-all-stars-2026/
LOCATION:Ricardo Montalban Theatre\, 1615 N. Vine St\, Hollywood\, California
CATEGORIES:Comedy
END:VEVENT
END:VCALENDAR