BEGIN:VCALENDAR
VERSION:2.0
PRODID:-//Discover Hollywood Magazine - ECPv6.15.20//NONSGML v1.0//EN
CALSCALE:GREGORIAN
METHOD:PUBLISH
X-WR-CALNAME:Discover Hollywood Magazine
X-ORIGINAL-URL:https://www.discoverhollywood.com
X-WR-CALDESC:Events for Discover Hollywood Magazine
REFRESH-INTERVAL;VALUE=DURATION:PT1H
X-Robots-Tag:noindex
X-PUBLISHED-TTL:PT1H
BEGIN:VTIMEZONE
TZID:Asia/Kolkata
BEGIN:STANDARD
TZOFFSETFROM:+0530
TZOFFSETTO:+0530
TZNAME:IST
DTSTART:20100101T000000
END:STANDARD
END:VTIMEZONE
BEGIN:VEVENT
DTSTART;TZID=Asia/Kolkata:20210613T000000
DTEND;TZID=Asia/Kolkata:20210613T000000
DTSTAMP:20260423T204743
CREATED:20250630T094418Z
LAST-MODIFIED:20250630T094418Z
UID:10001335-1623542400-1623542400@www.discoverhollywood.com
SUMMARY:A day at the Beaches
DESCRIPTION:An evening celebrating the %22Glory%22 of the Divine Miss M%2c as told through the music of her highest grossing album to date%2c the soundtrack to the movie BEACHES. Come spend some time with Hilary and CC%2c and pay respect to this great musical icon%21DesignHTMLWords: 44   Characters: 236
URL:https://www.discoverhollywood.com/event/a-day-at-the-beaches-2/
LOCATION:Rockwell: Table & Stage\, 1714 N. Vermont Ave.\, Los Angeles\, California\, 90027.0
END:VEVENT
BEGIN:VEVENT
DTSTART;TZID=Asia/Kolkata:20210222T000000
DTEND;TZID=Asia/Kolkata:20210222T000000
DTSTAMP:20260423T204743
CREATED:20250630T095056Z
LAST-MODIFIED:20250630T095056Z
UID:10001372-1613952000-1613952000@www.discoverhollywood.com
SUMMARY:A Little New Music
DESCRIPTION:A LITTLE NEW MUSIC is a fast-paced hour of the newest or unheard musical theatre material. Whether a premiere from an established writer or an undiscovered tune from a promising up-and-comer%2c the mission is to entertain with a program that keeps your finger on the pulse.\n%3cbr%3eDesignHTMLWords: 46   Characters: 265
URL:https://www.discoverhollywood.com/event/a-little-new-music-3/
LOCATION:Rockwell: Table & Stage\, 1714 N. Vermont Ave.\, Los Angeles\, California\, 90027.0
END:VEVENT
BEGIN:VEVENT
DTSTART;TZID=Asia/Kolkata:20210120T000000
DTEND;TZID=Asia/Kolkata:20210120T000000
DTSTAMP:20260423T204743
CREATED:20250630T095126Z
LAST-MODIFIED:20250630T095126Z
UID:10001383-1611100800-1611100800@www.discoverhollywood.com
SUMMARY:A Molly Jolly Christmas: With Molly McCook & Friends
DESCRIPTION:%3ca href%3d%22http%3a//rockwell-la.com/event/a-molly-jolly-christmas-with-molly-mccook-friends/%22%3ehttp%3a//rockwell-la.com/event/a-molly-jolly-christmas-with-molly-mccook-friends/%3c/a%3eDesignHTMLWords: 1   Characters: 69
URL:https://www.discoverhollywood.com/event/a-molly-jolly-christmas-with-molly-mccook-friends-2/
LOCATION:Rockwell: Table & Stage\, 1714 N. Vermont Ave.\, Los Angeles\, California\, 90027.0
END:VEVENT
BEGIN:VEVENT
DTSTART;TZID=Asia/Kolkata:20201209T000000
DTEND;TZID=Asia/Kolkata:20201209T000000
DTSTAMP:20260423T204743
CREATED:20250630T095211Z
LAST-MODIFIED:20250630T095211Z
UID:10001397-1607472000-1607472000@www.discoverhollywood.com
SUMMARY:A Night With "The Bells"
DESCRIPTION:Come join us for an evening of music%2c joy and laughter. Hear some of your favorite songs as well as some original music from the stage show. Family is where it’s at%2c and we want you to be a part of ours. Featuring the cast of%2c Reunion of the Bells%2c the musical.DesignHTMLWords: 52   Characters: 253
URL:https://www.discoverhollywood.com/event/a-night-with-the-bells-2/
LOCATION:Rockwell: Table & Stage\, 1714 N. Vermont Ave.\, Los Angeles\, California\, 90027.0
END:VEVENT
BEGIN:VEVENT
DTSTART;TZID=Asia/Kolkata:20200922T000000
DTEND;TZID=Asia/Kolkata:20200922T000000
DTSTAMP:20260423T204743
CREATED:20250630T095706Z
LAST-MODIFIED:20250630T095706Z
UID:10001423-1600732800-1600732800@www.discoverhollywood.com
SUMMARY:A Songwriter's Right
DESCRIPTION:%3cbr%3eDesignHTMLWords: 0   Characters: 0
URL:https://www.discoverhollywood.com/event/a-songwriters-right-2/
LOCATION:Rockwell: Table & Stage\, 1714 N. Vermont Ave.\, Los Angeles\, California\, 90027.0
END:VEVENT
BEGIN:VEVENT
DTSTART;TZID=Asia/Kolkata:20200910T000000
DTEND;TZID=Asia/Kolkata:20200910T000000
DTSTAMP:20260423T204743
CREATED:20250630T095721Z
LAST-MODIFIED:20250630T095721Z
UID:10001427-1599696000-1599696000@www.discoverhollywood.com
SUMMARY:A Star is Born: Judy. Barbra.Gaga
DESCRIPTION:%3cspan%3eAn evening of music and moments from three iconic A Star is Born films woven together as one story in a unique music and theatrical experience.%3c/span%3e\n%3cdiv%3e\n	%3cspan%3e%3cbr%3e%3c/span%3e\n%3c/div%3e\n%3cdiv%3e\n	%3cspan%3e%3cspan%3e%3ca href%3d%22https%3a//www.showclix.com/event/star-is-born-judy-barbra-gaga-vAuUTmc%22 target%3d%22_blank%22%3ehttps%3a//www.showclix.com/event/star-is-born-judy-barbra-gaga-vAuUTmc%3c/a%3e%3c/span%3e%3c/span%3e\n%3c/div%3eDesignHTMLWords: 27   Characters: 204
URL:https://www.discoverhollywood.com/event/a-star-is-born-judy-barbra-gaga-2/
LOCATION:Rockwell: Table & Stage\, 1714 N. Vermont Ave.\, Los Angeles\, California\, 90027.0
END:VEVENT
BEGIN:VEVENT
DTSTART;TZID=Asia/Kolkata:20191112T000000
DTEND;TZID=Asia/Kolkata:20191112T000000
DTSTAMP:20260423T204743
CREATED:20250630T102648Z
LAST-MODIFIED:20250630T102648Z
UID:10001523-1573516800-1573516800@www.discoverhollywood.com
SUMMARY:Actors for Autism: Reach for the Stars!
DESCRIPTION:DesignHTMLWords: 0   Characters: 0
URL:https://www.discoverhollywood.com/event/actors-for-autism-reach-for-the-stars-2/
LOCATION:Rockwell: Table & Stage\, 1714 N. Vermont Ave.\, Los Angeles\, California\, 90027.0
END:VEVENT
BEGIN:VEVENT
DTSTART;TZID=Asia/Kolkata:20190907T000000
DTEND;TZID=Asia/Kolkata:20190907T000000
DTSTAMP:20260423T204743
CREATED:20250630T102803Z
LAST-MODIFIED:20250630T102803Z
UID:10001545-1567814400-1567814400@www.discoverhollywood.com
SUMMARY:Adam Wachter
DESCRIPTION:%3cbr%3eDesignHTMLWords: 0   Characters: 0
URL:https://www.discoverhollywood.com/event/adam-wachter-2/
LOCATION:Rockwell: Table & Stage\, 1714 N. Vermont Ave.\, Los Angeles\, California\, 90027.0
END:VEVENT
BEGIN:VEVENT
DTSTART;TZID=Asia/Kolkata:20190724T000000
DTEND;TZID=Asia/Kolkata:20190724T000000
DTSTAMP:20260423T204743
CREATED:20250630T102848Z
LAST-MODIFIED:20250630T102848Z
UID:10001560-1563926400-1563926400@www.discoverhollywood.com
SUMMARY:Adriana McPhee
DESCRIPTION:DesignHTMLWords: 0   Characters: 0
URL:https://www.discoverhollywood.com/event/adriana-mcphee-2/
LOCATION:Rockwell: Table & Stage\, 1714 N. Vermont Ave.\, Los Angeles\, California\, 90027.0
END:VEVENT
BEGIN:VEVENT
DTSTART;TZID=Asia/Kolkata:20180729T000000
DTEND;TZID=Asia/Kolkata:20180729T000000
DTSTAMP:20260423T204743
CREATED:20250630T103448Z
LAST-MODIFIED:20250630T103448Z
UID:10001680-1532822400-1532822400@www.discoverhollywood.com
SUMMARY:Alex Mohajer: Arrogant Social Climber
DESCRIPTION:%3cbr%3eDesignHTMLWords: 0   Characters: 0
URL:https://www.discoverhollywood.com/event/alex-mohajer-arrogant-social-climber-2/
LOCATION:Rockwell: Table & Stage\, 1714 N. Vermont Ave.\, Los Angeles\, California\, 90027.0
END:VEVENT
BEGIN:VEVENT
DTSTART;TZID=Asia/Kolkata:20180708T000000
DTEND;TZID=Asia/Kolkata:20180708T000000
DTSTAMP:20260423T204743
CREATED:20250630T103503Z
LAST-MODIFIED:20250630T103503Z
UID:10001687-1531008000-1531008000@www.discoverhollywood.com
SUMMARY:Alexander Mendoza
DESCRIPTION:Alexander Mendoza is excited to be back in Los Angeles after being gone for two years traveling the world with Mamma Mia%21 %26amp%3b Sister Act%21 Join him for an evening of fun stories and some of his favorite songs over the years and what is next for him in this crazy journey.DesignHTMLWords: 51   Characters: 264
URL:https://www.discoverhollywood.com/event/alexander-mendoza-2/
LOCATION:Rockwell: Table & Stage\, 1714 N. Vermont Ave.\, Los Angeles\, California\, 90027.0
END:VEVENT
BEGIN:VEVENT
DTSTART;TZID=Asia/Kolkata:20180705T000000
DTEND;TZID=Asia/Kolkata:20180705T000000
DTSTAMP:20260423T204743
CREATED:20250630T103504Z
LAST-MODIFIED:20250630T103504Z
UID:10001688-1530748800-1530748800@www.discoverhollywood.com
SUMMARY:Alexander Rodriguez
DESCRIPTION:%3cbr%3eDesignHTMLWords: 0   Characters: 0
URL:https://www.discoverhollywood.com/event/alexander-rodriguez-2/
LOCATION:Rockwell: Table & Stage\, 1714 N. Vermont Ave.\, Los Angeles\, California\, 90027.0
END:VEVENT
BEGIN:VEVENT
DTSTART;TZID=Asia/Kolkata:20161127T000000
DTEND;TZID=Asia/Kolkata:20161127T000000
DTSTAMP:20260423T204743
CREATED:20250630T105706Z
LAST-MODIFIED:20250630T105706Z
UID:10001883-1480204800-1480204800@www.discoverhollywood.com
SUMMARY:An Evening of Classic Broadway
DESCRIPTION:%3ca href%3d%22http%3a//rockwell-la.com/event/an-evening-of-classic-broadway-4/%22%3ehttp%3a//rockwell-la.com/event/an-evening-of-classic-broadway-4/%3c/a%3eDesignHTMLWords: 1   Characters: 54
URL:https://www.discoverhollywood.com/event/an-evening-of-classic-broadway-2/
LOCATION:Rockwell: Table & Stage\, 1714 N. Vermont Ave.\, Los Angeles\, California\, 90027.0
END:VEVENT
BEGIN:VEVENT
DTSTART;TZID=Asia/Kolkata:20161031T000000
DTEND;TZID=Asia/Kolkata:20161031T000000
DTSTAMP:20260423T204743
CREATED:20250630T105715Z
LAST-MODIFIED:20250630T105715Z
UID:10001892-1477872000-1477872000@www.discoverhollywood.com
SUMMARY:An evening of song with Kendall Amon
DESCRIPTION:Kendall Amon is a 17 year old singer/songwriter whose love for music is reflected in her soulful blend of pop and alternative music. She most recently performed as a featured artist at a Hollywood Benefit Concert along with Broadway star-Stephanie Reese. Tonight’s show is under the direction of American Idol vocal coaches Peisha and Adriana McPhee. Musical Director is Mary Ekler. A portion of the ticket proceeds for this show will go to the non-profit organization%2c Feed2Succeed.DesignHTMLWords: 77   Characters: 475
URL:https://www.discoverhollywood.com/event/an-evening-of-song-with-kendall-amon-2/
LOCATION:Rockwell: Table & Stage\, 1714 N. Vermont Ave.\, Los Angeles\, California\, 90027.0
END:VEVENT
BEGIN:VEVENT
DTSTART;TZID=Asia/Kolkata:20150612T000000
DTEND;TZID=Asia/Kolkata:20150612T000000
DTSTAMP:20260423T204743
CREATED:20250630T113705Z
LAST-MODIFIED:20250630T113705Z
UID:10002085-1434067200-1434067200@www.discoverhollywood.com
SUMMARY:Anita Tony: A Few of My Favorite Things
DESCRIPTION:Anita Tony%2c ‘Broadway’s Leading Drag Queen’ and winner of Best in Drag 2017%2c will bring her magical show A Few of My Favorite Things to Los Angeles for one performance only on Sunday%2c March 11%2c at 7pm at Rockwell Table %26amp%3b Stage in Los Feliz.DesignHTMLWords: 44   Characters: 234
URL:https://www.discoverhollywood.com/event/anita-tony-a-few-of-my-favorite-things/
LOCATION:Rockwell: Table & Stage\, 1714 N. Vermont Ave.\, Los Angeles\, California\, 90027.0
END:VEVENT
BEGIN:VEVENT
DTSTART;TZID=Asia/Kolkata:20150517T000000
DTEND;TZID=Asia/Kolkata:20150517T000000
DTSTAMP:20260423T204743
CREATED:20250630T113735Z
LAST-MODIFIED:20250630T113735Z
UID:10002098-1431820800-1431820800@www.discoverhollywood.com
SUMMARY:Anna Steele Ep Release Concert
DESCRIPTION:DesignHTMLWords: 0   Characters: 0
URL:https://www.discoverhollywood.com/event/anna-steele-ep-release-concert/
LOCATION:Rockwell: Table & Stage\, 1714 N. Vermont Ave.\, Los Angeles\, California\, 90027.0
END:VEVENT
BEGIN:VEVENT
DTSTART;TZID=Asia/Kolkata:20150515T000000
DTEND;TZID=Asia/Kolkata:20150515T000000
DTSTAMP:20260423T204743
CREATED:20250630T113735Z
LAST-MODIFIED:20250630T113735Z
UID:10002099-1431648000-1431648000@www.discoverhollywood.com
SUMMARY:Anna Wintour Bio Musical
DESCRIPTION:She has sat at the top of a %24300 billion industry for twenty-six years. Her power and influence cannot be denied. But when she places a reality star and a certain rapper on the cover of her magazine%2c the backlash is harsh and for the first time%2c her credibility is called into question. Through popular music and an astounding measure of creative license%2c “demented Rat Packer for the millennium” Ryan Raftery brings his hit show to tell the story of a fateful day in the life of the most powerful woman in fashiDesignHTMLWords: 93   Characters: 505
URL:https://www.discoverhollywood.com/event/anna-wintour-bio-musical/
LOCATION:Rockwell: Table & Stage\, 1714 N. Vermont Ave.\, Los Angeles\, California\, 90027.0
END:VEVENT
BEGIN:VEVENT
DTSTART;TZID=Asia/Kolkata:20150507T000000
DTEND;TZID=Asia/Kolkata:20150507T000000
DTSTAMP:20260423T204743
CREATED:20250630T113750Z
LAST-MODIFIED:20250630T113750Z
UID:10002103-1430956800-1430956800@www.discoverhollywood.com
SUMMARY:Anne Steele
DESCRIPTION:Anne Steele is an award winning singer from NYC and is excited to be back in LA with a brand new show%21 She will weave old and new stories into an exciting night of song that will help you learn more about this charming out singer. Anne will be joined by a 3 piece band and backup singers. 2 nights only so get your tickets TODAY%21\n%3cbr%3eDesignHTMLWords: 66   Characters: 325
URL:https://www.discoverhollywood.com/event/anne-steele/
LOCATION:Rockwell: Table & Stage\, 1714 N. Vermont Ave.\, Los Angeles\, California\, 90027.0
END:VEVENT
BEGIN:VEVENT
DTSTART;TZID=Asia/Kolkata:20150505T000000
DTEND;TZID=Asia/Kolkata:20150505T000000
DTSTAMP:20260423T204743
CREATED:20250630T113750Z
LAST-MODIFIED:20250630T113750Z
UID:10002104-1430784000-1430784000@www.discoverhollywood.com
SUMMARY:Anne Steele: The Mixtape of My Life
DESCRIPTION:%3cbr%3eDesignHTMLWords: 0   Characters: 0
URL:https://www.discoverhollywood.com/event/anne-steele-the-mixtape-of-my-life/
LOCATION:Rockwell: Table & Stage\, 1714 N. Vermont Ave.\, Los Angeles\, California\, 90027.0
END:VEVENT
BEGIN:VEVENT
DTSTART;TZID=Asia/Kolkata:20150411T000000
DTEND;TZID=Asia/Kolkata:20150411T000000
DTSTAMP:20260423T204743
CREATED:20250630T113835Z
LAST-MODIFIED:20250630T113835Z
UID:10002116-1428710400-1428710400@www.discoverhollywood.com
SUMMARY:Anniversa-Tease! 3 Year Anniversary Burlesque!
DESCRIPTION:%3cbr%3eDesignHTMLWords: 0   Characters: 0
URL:https://www.discoverhollywood.com/event/anniversa-tease-3-year-anniversary-burlesque/
LOCATION:Rockwell: Table & Stage\, 1714 N. Vermont Ave.\, Los Angeles\, California\, 90027.0
END:VEVENT
BEGIN:VEVENT
DTSTART;TZID=Asia/Kolkata:20140428T000000
DTEND;TZID=Asia/Kolkata:20140428T000000
DTSTAMP:20260423T204743
CREATED:20250630T114720Z
LAST-MODIFIED:20250630T114720Z
UID:10002290-1398643200-1398643200@www.discoverhollywood.com
SUMMARY:ASL Cabaret
DESCRIPTION:ASL Cabaret Celebrates %22Purple Summer%21%22 Join our Anniversary Debut @ Rockwell with Cast Members of Deaf West Theatre%27s Tony Nominated Best Musical Revival Spring Awakening%21 Deaf Talent %26amp%3b American Sign Language %28ASL%29 Artists perform Solos %26amp%3b Duets with Live Music by Paul Raci%27s ASL Rock %26amp%3b Josh Castille %28Spring Awakening%29%21 Special Guests perform ASL Poetry%2c Dance%2c Storytelling %26amp%3b more%21 All Access Voice/ASL%21DesignHTMLWords: 58   Characters: 387
URL:https://www.discoverhollywood.com/event/asl-cabaret/
LOCATION:Rockwell: Table & Stage\, 1714 N. Vermont Ave.\, Los Angeles\, California\, 90027.0
END:VEVENT
BEGIN:VEVENT
DTSTART;TZID=Asia/Kolkata:20140112T000000
DTEND;TZID=Asia/Kolkata:20140112T000000
DTSTAMP:20260423T204743
CREATED:20250630T120044Z
LAST-MODIFIED:20250630T120044Z
UID:10002343-1389484800-1389484800@www.discoverhollywood.com
SUMMARY:Authenticity & Bad-Assery: Cycle 7
DESCRIPTION:DesignHTMLWords: 0   Characters: 0
URL:https://www.discoverhollywood.com/event/authenticity-bad-assery-cycle-7/
LOCATION:Rockwell: Table & Stage\, 1714 N. Vermont Ave.\, Los Angeles\, California\, 90027.0
END:VEVENT
BEGIN:VEVENT
DTSTART;TZID=Asia/Kolkata:20140110T000000
DTEND;TZID=Asia/Kolkata:20140110T000000
DTSTAMP:20260423T204743
CREATED:20250630T120044Z
LAST-MODIFIED:20250630T120044Z
UID:10002344-1389312000-1389312000@www.discoverhollywood.com
SUMMARY:Authenticity and Bad-Assery: Cycle 11
DESCRIPTION:%3ca href%3d%22http%3a//rockwell-la.com/event/authenticity-and-bad-assery-cycle-11/%22%3ehttp%3a//rockwell-la.com/event/authenticity-and-bad-assery-cycle-11/%3c/a%3eDesignHTMLWords: 1   Characters: 58
URL:https://www.discoverhollywood.com/event/authenticity-and-bad-assery-cycle-11/
LOCATION:Rockwell: Table & Stage\, 1714 N. Vermont Ave.\, Los Angeles\, California\, 90027.0
END:VEVENT
BEGIN:VEVENT
DTSTART;TZID=Asia/Kolkata:20131111T000000
DTEND;TZID=Asia/Kolkata:20131111T000000
DTSTAMP:20260423T204743
CREATED:20250630T120258Z
LAST-MODIFIED:20250630T120258Z
UID:10002374-1384128000-1384128000@www.discoverhollywood.com
SUMMARY:B Martin
DESCRIPTION:Join B Martin and featured guest artists for a night of fresh R%26amp%3bB and Hip Hop%2c blended with acoustic live piano performances.DesignHTMLWords: 22   Characters: 122
URL:https://www.discoverhollywood.com/event/b-martin/
LOCATION:Rockwell: Table & Stage\, 1714 N. Vermont Ave.\, Los Angeles\, California\, 90027.0
END:VEVENT
BEGIN:VEVENT
DTSTART;TZID=Asia/Kolkata:20131004T000000
DTEND;TZID=Asia/Kolkata:20131004T000000
DTSTAMP:20260423T204743
CREATED:20250630T120332Z
LAST-MODIFIED:20250630T120332Z
UID:10002393-1380844800-1380844800@www.discoverhollywood.com
SUMMARY:Babylon Cabaret
DESCRIPTION:Take a trip back to Babylon with Babylon Cabaret and step into a uniquely vintage world of live original music%2c singers%2c burlesque dancers%2c magicians and other floor show specialties that visit upon such exotic locales as Hollywood in its Golden Era%2c the red light district of New Orleans%27 storied French Quarter and the Berlin of the Weimar Republic during the 20s and 30s.DesignHTMLWords: 63   Characters: 368
URL:https://www.discoverhollywood.com/event/babylon-cabaret/
LOCATION:Rockwell: Table & Stage\, 1714 N. Vermont Ave.\, Los Angeles\, California\, 90027.0
END:VEVENT
BEGIN:VEVENT
DTSTART;TZID=Asia/Kolkata:20130113T000000
DTEND;TZID=Asia/Kolkata:20130113T000000
DTSTAMP:20260423T204743
CREATED:20250630T120546Z
LAST-MODIFIED:20250630T120546Z
UID:10002525-1358035200-1358035200@www.discoverhollywood.com
SUMMARY:Barrett Foa
DESCRIPTION:Grin and Barrett\n%3cbr%3eDesignHTMLWords: 3   Characters: 16
URL:https://www.discoverhollywood.com/event/barrett-foa/
LOCATION:Rockwell: Table & Stage\, 1714 N. Vermont Ave.\, Los Angeles\, California\, 90027.0
END:VEVENT
BEGIN:VEVENT
DTSTART;TZID=Asia/Kolkata:20120418T000000
DTEND;TZID=Asia/Kolkata:20120418T000000
DTSTAMP:20260423T204743
CREATED:20250630T122654Z
LAST-MODIFIED:20250630T122654Z
UID:10002660-1334707200-1334707200@www.discoverhollywood.com
SUMMARY:Believe It Or Not It’s Just Me
DESCRIPTION:Enter Heather%27s UHF/VHF world for %22Believe It Or Not It’s Just Me%2c%22 a show about how she discovered herself through tv of the 70%27s %26amp%3b 80%27s. She%27s performed it to audiences nationwide %26amp%3b returns to LA for ONE NIGHT ONLY. “It is difficult to tell which is more enchanting%3a Heather Olt%27s warm%2c expressive alto or her deep%2c intelligent comic sensibility. While many performers simply tell their lives through song%2c Olt raises the bar by creating a TV-obsessed alter-ego %26amp%3b revealing a life through sitcoms%2cDesignHTMLWords: 81   Characters: 478
URL:https://www.discoverhollywood.com/event/believe-it-or-not-its-just-me/
LOCATION:Rockwell: Table & Stage\, 1714 N. Vermont Ave.\, Los Angeles\, California\, 90027.0
END:VEVENT
BEGIN:VEVENT
DTSTART;TZID=Asia/Kolkata:20111108T000000
DTEND;TZID=Asia/Kolkata:20111108T000000
DTSTAMP:20260423T204743
CREATED:20250630T122926Z
LAST-MODIFIED:20250630T122926Z
UID:10002741-1320710400-1320710400@www.discoverhollywood.com
SUMMARY:Better Days Release Show
DESCRIPTION:DesignHTMLWords: 0   Characters: 0
URL:https://www.discoverhollywood.com/event/better-days-release-show/
LOCATION:Rockwell: Table & Stage\, 1714 N. Vermont Ave.\, Los Angeles\, California\, 90027.0
END:VEVENT
BEGIN:VEVENT
DTSTART;TZID=Asia/Kolkata:20110311T000000
DTEND;TZID=Asia/Kolkata:20110311T000000
DTSTAMP:20260423T204743
CREATED:20250630T123238Z
LAST-MODIFIED:20250630T123238Z
UID:10002863-1299801600-1299801600@www.discoverhollywood.com
SUMMARY:Billy Barnes Birthday Bash
DESCRIPTION:DesignHTMLWords: 0   Characters: 0
URL:https://www.discoverhollywood.com/event/billy-barnes-birthday-bash/
LOCATION:Rockwell: Table & Stage\, 1714 N. Vermont Ave.\, Los Angeles\, California\, 90027.0
END:VEVENT
BEGIN:VEVENT
DTSTART;TZID=Asia/Kolkata:20110128T000000
DTEND;TZID=Asia/Kolkata:20110128T000000
DTSTAMP:20260423T204743
CREATED:20250630T123300Z
LAST-MODIFIED:20250630T123300Z
UID:10002884-1296172800-1296172800@www.discoverhollywood.com
SUMMARY:Billy Vera: Big Band Jazz
DESCRIPTION:DesignHTMLWords: 0   Characters: 0
URL:https://www.discoverhollywood.com/event/billy-vera-big-band-jazz/
LOCATION:Rockwell: Table & Stage\, 1714 N. Vermont Ave.\, Los Angeles\, California\, 90027.0
END:VEVENT
END:VCALENDAR