BEGIN:VCALENDAR
VERSION:2.0
PRODID:-//Discover Hollywood Magazine - ECPv6.15.20//NONSGML v1.0//EN
CALSCALE:GREGORIAN
METHOD:PUBLISH
X-ORIGINAL-URL:https://www.discoverhollywood.com
X-WR-CALDESC:Events for Discover Hollywood Magazine
REFRESH-INTERVAL;VALUE=DURATION:PT1H
X-Robots-Tag:noindex
X-PUBLISHED-TTL:PT1H
BEGIN:VTIMEZONE
TZID:Asia/Kolkata
BEGIN:STANDARD
TZOFFSETFROM:+0530
TZOFFSETTO:+0530
TZNAME:IST
DTSTART:19960101T000000
END:STANDARD
END:VTIMEZONE
BEGIN:VEVENT
DTSTART;TZID=Asia/Kolkata:20060110T000000
DTEND;TZID=Asia/Kolkata:20060110T000000
DTSTAMP:20260424T084238
CREATED:20250701T085006Z
LAST-MODIFIED:20250701T085006Z
UID:10003706-1136851200-1136851200@www.discoverhollywood.com
SUMMARY:Chris Meissner: Of Meissner & Men
DESCRIPTION:Join Chris Meissner %28Grease%3a Live%21%2c Carrie%3a The Musical%2c West Side Story in Concert%29%2c and his many special guests%2c at Rockwell Table %26amp%3b Stage%2c for a night of entertainment%2c featuring original music and musical theater/pop songs you already know and love.DesignHTMLWords: 39   Characters: 240
URL:https://www.discoverhollywood.com/event/chris-meissner-of-meissner-men/
LOCATION:Rockwell: Table & Stage\, 1714 N. Vermont Ave.\, Los Angeles\, California\, 90027.0
END:VEVENT
BEGIN:VEVENT
DTSTART;TZID=Asia/Kolkata:20051020T000000
DTEND;TZID=Asia/Kolkata:20051020T000000
DTSTAMP:20260424T084238
CREATED:20250701T090502Z
LAST-MODIFIED:20250701T090502Z
UID:10003747-1129766400-1129766400@www.discoverhollywood.com
SUMMARY:Christmas Sessions LIVE: Matt Bloyd & Friends
DESCRIPTION:A festive evening of your favorite Holiday tunesDesignHTMLWords: 8   Characters: 48
URL:https://www.discoverhollywood.com/event/christmas-sessions-live-matt-bloyd-friends/
LOCATION:Rockwell: Table & Stage\, 1714 N. Vermont Ave.\, Los Angeles\, California\, 90027.0
END:VEVENT
BEGIN:VEVENT
DTSTART;TZID=Asia/Kolkata:20040901T000000
DTEND;TZID=Asia/Kolkata:20040901T000000
DTSTAMP:20260424T084238
CREATED:20250701T094235Z
LAST-MODIFIED:20250701T094235Z
UID:10003954-1093996800-1093996800@www.discoverhollywood.com
SUMMARY:Come to the Dark Side with Bert Keely\, Roger Bourland and Larry Marcus
DESCRIPTION:One of the crazier ideas to come out of last year%27s total eclipse was Northern CA trio imagining they could re-enact Pink Floyd%27s entire Dark Side of the Moon – from the first heartbeat to the final eclipse. Experience the dark sides of Bert Keely%2c Larry Marcus%2c and Roger Bourland- in LA for one night only%21DesignHTMLWords: 55   Characters: 299
URL:https://www.discoverhollywood.com/event/come-to-the-dark-side-with-bert-keely-roger-bourland-and-larry-marcus/
LOCATION:Rockwell: Table & Stage\, 1714 N. Vermont Ave.\, Los Angeles\, California\, 90027.0
END:VEVENT
BEGIN:VEVENT
DTSTART;TZID=Asia/Kolkata:20040113T000000
DTEND;TZID=Asia/Kolkata:20040113T000000
DTSTAMP:20260424T084238
CREATED:20250701T104753Z
LAST-MODIFIED:20250701T104753Z
UID:10004070-1073952000-1073952000@www.discoverhollywood.com
SUMMARY:Cosplay Crash
DESCRIPTION:An evening of energetic%2c live competitive performance where teams of cosplayers act%2c sing%2c move%2c dance to create an entertaining story based on characters and plot lines from pop culture entertainment. A panel of knowledgeable%2c industry judges will rate each routine based on costume and prop craftsmanship%2c creativity and performance quality. The team with the highest overall score wins that week’s cash prize—%24500—and automatic entry into the next month’s competition to defend their title.\n%3cbr%3eDesignHTMLWords: 73   Characters: 484
URL:https://www.discoverhollywood.com/event/cosplay-crash/
LOCATION:Rockwell: Table & Stage\, 1714 N. Vermont Ave.\, Los Angeles\, California\, 90027.0
END:VEVENT
BEGIN:VEVENT
DTSTART;TZID=Asia/Kolkata:20031230T000000
DTEND;TZID=Asia/Kolkata:20031230T000000
DTSTAMP:20260424T084238
CREATED:20250701T104953Z
LAST-MODIFIED:20250701T104953Z
UID:10004077-1072742400-1072742400@www.discoverhollywood.com
SUMMARY:Courtney Act
DESCRIPTION:DesignHTMLWords: 0   Characters: 0
URL:https://www.discoverhollywood.com/event/courtney-act/
LOCATION:Rockwell: Table & Stage\, 1714 N. Vermont Ave.\, Los Angeles\, California\, 90027.0
END:VEVENT
BEGIN:VEVENT
DTSTART;TZID=Asia/Kolkata:20031228T000000
DTEND;TZID=Asia/Kolkata:20031228T000000
DTSTAMP:20260424T084238
CREATED:20250701T104953Z
LAST-MODIFIED:20250701T104953Z
UID:10004078-1072569600-1072569600@www.discoverhollywood.com
SUMMARY:Courtney Act's DASHING THROUGH THE DIVAS
DESCRIPTION:DesignHTMLWords: 0   Characters: 0
URL:https://www.discoverhollywood.com/event/courtney-acts-dashing-through-the-divas/
LOCATION:Rockwell: Table & Stage\, 1714 N. Vermont Ave.\, Los Angeles\, California\, 90027.0
END:VEVENT
BEGIN:VEVENT
DTSTART;TZID=Asia/Kolkata:20031226T000000
DTEND;TZID=Asia/Kolkata:20031226T000000
DTSTAMP:20260424T084238
CREATED:20250701T104953Z
LAST-MODIFIED:20250701T104953Z
UID:10004079-1072396800-1072396800@www.discoverhollywood.com
SUMMARY:Courtney Act's The Girl From Oz
DESCRIPTION:Courtney Act takes you over the rainbow and down under in her new show%3a The Girl from OZ%21 Chock full of hits and high notes%2c you will leave this show realizing there%27s no place like her home%21DesignHTMLWords: 37   Characters: 186
URL:https://www.discoverhollywood.com/event/courtney-acts-the-girl-from-oz/
LOCATION:Rockwell: Table & Stage\, 1714 N. Vermont Ave.\, Los Angeles\, California\, 90027.0
END:VEVENT
BEGIN:VEVENT
DTSTART;TZID=Asia/Kolkata:20031114T000000
DTEND;TZID=Asia/Kolkata:20031114T000000
DTSTAMP:20260424T084238
CREATED:20250701T105355Z
LAST-MODIFIED:20250701T105355Z
UID:10004100-1068768000-1068768000@www.discoverhollywood.com
SUMMARY:Craig Ramsay & Brandon Liberati
DESCRIPTION:%3cbr%3eDesignHTMLWords: 0   Characters: 0
URL:https://www.discoverhollywood.com/event/craig-ramsay-brandon-liberati/
LOCATION:Rockwell: Table & Stage\, 1714 N. Vermont Ave.\, Los Angeles\, California\, 90027.0
END:VEVENT
BEGIN:VEVENT
DTSTART;TZID=Asia/Kolkata:20031027T000000
DTEND;TZID=Asia/Kolkata:20031027T000000
DTSTAMP:20260424T084238
CREATED:20250701T105556Z
LAST-MODIFIED:20250701T105556Z
UID:10004109-1067212800-1067212800@www.discoverhollywood.com
SUMMARY:Crazy Talented Asians: Disney Night
DESCRIPTION:Inspired by the success of the hit movie%2c Crazy Rich Asians%2c we celebrate Asian-American visibility and representation in the media with a night of music and poetry.DesignHTMLWords: 27   Characters: 161
URL:https://www.discoverhollywood.com/event/crazy-talented-asians-disney-night/
LOCATION:Rockwell: Table & Stage\, 1714 N. Vermont Ave.\, Los Angeles\, California\, 90027.0
END:VEVENT
BEGIN:VEVENT
DTSTART;TZID=Asia/Kolkata:20031007T000000
DTEND;TZID=Asia/Kolkata:20031007T000000
DTSTAMP:20260424T084238
CREATED:20250701T105757Z
LAST-MODIFIED:20250701T105757Z
UID:10004119-1065484800-1065484800@www.discoverhollywood.com
SUMMARY:Crimes of the Heart: An "Oh-So" Criminal Cabaret
DESCRIPTION:An evening celebrating the repertoire of Broadway%27s most famous and tortured femme fatales. See five of Los Angeles%27 sultry ladies come together for one night only to combine their diverse and explosive talents as they present%3a Crimes of the Heart%3a An “Oh So” Criminal Cabaret. Hear musical favorites from composers such as Kander and Ebb%2c Stephen Sondheim%2c Jule Styne%2c and many more. Featuring%3a Tia Simone%2c Leah Ashton%2c Nina Kasuya%2c Kelly King%2c and Krystle Simmons.DesignHTMLWords: 74   Characters: 450
URL:https://www.discoverhollywood.com/event/crimes-of-the-heart-an-oh-so-criminal-cabaret/
LOCATION:Rockwell: Table & Stage\, 1714 N. Vermont Ave.\, Los Angeles\, California\, 90027.0
END:VEVENT
BEGIN:VEVENT
DTSTART;TZID=Asia/Kolkata:20030816T000000
DTEND;TZID=Asia/Kolkata:20030816T000000
DTSTAMP:20260424T084238
CREATED:20250701T110344Z
LAST-MODIFIED:20250701T110344Z
UID:10004145-1060992000-1060992000@www.discoverhollywood.com
SUMMARY:Cry Me A River: Crystal Gayle Johnson
DESCRIPTION:Slip into something a bit more comfortable%2c as Crystal Gayle Johnson serves you the sultry sounds of Julie London%2c singing all her signature hits. It’s an evening of classic jazz%2c hilarious life stories%2c and the campiest kind of drag. You%27ll walk away smiling%2c laughing%2c and humming at the same time. With a few extra special guest stars already in the set list the evening will certainly be one to remember. It’s sweet%2c you’ll like it.DesignHTMLWords: 75   Characters: 423
URL:https://www.discoverhollywood.com/event/cry-me-a-river-crystal-gayle-johnson/
LOCATION:Rockwell: Table & Stage\, 1714 N. Vermont Ave.\, Los Angeles\, California\, 90027.0
END:VEVENT
BEGIN:VEVENT
DTSTART;TZID=Asia/Kolkata:20030331T000000
DTEND;TZID=Asia/Kolkata:20030331T000000
DTSTAMP:20260424T084238
CREATED:20250701T112611Z
LAST-MODIFIED:20250701T112611Z
UID:10004214-1049068800-1049068800@www.discoverhollywood.com
SUMMARY:Daisy and Jordan's Sunday Brunch of Shame
DESCRIPTION:%26nbsp%3bFresh from their night out the night before%2c Tony winner%2c Daisy Eagan and future Tony winner%2c Jordan Kai Burnett will regale audiences with tales of their wild romps%2c inappropriate dealings with some of Hollywood%27s top D-listers%2c and impart the wisdom they picked up along the way %28Legal note%3a Daisy and Jordan are not liable for any of the wisdom imparted should such wisdom lead to unwise decisions on the part of any audience member.%29. Daisy and Jordan%27s Sunday Brunch of Shame is the perfect antidote tDesignHTMLWords: 86   Characters: 493
URL:https://www.discoverhollywood.com/event/daisy-and-jordans-sunday-brunch-of-shame/
LOCATION:Rockwell: Table & Stage\, 1714 N. Vermont Ave.\, Los Angeles\, California\, 90027.0
END:VEVENT
BEGIN:VEVENT
DTSTART;TZID=Asia/Kolkata:20030122T000000
DTEND;TZID=Asia/Kolkata:20030122T000000
DTSTAMP:20260424T084238
CREATED:20250701T113143Z
LAST-MODIFIED:20250701T113143Z
UID:10004248-1043193600-1043193600@www.discoverhollywood.com
SUMMARY:Dances with Pitchforks
DESCRIPTION:%3cimg class%3d%22%22 alt%3d%22%22 src%3d%22images/dances-with-pitchforks5730.jpg%22 height%3d%22300%22 width%3d%22339%22%3eDesignHTMLWords: 0   Characters: 0
URL:https://www.discoverhollywood.com/event/dances-with-pitchforks/
LOCATION:Rockwell: Table & Stage\, 1714 N. Vermont Ave.\, Los Angeles\, California\, 90027.0
END:VEVENT
BEGIN:VEVENT
DTSTART;TZID=Asia/Kolkata:20030120T000000
DTEND;TZID=Asia/Kolkata:20030120T000000
DTSTAMP:20260424T084238
CREATED:20250701T113143Z
LAST-MODIFIED:20250701T113143Z
UID:10004249-1043020800-1043020800@www.discoverhollywood.com
SUMMARY:Dances with Pitchforks
DESCRIPTION:What happens when divas collide%3f Find out in John Flynn’s award winning one-man show%2c Dances With Pitchforks%3a Confessions of a Farm Boy. The year was 1998. Starring in Paper Mill Playhouse’s production of Gypsy were Broadway legend Betty Buckley%2c pop star Deborah Gibson%2c and John Flynn as non-Equity Farm Boy %235. And like any non-Equity Farm Boy %235 with too much free time on his hands%2c John shares tales of rehearsal antics via e-mail. And from there on out – all Hell breaks loose%21 It is a story of dashed hopDesignHTMLWords: 90   Characters: 494
URL:https://www.discoverhollywood.com/event/dances-with-pitchforks-2/
LOCATION:Rockwell: Table & Stage\, 1714 N. Vermont Ave.\, Los Angeles\, California\, 90027.0
END:VEVENT
BEGIN:VEVENT
DTSTART;TZID=Asia/Kolkata:20011108T000000
DTEND;TZID=Asia/Kolkata:20011108T000000
DTSTAMP:20260424T084238
CREATED:20250701T120657Z
LAST-MODIFIED:20250701T120658Z
UID:10004468-1005177600-1005177600@www.discoverhollywood.com
SUMMARY:Debbie Joyce Sings Nancy Wilson – Featuring The Tony Campodonico Trio
DESCRIPTION:%3ca href%3d%22http%3a//rockwell-la.com/event/debbie-joyce-sings-nancy-wilson-featuring-the-tony-campodonico-trio/%22%3ehttp%3a//rockwell-la.com/event/debbie-joyce-sings-nancy-wilson-featuring-the-tony-campodonico-trio/%3c/a%3eDesignHTMLWords: 1   Characters: 85
URL:https://www.discoverhollywood.com/event/debbie-joyce-sings-nancy-wilson-featuring-the-tony-campodonico-trio/
LOCATION:Rockwell: Table & Stage\, 1714 N. Vermont Ave.\, Los Angeles\, California\, 90027.0
END:VEVENT
BEGIN:VEVENT
DTSTART;TZID=Asia/Kolkata:20011021T000000
DTEND;TZID=Asia/Kolkata:20011021T000000
DTSTAMP:20260424T084238
CREATED:20250701T120714Z
LAST-MODIFIED:20250701T120715Z
UID:10004477-1003622400-1003622400@www.discoverhollywood.com
SUMMARY:Dedrick Bonner and the Singers of Soul
DESCRIPTION:It will be a night of holiday classics backed with the sounds of a 20 piece soul stirring choir. Come out for a holiday evening like no other with Special guest from Television to Broadway.DesignHTMLWords: 35   Characters: 187
URL:https://www.discoverhollywood.com/event/dedrick-bonner-and-the-singers-of-soul/
LOCATION:Rockwell: Table & Stage\, 1714 N. Vermont Ave.\, Los Angeles\, California\, 90027.0
END:VEVENT
BEGIN:VEVENT
DTSTART;TZID=Asia/Kolkata:20010526T000000
DTEND;TZID=Asia/Kolkata:20010526T000000
DTSTAMP:20260424T084238
CREATED:20250701T120843Z
LAST-MODIFIED:20250701T120843Z
UID:10004551-990835200-990835200@www.discoverhollywood.com
SUMMARY:Dessy Di Lauro's Neo-Ragtime Jamboree
DESCRIPTION:DesignHTMLWords: 0   Characters: 0
URL:https://www.discoverhollywood.com/event/dessy-di-lauros-neo-ragtime-jamboree/
LOCATION:Rockwell: Table & Stage\, 1714 N. Vermont Ave.\, Los Angeles\, California\, 90027.0
END:VEVENT
BEGIN:VEVENT
DTSTART;TZID=Asia/Kolkata:20010124T000000
DTEND;TZID=Asia/Kolkata:20010124T000000
DTSTAMP:20260424T084238
CREATED:20250701T122032Z
LAST-MODIFIED:20250701T122032Z
UID:10004602-980294400-980294400@www.discoverhollywood.com
SUMMARY:Die Hot
DESCRIPTION:%3ca href%3d%22http%3a//rockwell-la.com/event/die-hot/%22%3ehttp%3a//rockwell-la.com/event/die-hot/%3c/a%3eDesignHTMLWords: 1   Characters: 33
URL:https://www.discoverhollywood.com/event/die-hot/
LOCATION:Rockwell: Table & Stage\, 1714 N. Vermont Ave.\, Los Angeles\, California\, 90027.0
END:VEVENT
BEGIN:VEVENT
DTSTART;TZID=Asia/Kolkata:20000310T000000
DTEND;TZID=Asia/Kolkata:20000310T000000
DTSTAMP:20260424T084238
CREATED:20250701T125740Z
LAST-MODIFIED:20250701T125740Z
UID:10004762-952646400-952646400@www.discoverhollywood.com
SUMMARY:Donny Most Sings and Swings!
DESCRIPTION:With Special Guest Sarah Spiegel. Donny Most%2c best known as Ralph Malph from the long running hit television show Happy Days%2c and his 7 piece band%2c bring the songs of Sinatra%2c Darin%2c Martin%2c and more to life through his interpretations and creative arrangements. The wing era and 50%27s cool are fused together inane very unique show as Donny shares stories from Happy Days and beyond.\n%3cbr%3eDesignHTMLWords: 65   Characters: 373
URL:https://www.discoverhollywood.com/event/donny-most-sings-and-swings/
LOCATION:Rockwell: Table & Stage\, 1714 N. Vermont Ave.\, Los Angeles\, California\, 90027.0
END:VEVENT
BEGIN:VEVENT
DTSTART;TZID=Asia/Kolkata:19991123T000000
DTEND;TZID=Asia/Kolkata:19991123T000000
DTSTAMP:20260424T084238
CREATED:20250701T125852Z
LAST-MODIFIED:20250701T125852Z
UID:10004816-943315200-943315200@www.discoverhollywood.com
SUMMARY:Drag Brunch!
DESCRIPTION:Brunch with drag queens%2c including Rhea Litre%2c Manila Luzon and Ongina.DesignHTMLWords: 11   Characters: 68
URL:https://www.discoverhollywood.com/event/drag-brunch/
LOCATION:Rockwell: Table & Stage\, 1714 N. Vermont Ave.\, Los Angeles\, California\, 90027.0
END:VEVENT
BEGIN:VEVENT
DTSTART;TZID=Asia/Kolkata:19990912T000000
DTEND;TZID=Asia/Kolkata:19990912T000000
DTSTAMP:20260424T084238
CREATED:20250701T125935Z
LAST-MODIFIED:20250701T125935Z
UID:10004852-937094400-937094400@www.discoverhollywood.com
SUMMARY:Drew Michael: The Experience
DESCRIPTION:%3cbr%3eDesignHTMLWords: 0   Characters: 0
URL:https://www.discoverhollywood.com/event/drew-michael-the-experience/
LOCATION:Rockwell: Table & Stage\, 1714 N. Vermont Ave.\, Los Angeles\, California\, 90027.0
END:VEVENT
BEGIN:VEVENT
DTSTART;TZID=Asia/Kolkata:19981107T000000
DTEND;TZID=Asia/Kolkata:19981107T000000
DTSTAMP:20260424T084238
CREATED:20250702T044956Z
LAST-MODIFIED:20250702T044956Z
UID:10005112-910396800-910396800@www.discoverhollywood.com
SUMMARY:Elise's 60th Birthday!
DESCRIPTION:Join New Musicals Inc.%27s Artistic Director Elise Dewsberry as she celebrates her 60th birthday with an evening devoted to brand new songs by NMI%27s best musical theatre writers. “To say that Dewsberry is a gifted actress and singer is an understatement%22 %28Lynda Ashley%3b Peterborough Examiner.DesignHTMLWords: 45   Characters: 282
URL:https://www.discoverhollywood.com/event/elises-60th-birthday/
LOCATION:Rockwell: Table & Stage\, 1714 N. Vermont Ave.\, Los Angeles\, California\, 90027.0
END:VEVENT
BEGIN:VEVENT
DTSTART;TZID=Asia/Kolkata:19980915T000000
DTEND;TZID=Asia/Kolkata:19980915T000000
DTSTAMP:20260424T084238
CREATED:20250702T050356Z
LAST-MODIFIED:20250702T050356Z
UID:10005165-905817600-905817600@www.discoverhollywood.com
SUMMARY:Emojiland
DESCRIPTION:Emojis are real. They live inside your phone. In this %22groundbreaking%22 world premiere original musical that poignantly and hilariously examines the very meaning of existence%2c they also sing their faces off. Be among the first to experience the powerful%2c magical%2c mind-blowing journey that is Emojiland.DesignHTMLWords: 45   Characters: 292
URL:https://www.discoverhollywood.com/event/emojiland/
LOCATION:Rockwell: Table & Stage\, 1714 N. Vermont Ave.\, Los Angeles\, California\, 90027.0
END:VEVENT
BEGIN:VEVENT
DTSTART;TZID=Asia/Kolkata:19980720T000000
DTEND;TZID=Asia/Kolkata:19980720T000000
DTSTAMP:20260424T084238
CREATED:20250702T051801Z
LAST-MODIFIED:20250702T051801Z
UID:10005222-900892800-900892800@www.discoverhollywood.com
SUMMARY:Eric Michael Krop
DESCRIPTION:Powerhouse vocalist%2c Eric Michael Krop%2c returns to Rockwell Table and Stage for a night of epic original songs and your favorite hit cover songs.DesignHTMLWords: 24   Characters: 142
URL:https://www.discoverhollywood.com/event/eric-michael-krop/
LOCATION:Rockwell: Table & Stage\, 1714 N. Vermont Ave.\, Los Angeles\, California\, 90027.0
END:VEVENT
BEGIN:VEVENT
DTSTART;TZID=Asia/Kolkata:19980618T000000
DTEND;TZID=Asia/Kolkata:19980618T000000
DTSTAMP:20260424T084238
CREATED:20250702T052247Z
LAST-MODIFIED:20250702T052247Z
UID:10005254-898128000-898128000@www.discoverhollywood.com
SUMMARY:Estelle
DESCRIPTION:%3cbr%3eDesignHTMLWords: 0   Characters: 0
URL:https://www.discoverhollywood.com/event/estelle/
LOCATION:Rockwell: Table & Stage\, 1714 N. Vermont Ave.\, Los Angeles\, California\, 90027.0
END:VEVENT
BEGIN:VEVENT
DTSTART;TZID=Asia/Kolkata:19980322T000000
DTEND;TZID=Asia/Kolkata:19980322T000000
DTSTAMP:20260424T084238
CREATED:20250702T055159Z
LAST-MODIFIED:20250702T055159Z
UID:10005342-890524800-890524800@www.discoverhollywood.com
SUMMARY:Faces in Heels Burlesque
DESCRIPTION:DesignHTMLWords: 0   Characters: 0
URL:https://www.discoverhollywood.com/event/faces-in-heels-burlesque/
LOCATION:Rockwell: Table & Stage\, 1714 N. Vermont Ave.\, Los Angeles\, California\, 90027.0
END:VEVENT
BEGIN:VEVENT
DTSTART;TZID=Asia/Kolkata:19980205T000000
DTEND;TZID=Asia/Kolkata:19980205T000000
DTSTAMP:20260424T084238
CREATED:20250702T055844Z
LAST-MODIFIED:20250702T055844Z
UID:10005387-886636800-886636800@www.discoverhollywood.com
SUMMARY:Farol
DESCRIPTION:%3cbr%3eDesignHTMLWords: 0   Characters: 0
URL:https://www.discoverhollywood.com/event/farol/
LOCATION:Rockwell: Table & Stage\, 1714 N. Vermont Ave.\, Los Angeles\, California\, 90027.0
END:VEVENT
BEGIN:VEVENT
DTSTART;TZID=Asia/Kolkata:19971116T000000
DTEND;TZID=Asia/Kolkata:19971116T000000
DTSTAMP:20260424T084238
CREATED:20250702T060218Z
LAST-MODIFIED:20250702T060218Z
UID:10005468-879638400-879638400@www.discoverhollywood.com
SUMMARY:Feud: Matthew & Alexander
DESCRIPTION:Rumor%21 Scandal%21 Intrigue%21 Two dueling actors share an evening of stories and songs from their time in hit shows such as Frozen%2c Sister Act and more…Matthew Malecki and Alexander Mendoza sing from Broadway%27s biggest hits to pop%27s greatest artists as they unpack their unique and…friendly…feud.DesignHTMLWords: 45   Characters: 282
URL:https://www.discoverhollywood.com/event/feud-matthew-alexander/
LOCATION:Rockwell: Table & Stage\, 1714 N. Vermont Ave.\, Los Angeles\, California\, 90027.0
END:VEVENT
BEGIN:VEVENT
DTSTART;TZID=Asia/Kolkata:19971105T000000
DTEND;TZID=Asia/Kolkata:19971105T000000
DTSTAMP:20260424T084238
CREATED:20250702T060238Z
LAST-MODIFIED:20250702T060238Z
UID:10005479-878688000-878688000@www.discoverhollywood.com
SUMMARY:Fierce Vixen Bitch
DESCRIPTION:Join Rockwell favorite%2c Kyra Selman%2c for the Los Angeles debut of her acclaimed solo cabaret%2c Fierce. Vixen. Bitch. A montage of pop songs and stories from her former life as a bartenderDesignHTMLWords: 32   Characters: 180
URL:https://www.discoverhollywood.com/event/fierce-vixen-bitch/
LOCATION:Rockwell: Table & Stage\, 1714 N. Vermont Ave.\, Los Angeles\, California\, 90027.0
END:VEVENT
BEGIN:VEVENT
DTSTART;TZID=Asia/Kolkata:19970628T000000
DTEND;TZID=Asia/Kolkata:19970628T000000
DTSTAMP:20260424T084238
CREATED:20250703T061922Z
LAST-MODIFIED:20250703T061922Z
UID:10005605-867456000-867456000@www.discoverhollywood.com
SUMMARY:For All We Know
DESCRIPTION:A musical collective of Philosophical Hypotheticals. Life changes moment to moment. We don%27t know what tomorrow will bring. So%2c let%27s laugh%2c embrace the uncertainty%2c and celebrate%21 Special guest singers%2c and a band that will knock your socks off. Tiffany Bailey performed her hugely successful show%2cDesignHTMLWords: 45   Characters: 287
URL:https://www.discoverhollywood.com/event/for-all-we-know/
LOCATION:Rockwell: Table & Stage\, 1714 N. Vermont Ave.\, Los Angeles\, California\, 90027.0
END:VEVENT
END:VCALENDAR