BEGIN:VCALENDAR
VERSION:2.0
PRODID:-//Discover Hollywood Magazine - ECPv6.15.17//NONSGML v1.0//EN
CALSCALE:GREGORIAN
METHOD:PUBLISH
X-ORIGINAL-URL:https://www.discoverhollywood.com
X-WR-CALDESC:Events for Discover Hollywood Magazine
REFRESH-INTERVAL;VALUE=DURATION:PT1H
X-Robots-Tag:noindex
X-PUBLISHED-TTL:PT1H
BEGIN:VTIMEZONE
TZID:Asia/Kolkata
BEGIN:STANDARD
TZOFFSETFROM:+0530
TZOFFSETTO:+0530
TZNAME:IST
DTSTART:19770101T000000
END:STANDARD
END:VTIMEZONE
BEGIN:VEVENT
DTSTART;TZID=Asia/Kolkata:19980130T000000
DTEND;TZID=Asia/Kolkata:19980130T000000
DTSTAMP:20260422T121829
CREATED:20250702T055952Z
LAST-MODIFIED:20250702T055952Z
UID:10005393-886118400-886118400@www.discoverhollywood.com
SUMMARY:Fast & Loose
DESCRIPTION:DesignHTMLWords: 0   Characters: 0
URL:https://www.discoverhollywood.com/event/fast-loose/
LOCATION:Sacred Fools Theatre\, Select
END:VEVENT
BEGIN:VEVENT
DTSTART;TZID=Asia/Kolkata:19980127T000000
DTEND;TZID=Asia/Kolkata:19980127T000000
DTSTAMP:20260422T121829
CREATED:20250702T060003Z
LAST-MODIFIED:20250702T060003Z
UID:10005396-885859200-885859200@www.discoverhollywood.com
SUMMARY:Fast and Loose
DESCRIPTION:A foolish tradition%21 Several new plays are created in just 24 hours. We%27ll have time for sleep later.DesignHTMLWords: 18   Characters: 97
URL:https://www.discoverhollywood.com/event/fast-and-loose/
LOCATION:Sacred Fools Theatre\, Select
END:VEVENT
BEGIN:VEVENT
DTSTART;TZID=Asia/Kolkata:19970609T000000
DTEND;TZID=Asia/Kolkata:19970609T000000
DTSTAMP:20260422T121829
CREATED:20250703T061951Z
LAST-MODIFIED:20250703T061951Z
UID:10005624-865814400-865814400@www.discoverhollywood.com
SUMMARY:Forbidden Zone: LIVE in the 6th Dimension
DESCRIPTION:DesignHTMLWords: 0   Characters: 0
URL:https://www.discoverhollywood.com/event/forbidden-zone-live-in-the-6th-dimension/
LOCATION:Sacred Fools Theatre\, Select
END:VEVENT
BEGIN:VEVENT
DTSTART;TZID=Asia/Kolkata:19970608T000000
DTEND;TZID=Asia/Kolkata:19970608T000000
DTSTAMP:20260422T121829
CREATED:20250703T061952Z
LAST-MODIFIED:20250703T061952Z
UID:10005625-865728000-865728000@www.discoverhollywood.com
SUMMARY:FORBIDDEN ZONE: LIVE IN THE 6th DIMENSION
DESCRIPTION:FORBIDDEN ZONE%3a LIVE IN THE 6TH DIMENSION%2c the smash hit fantasy\n%3cbr%3e\nburlesque adaptation of Richard Elfman%27s cult classic film featuring\n%3cbr%3e\nan incendiary score by Danny Elfman and the Mystic Knights of the\n%3cbr%3e\nOingo Boingo%21%26nbsp%3b Sexy%2c sharp%2c hilarious and terrifying%2c FZ6D rewrites\n%3cbr%3e\nthe playbook for 99-seat theater and delivers the most holla for your\n%3cbr%3e\ndollars%21%22 Following weeks of sold-out shows%2c we%27ve extended our cozy\n%3cbr%3e\nstay in the Sixth Dimension. Lucky%2c lucky%2c lucky%3b you getDesignHTMLWords: 73   Characters: 447
URL:https://www.discoverhollywood.com/event/forbidden-zone-live-in-the-6th-dimension-2/
LOCATION:Sacred Fools Theatre\, Select
END:VEVENT
BEGIN:VEVENT
DTSTART;TZID=Asia/Kolkata:19970509T000000
DTEND;TZID=Asia/Kolkata:19970509T000000
DTSTAMP:20260422T121829
CREATED:20250703T062052Z
LAST-MODIFIED:20250703T062052Z
UID:10005655-863136000-863136000@www.discoverhollywood.com
SUMMARY:Four Clowns
DESCRIPTION:DesignHTMLWords: 0   Characters: 0
URL:https://www.discoverhollywood.com/event/four-clowns/
LOCATION:Sacred Fools Theatre\, Select
END:VEVENT
BEGIN:VEVENT
DTSTART;TZID=Asia/Kolkata:19970224T000000
DTEND;TZID=Asia/Kolkata:19970224T000000
DTSTAMP:20260422T121829
CREATED:20250703T062400Z
LAST-MODIFIED:20250703T062400Z
UID:10005729-856742400-856742400@www.discoverhollywood.com
SUMMARY:Free $$$
DESCRIPTION:DesignHTMLWords: 0   Characters: 0
URL:https://www.discoverhollywood.com/event/free-2/
LOCATION:Sacred Fools Theatre\, Select
END:VEVENT
BEGIN:VEVENT
DTSTART;TZID=Asia/Kolkata:19960423T000000
DTEND;TZID=Asia/Kolkata:19960423T000000
DTSTAMP:20260422T121829
CREATED:20250703T065627Z
LAST-MODIFIED:20250703T065627Z
UID:10006036-830217600-830217600@www.discoverhollywood.com
SUMMARY:Gifted
DESCRIPTION:%3cdiv%3e\n	%3cspan%3eWORLD PREMIERE%21%3c/span%3e\n	%3cspan%3e%26nbsp%3bA young woman has a special power – she can tell the romantic fate of any couple she sees%2c but cannot tell the same for herself. Enter a world of love and longing%2c humor and heartbreak%2c with a touch of magical realism. There is no fear we can%27t face in this world%2c because we are all gifted.%3c/span%3e\n%3c/div%3e\n%3cdiv%3e\n	%3cbr%3e\n%3c/div%3e\n%3ca href%3d%22http%3a//www.sacredfools.org/mainstage/20/gifted/%22%3ehttp%3a//www.sacredfools.org/mainstage/20/gifted/%3c/a%3eDesignHTMLWords: 59   Characters: 345
URL:https://www.discoverhollywood.com/event/gifted/
LOCATION:Sacred Fools Theatre\, Select
END:VEVENT
BEGIN:VEVENT
DTSTART;TZID=Asia/Kolkata:19931026T000000
DTEND;TZID=Asia/Kolkata:19931026T000000
DTSTAMP:20260422T121829
CREATED:20250703T105738Z
LAST-MODIFIED:20250703T105738Z
UID:10006661-751593600-751593600@www.discoverhollywood.com
SUMMARY:I Made Out With Him Anyway
DESCRIPTION:DesignHTMLWords: 0   Characters: 0
URL:https://www.discoverhollywood.com/event/i-made-out-with-him-anyway/
LOCATION:Sacred Fools Theatre\, Select
END:VEVENT
BEGIN:VEVENT
DTSTART;TZID=Asia/Kolkata:19901015T000000
DTEND;TZID=Asia/Kolkata:19901015T000000
DTSTAMP:20260422T121829
CREATED:20250709T054635Z
LAST-MODIFIED:20250709T054635Z
UID:10007768-655948800-655948800@www.discoverhollywood.com
SUMMARY:Katie's Corner: Live!
DESCRIPTION:DesignHTMLWords: 0   Characters: 0
URL:https://www.discoverhollywood.com/event/katies-corner-live/
LOCATION:Sacred Fools Theatre\, Select
END:VEVENT
BEGIN:VEVENT
DTSTART;TZID=Asia/Kolkata:19900916T000000
DTEND;TZID=Asia/Kolkata:19900916T000000
DTSTAMP:20260422T121829
CREATED:20250709T091400Z
LAST-MODIFIED:20250709T091400Z
UID:10008457-653443200-653443200@www.discoverhollywood.com
SUMMARY:Like Blood From a Cheap Cigar
DESCRIPTION:Margo is a perky aspiring comedian in her 20s. Her ex-boyfriend George%2c is significantly older but nonetheless immature%2c and coming to her apartment. %3ci%3eLike Blood From A Cheap Cigar %3c/i%3etraces the history of the rocky on-again%2c off-again romantic relationship of these seeming opposites. In the past%2c they%27ve shared sex%2c laughs%2c good times and bad times. Can their love be salvaged%3fDesignHTMLWords: 60   Characters: 361
URL:https://www.discoverhollywood.com/event/like-blood-from-a-cheap-cigar/
LOCATION:Sacred Fools Theatre\, Select
END:VEVENT
BEGIN:VEVENT
DTSTART;TZID=Asia/Kolkata:19900617T000000
DTEND;TZID=Asia/Kolkata:19900617T000000
DTSTAMP:20260422T121829
CREATED:20250709T093229Z
LAST-MODIFIED:20250709T093229Z
UID:10008548-645580800-645580800@www.discoverhollywood.com
SUMMARY:Live! From the Last Night of My Life
DESCRIPTION:DesignHTMLWords: 0   Characters: 0
URL:https://www.discoverhollywood.com/event/live-from-the-last-night-of-my-life/
LOCATION:Sacred Fools Theatre\, Select
END:VEVENT
BEGIN:VEVENT
DTSTART;TZID=Asia/Kolkata:19900507T000000
DTEND;TZID=Asia/Kolkata:19900507T000000
DTSTAMP:20260422T121829
CREATED:20250709T061019Z
LAST-MODIFIED:20250709T061019Z
UID:10007929-642038400-642038400@www.discoverhollywood.com
SUMMARY:King of Kong
DESCRIPTION:DesignHTMLWords: 0   Characters: 0
URL:https://www.discoverhollywood.com/event/king-of-kong/
LOCATION:Sacred Fools Theatre\, Select
END:VEVENT
BEGIN:VEVENT
DTSTART;TZID=Asia/Kolkata:19870904T000000
DTEND;TZID=Asia/Kolkata:19870904T000000
DTSTAMP:20260422T121829
CREATED:20250710T101257Z
LAST-MODIFIED:20250710T101257Z
UID:10009305-557712000-557712000@www.discoverhollywood.com
SUMMARY:Miravel
DESCRIPTION:%3cb%3eWORLD PREMIERE%21%3c/b%3e%26nbsp%3b A new jazz musical about the love and music of composer Alphonso Bloch%3a A deeply twisted love triangle… with a piano.DesignHTMLWords: 23   Characters: 130
URL:https://www.discoverhollywood.com/event/miravel/
LOCATION:Sacred Fools Theatre\, Select
END:VEVENT
BEGIN:VEVENT
DTSTART;TZID=Asia/Kolkata:19870618T000000
DTEND;TZID=Asia/Kolkata:19870618T000000
DTSTAMP:20260422T121829
CREATED:20250710T101432Z
LAST-MODIFIED:20250710T101432Z
UID:10009383-550972800-550972800@www.discoverhollywood.com
SUMMARY:Mom's Dead
DESCRIPTION:Adults siblings cope with a loss in the premiere of Nathan Wellman%27s dark comedy.DesignHTMLWords: 14   Characters: 79
URL:https://www.discoverhollywood.com/event/moms-dead/
LOCATION:Sacred Fools Theatre\, Select
END:VEVENT
BEGIN:VEVENT
DTSTART;TZID=Asia/Kolkata:19870207T000000
DTEND;TZID=Asia/Kolkata:19870207T000000
DTSTAMP:20260422T121829
CREATED:20250710T101753Z
LAST-MODIFIED:20250710T101753Z
UID:10009514-539654400-539654400@www.discoverhollywood.com
SUMMARY:Mr. Burns\, a post-electric play
DESCRIPTION:Los Angeles premiere about the collapse of civilization and a group of survivors keeping the spark of the human spirit alive by telling stories around a campfire. As the years wear on%2c these stories expand into the realm of legend and myth.DesignHTMLWords: 42   Characters: 237
URL:https://www.discoverhollywood.com/event/mr-burns-a-post-electric-play/
LOCATION:Sacred Fools Theatre\, Select
END:VEVENT
BEGIN:VEVENT
DTSTART;TZID=Asia/Kolkata:19860716T000000
DTEND;TZID=Asia/Kolkata:19860716T000000
DTSTAMP:20260422T121829
CREATED:20250710T120003Z
LAST-MODIFIED:20250710T120003Z
UID:10009720-521856000-521856000@www.discoverhollywood.com
SUMMARY:Neighborhood 3: Requisition of Doom
DESCRIPTION:DesignHTMLWords: 0   Characters: 0
URL:https://www.discoverhollywood.com/event/neighborhood-3-requisition-of-doom/
LOCATION:Sacred Fools Theatre\, Select
END:VEVENT
BEGIN:VEVENT
DTSTART;TZID=Asia/Kolkata:19860507T000000
DTEND;TZID=Asia/Kolkata:19860507T000000
DTSTAMP:20260422T121829
CREATED:20250710T120305Z
LAST-MODIFIED:20250710T120305Z
UID:10009790-515808000-515808000@www.discoverhollywood.com
SUMMARY:Neverwhere
DESCRIPTION:DesignHTMLWords: 0   Characters: 0
URL:https://www.discoverhollywood.com/event/neverwhere/
LOCATION:Sacred Fools Theatre\, Select
END:VEVENT
BEGIN:VEVENT
DTSTART;TZID=Asia/Kolkata:19850924T000000
DTEND;TZID=Asia/Kolkata:19850924T000000
DTSTAMP:20260422T121829
CREATED:20250710T121818Z
LAST-MODIFIED:20250716T063604Z
UID:10010015-496368000-496368000@www.discoverhollywood.com
SUMMARY:Occupation
DESCRIPTION:%3cb%3e%3ca target%3d%22_blank%22 href%3d%22http%3a//www.sacredfools.org/mainstage/15/occupation/%22%3eWEST COAST PREMIERE%21%3c/a%3e%3c/b%3e\n%3ci%3eChina is not kidding.%26nbsp%3b It%27s time to go.%3c/i%3e%26nbsp%3b It%27s 2017. Crushing national debt and debilitating unemployment have compelled the United States to sell Florida to China for five trillion dollars. The South Florida Christian Militia is leading an insurgency in the Everglades to oust the Chinese. How far will they go to keep the States united%3f Darkly comedic%2c high-octane political…DesignHTMLWords: 63   Characters: 385
URL:https://www.discoverhollywood.com/event/occupation/
LOCATION:Sacred Fools Theatre\, Select
END:VEVENT
BEGIN:VEVENT
DTSTART;TZID=Asia/Kolkata:19850919T000000
DTEND;TZID=Asia/Kolkata:19850919T000000
DTSTAMP:20260422T121829
CREATED:20250710T121829Z
LAST-MODIFIED:20250716T063614Z
UID:10010020-495936000-495936000@www.discoverhollywood.com
SUMMARY:October Baby
DESCRIPTION:%3cp%3e%3cspan style%3d%22background%3awhite%3b margin%3a0px%3b color%3ablack%3b font-family%3aTimes New Roman%2cserif%3b font-size%3a12pt%3b%22%3eWhat happens when a detail-obsessed woman tries to time the birth of her child to occur during her favorite month of the year%3f Nine months of chaos…in utero and out%21%26nbsp%3bA hilarious and poignant look at motherhood and the need to control from stage and screen veteran Brooke Baumer.%3c/span%3e%3c/p%3eDesignHTMLWords: 49   Characters: 274
URL:https://www.discoverhollywood.com/event/october-baby/
LOCATION:Sacred Fools Theatre\, Select
END:VEVENT
BEGIN:VEVENT
DTSTART;TZID=Asia/Kolkata:19850513T000000
DTEND;TZID=Asia/Kolkata:19850513T000000
DTSTAMP:20260422T121829
CREATED:20250710T122702Z
LAST-MODIFIED:20250710T122702Z
UID:10010149-484790400-484790400@www.discoverhollywood.com
SUMMARY:One-Ups! - A Night of Storytelling
DESCRIPTION:DesignHTMLWords: 0   Characters: 0
URL:https://www.discoverhollywood.com/event/one-ups-a-night-of-storytelling/
LOCATION:Sacred Fools Theatre\, Select
END:VEVENT
BEGIN:VEVENT
DTSTART;TZID=Asia/Kolkata:19850512T000000
DTEND;TZID=Asia/Kolkata:19850512T000000
DTSTAMP:20260422T121829
CREATED:20250710T122702Z
LAST-MODIFIED:20250710T122702Z
UID:10010150-484704000-484704000@www.discoverhollywood.com
SUMMARY:One-Ups! - A Night of Storytelling
DESCRIPTION:DesignHTMLWords: 0   Characters: 0
URL:https://www.discoverhollywood.com/event/one-ups-a-night-of-storytelling-2/
LOCATION:Sacred Fools Theatre\, Select
END:VEVENT
BEGIN:VEVENT
DTSTART;TZID=Asia/Kolkata:19830510T000000
DTEND;TZID=Asia/Kolkata:19830510T000000
DTSTAMP:20260422T121829
CREATED:20250714T093014Z
LAST-MODIFIED:20250714T093014Z
UID:10010453-421372800-421372800@www.discoverhollywood.com
SUMMARY:Please Don't Ask About Becket
DESCRIPTION:%3c%21–%5bif gte mso 9%5d%3e\n	%3cxml%3e%3c/xml%3e\n%3c%21%5bendif%5d–%3e\n%3cp%3e%3cspan%3e%3c/span%3e%26nbsp%3b\n	%3cspan%3eIt’s been years since he disappeared%2c but Emily Diamond is still haunted by dreams of her twin brother%2c Becket. The issue of nature versus nurture is at the heart of this enthralling new family drama by Wendy Graf%2c an evocative memory play sure to resonate with anyone who has a family.%3c/span%3e\n	%3cspan%3e%3c/span%3e\n%3c/p%3e\n%3c%21–%5bif gte mso 9%5d%3e\n	%3cxml%3e\n		%3cw%3aWordDocume%3c/body%3e–%3eDesignHTMLWords: 51   Characters: 281
URL:https://www.discoverhollywood.com/event/please-dont-ask-about-becket/
LOCATION:Sacred Fools Theatre\, Select
END:VEVENT
BEGIN:VEVENT
DTSTART;TZID=Asia/Kolkata:19821111T000000
DTEND;TZID=Asia/Kolkata:19821111T000000
DTSTAMP:20260422T121829
CREATED:20250714T093529Z
LAST-MODIFIED:20250714T093529Z
UID:10010633-405820800-405820800@www.discoverhollywood.com
SUMMARY:Pure Confidence
DESCRIPTION:The high-stakes world of Civil War–era horse racing sets the stage for this captivating drama during a time of slavery and Reconstruction. Colonel Wiley Johnson owns both Simon Cato%2c a smart%2c cocky ‘colored’ jockey%2c and his horse%2c Pure Confidence. Cato uses his wits and his championship winnings to buy his and his wife%27s freedom%2c but the Civil War changed everything.DesignHTMLWords: 60   Characters: 359
URL:https://www.discoverhollywood.com/event/pure-confidence/
LOCATION:Sacred Fools Theatre\, Select
END:VEVENT
BEGIN:VEVENT
DTSTART;TZID=Asia/Kolkata:19821029T000000
DTEND;TZID=Asia/Kolkata:19821029T000000
DTSTAMP:20260422T121829
CREATED:20250714T093541Z
LAST-MODIFIED:20250714T093541Z
UID:10010646-404697600-404697600@www.discoverhollywood.com
SUMMARY:Puzzler
DESCRIPTION:%3cbr%3eDesignHTMLWords: 0   Characters: 0
URL:https://www.discoverhollywood.com/event/puzzler/
LOCATION:Sacred Fools Theatre\, Select
END:VEVENT
BEGIN:VEVENT
DTSTART;TZID=Asia/Kolkata:19820221T000000
DTEND;TZID=Asia/Kolkata:19820221T000000
DTSTAMP:20260422T121829
CREATED:20250714T094619Z
LAST-MODIFIED:20250714T094619Z
UID:10010896-383097600-383097600@www.discoverhollywood.com
SUMMARY:Resa Fantastikt Mystisk
DESCRIPTION:The Burglars of Hamm cult-hit%2c which tells the story of Philip%2c a struggling painter who goes on a fantastical journey to reclaim his right to be an artist.%3cdiv%3e\n	%3ca href%3d%22http%3a//www.sacredfools.org/mainstage/18/resa/%22 target%3d%22_blank%22%3ewww.sacredfools.org/mainstage/18/resa/%3c/a%3e\n%3c/div%3eDesignHTMLWords: 29   Characters: 189
URL:https://www.discoverhollywood.com/event/resa-fantastikt-mystisk/
LOCATION:Sacred Fools Theatre\, Select
END:VEVENT
BEGIN:VEVENT
DTSTART;TZID=Asia/Kolkata:19800319T000000
DTEND;TZID=Asia/Kolkata:19800319T000000
DTSTAMP:20260422T121829
CREATED:20250714T113038Z
LAST-MODIFIED:20250714T113038Z
UID:10011400-322272000-322272000@www.discoverhollywood.com
SUMMARY:Rose and the Rime
DESCRIPTION:West coast premiere%21 The tale of Radio Falls and its inhabitants is spun right before our eyes through a mixture of inventive ensemble physicality%2c music%2c and puppetry%2c all supported by projected animation.\n%3cbr%3eDesignHTMLWords: 32   Characters: 201
URL:https://www.discoverhollywood.com/event/rose-and-the-rime/
LOCATION:Sacred Fools Theatre\, Select
END:VEVENT
BEGIN:VEVENT
DTSTART;TZID=Asia/Kolkata:19790815T000000
DTEND;TZID=Asia/Kolkata:19790815T000000
DTSTAMP:20260422T121829
CREATED:20250714T115809Z
LAST-MODIFIED:20250714T115809Z
UID:10011795-303523200-303523200@www.discoverhollywood.com
SUMMARY:Serial Killers: The Playoffs
DESCRIPTION:DesignHTMLWords: 0   Characters: 0
URL:https://www.discoverhollywood.com/event/serial-killers-the-playoffs/
LOCATION:Sacred Fools Theatre\, Select
END:VEVENT
BEGIN:VEVENT
DTSTART;TZID=Asia/Kolkata:19790814T000000
DTEND;TZID=Asia/Kolkata:19790814T000000
DTSTAMP:20260422T121829
CREATED:20250714T115809Z
LAST-MODIFIED:20250714T115809Z
UID:10011796-303436800-303436800@www.discoverhollywood.com
SUMMARY:Serial Killers: The Playoffs
DESCRIPTION:DesignHTMLWords: 0   Characters: 0
URL:https://www.discoverhollywood.com/event/serial-killers-the-playoffs-2/
LOCATION:Sacred Fools Theatre\, Select
END:VEVENT
BEGIN:VEVENT
DTSTART;TZID=Asia/Kolkata:19790629T000000
DTEND;TZID=Asia/Kolkata:19790629T000000
DTSTAMP:20260422T121829
CREATED:20250714T115915Z
LAST-MODIFIED:20250714T115915Z
UID:10011842-299462400-299462400@www.discoverhollywood.com
SUMMARY:SFNW: Sacred Fools New Works Reading Series
DESCRIPTION:%3ca href%3d%22http%3a//www.sacredfools.org/misc/newworks/%22%3ehttp%3a//www.sacredfools.org/misc/newworks/%3c/a%3eDesignHTMLWords: 1   Characters: 38
URL:https://www.discoverhollywood.com/event/sfnw-sacred-fools-new-works-reading-series/
LOCATION:Sacred Fools Theatre\, Select
END:VEVENT
BEGIN:VEVENT
DTSTART;TZID=Asia/Kolkata:19781214T000000
DTEND;TZID=Asia/Kolkata:19781214T000000
DTSTAMP:20260422T121829
CREATED:20250714T122234Z
LAST-MODIFIED:20250714T122234Z
UID:10012039-282441600-282441600@www.discoverhollywood.com
SUMMARY:SING!
DESCRIPTION:DesignHTMLWords: 0   Characters: 0
URL:https://www.discoverhollywood.com/event/sing/
LOCATION:Sacred Fools Theatre\, Select
END:VEVENT
END:VCALENDAR