BEGIN:VCALENDAR
VERSION:2.0
PRODID:-//Discover Hollywood Magazine - ECPv6.15.17//NONSGML v1.0//EN
CALSCALE:GREGORIAN
METHOD:PUBLISH
X-WR-CALNAME:Discover Hollywood Magazine
X-ORIGINAL-URL:https://www.discoverhollywood.com
X-WR-CALDESC:Events for Discover Hollywood Magazine
REFRESH-INTERVAL;VALUE=DURATION:PT1H
X-Robots-Tag:noindex
X-PUBLISHED-TTL:PT1H
BEGIN:VTIMEZONE
TZID:Asia/Kolkata
BEGIN:STANDARD
TZOFFSETFROM:+0530
TZOFFSETTO:+0530
TZNAME:IST
DTSTART:19690101T000000
END:STANDARD
END:VTIMEZONE
BEGIN:VEVENT
DTSTART;TZID=Asia/Kolkata:20210108T000000
DTEND;TZID=Asia/Kolkata:20210108T000000
DTSTAMP:20260422T135516
CREATED:20250630T095141Z
LAST-MODIFIED:20250630T095141Z
UID:10001387-1610064000-1610064000@www.discoverhollywood.com
SUMMARY:A Night at the Sands
DESCRIPTION:%3cp%3eSwing on into the Sands%2c gas up and dig the smooth sounds of the Rat Pack in this modern infused cabaret that blends songs of past and present. Become a part of the action as the Casino is hit and the boys have to prove they had nothing to do with it. Descend into the sex%2c power and styling of old-school Vegas in this original%2c fictional tribute to legends of entertainment that is an immersive%2c interactive experience.%3c/p%3eDesignHTMLWords: 77   Characters: 413
URL:https://www.discoverhollywood.com/event/a-night-at-the-sands-2/
LOCATION:Sayers Club\, 1645 Wilcox\, Hollywood\, California\, 90028.0
END:VEVENT
BEGIN:VEVENT
DTSTART;TZID=Asia/Kolkata:20170716T000000
DTEND;TZID=Asia/Kolkata:20170716T000000
DTSTAMP:20260422T135516
CREATED:20250630T104255Z
LAST-MODIFIED:20250630T104255Z
UID:10001806-1500163200-1500163200@www.discoverhollywood.com
SUMMARY:Amber Riley
DESCRIPTION:%3cspan class%3d%22m_8892767156481117020s2%22%3e%3cspan class%3d%22m_8892767156481117020bumpedFont15%22%3eAward winning Actress and Grammy nominated Singer%26nbsp%3b%3c/span%3e%3c/span%3e\n%3cspan class%3d%22m_8892767156481117020s3%22%3e%3cspan class%3d%22m_8892767156481117020bumpedFont15%22%3e%3ca target%3d%22_blank%22 rel%3d%22nofollow noopener noreferrer%22 style%3d%22color%3avar%28–eds-control%2c%233659e3%29%3b cursor%3apointer%3b background-color%3atransparent%3b padding-top%3a0px%3b%22%3e%3cspan class%3d%22il%22%3eAmber%3c/span%3e%26nbsp%3bRiley%3c/a%3e%3c/span%3e%3c/span%3e\n%3cspan class%3d%22m_8892767156481117020s2%22%3e%3cspan class%3dDesignHTMLWords: 9   Characters: 62
URL:https://www.discoverhollywood.com/event/amber-riley-3/
LOCATION:Sayers Club\, 1645 Wilcox\, Hollywood\, California\, 90028.0
END:VEVENT
BEGIN:VEVENT
DTSTART;TZID=Asia/Kolkata:20140122T000000
DTEND;TZID=Asia/Kolkata:20140122T000000
DTSTAMP:20260422T135516
CREATED:20250630T120022Z
LAST-MODIFIED:20250630T120022Z
UID:10002338-1390348800-1390348800@www.discoverhollywood.com
SUMMARY:Austin Brown and The Blvck Castles
DESCRIPTION:Austin Brown and his band The Blvck Castles are performing their residency in the heart of Hollywood.\n%3cbr%3eDesignHTMLWords: 17   Characters: 100
URL:https://www.discoverhollywood.com/event/austin-brown-and-the-blvck-castles/
LOCATION:Sayers Club\, 1645 Wilcox\, Hollywood\, California\, 90028.0
END:VEVENT
BEGIN:VEVENT
DTSTART;TZID=Asia/Kolkata:19990916T000000
DTEND;TZID=Asia/Kolkata:19990916T000000
DTSTAMP:20260422T135516
CREATED:20250701T125929Z
LAST-MODIFIED:20250701T125929Z
UID:10004850-937440000-937440000@www.discoverhollywood.com
SUMMARY:Drew Chadwick
DESCRIPTION:%3ca href%3d%22https%3a//www.eventbrite.com/e/sayers-presents-drew-chadwick-tickets-58829124495%22%3ehttps%3a//www.eventbrite.com/e/sayers-presents-drew-chadwick-tickets-58829124495%3c/a%3eDesignHTMLWords: 1   Characters: 70
URL:https://www.discoverhollywood.com/event/drew-chadwick/
LOCATION:Sayers Club\, 1645 Wilcox\, Hollywood\, California\, 90028.0
END:VEVENT
BEGIN:VEVENT
DTSTART;TZID=Asia/Kolkata:19901030T000000
DTEND;TZID=Asia/Kolkata:19901030T000000
DTSTAMP:20260422T135516
CREATED:20250703T122541Z
LAST-MODIFIED:20250703T122541Z
UID:10007753-657244800-657244800@www.discoverhollywood.com
SUMMARY:Kate Stewart
DESCRIPTION:%3cspan%3eKate Stewart is a 24 year old singer/songwriter from West London. Formerly releasing music as KStewart%2c under record label Warner%2c the pop maverick is enjoying a stellar 2019%2c writing tracks for Tinashe and recording backing vocals for Christina Aguilera.%3c/span%3e\n%3cdiv%3e\n	%3cspan%3e%3cbr%3e%3c/span%3e\n%3c/div%3e\n%3cdiv%3e\n	%3ca href%3d%22https%3a//www.eventbrite.com/e/sayers-presents-kate-stewart-tickets-58453318449%22%3ehttps%3a//www.eventbrite.com/e/sayers-presents-kate-stewart-tickets-58453318449%3c/a%3e\n%3c/div%3eDesignHTMLWords: 40   Characters: 322
URL:https://www.discoverhollywood.com/event/kate-stewart/
LOCATION:Sayers Club\, 1645 Wilcox\, Hollywood\, California\, 90028.0
END:VEVENT
BEGIN:VEVENT
DTSTART;TZID=Asia/Kolkata:19821228T000000
DTEND;TZID=Asia/Kolkata:19821228T000000
DTSTAMP:20260422T135516
CREATED:20250714T093305Z
LAST-MODIFIED:20250714T093305Z
UID:10010586-409881600-409881600@www.discoverhollywood.com
SUMMARY:Project Mayhem the Knockout Underground Rock Musical
DESCRIPTION:First rule of Project Mayhem… sign in%2c sit down%2c and gear up for a theatrical experience that will drop guests into a side-splitting%2c mind-racing%2c adrenaline filled%2c powerhouse rock musical like never seen before. This immersive-interactive%2c high-octane theatrical experience will put audience members directly into the show where classic rock songs are brought to life with a band that consists of some of the best rock musicians around%21\n%3cbr%3eDesignHTMLWords: 67   Characters: 426
URL:https://www.discoverhollywood.com/event/project-mayhem-the-knockout-underground-rock-musical/
LOCATION:Sayers Club\, 1645 Wilcox\, Hollywood\, California\, 90028.0
END:VEVENT
BEGIN:VEVENT
DTSTART;TZID=Asia/Kolkata:19790825T000000
DTEND;TZID=Asia/Kolkata:19790825T000000
DTSTAMP:20260422T135516
CREATED:20250714T115754Z
LAST-MODIFIED:20250714T115754Z
UID:10011785-304387200-304387200@www.discoverhollywood.com
SUMMARY:Serayah
DESCRIPTION:%3cspan class%3d%22il%22%3eSerayah%3c/span%3e\n%3cspan%3e%2c best known for her break out role as ‘Tiana Brown’ on FOX%2c hit series%26nbsp%3b%3c/span%3e\n%3cspan%3e“Empire%2c”%3c/span%3e\n%3cspan%3e%26nbsp%3bis not only a talented%2c beautiful and intelligent actress%2c but also an incredible music artist.%26nbsp%3b%3c/span%3e\n%3cdiv%3e\n	%3cspan%3e%3cbr%3e%3c/span%3e\n%3c/div%3e\n%3cdiv%3e\n	%3ca href%3d%22https%3a//www.eventbrite.com/e/sayers-presents-serayah-tickets-57570240138%22%3ehttps%3a//www.eventbrite.com/e/sayers-presents-serayah-tickets-57570240138%3c/a%3e\n%3c/div%3eDesignHTMLWords: 32   Characters: 250
URL:https://www.discoverhollywood.com/event/serayah/
LOCATION:Sayers Club\, 1645 Wilcox\, Hollywood\, California\, 90028.0
END:VEVENT
BEGIN:VEVENT
DTSTART;TZID=Asia/Kolkata:19780323T000000
DTEND;TZID=Asia/Kolkata:19780323T000000
DTSTAMP:20260422T135516
CREATED:20250715T081752Z
LAST-MODIFIED:20250715T081752Z
UID:10012306-259459200-259459200@www.discoverhollywood.com
SUMMARY:Soul Vibrations
DESCRIPTION:%3cspan%3e“Soul Vibrations” celebrates the artists and songs of the legendary 1970’s Soul Music era to today%27s freshest Rhythm and Blues.%26nbsp%3b%3c/span%3e\n%3cdiv%3e\n	%3cspan%3e%3cbr%3e%3c/span%3e\n%3c/div%3e\n%3cdiv%3e\n	%3ca href%3d%22https%3a//www.eventbrite.com/e/soul-vibrations-at-the-sayers-club-tickets-50496363984%22%3ehttps%3a//www.eventbrite.com/e/soul-vibrations-at-the-sayers-club-tickets-50496363984%3c/a%3e\n%3c/div%3eDesignHTMLWords: 21   Characters: 202
URL:https://www.discoverhollywood.com/event/soul-vibrations/
LOCATION:Sayers Club\, 1645 Wilcox\, Hollywood\, California\, 90028.0
END:VEVENT
BEGIN:VEVENT
DTSTART;TZID=Asia/Kolkata:19710126T000000
DTEND;TZID=Asia/Kolkata:19710126T000000
DTSTAMP:20260422T135516
CREATED:20250716T070838Z
LAST-MODIFIED:20250716T070838Z
UID:10014714-33696000-33696000@www.discoverhollywood.com
SUMMARY:TRINIX
DESCRIPTION:%3cspan%3eTRINIX is a%3c/span%3e\n%3cspan%3e%26nbsp%3bFrench%3c/span%3e\n%3cspan%3e%26nbsp%3bmusician/producer duo formed%26nbsp%3b%3c/span%3e\n%3cspan%3eby Josh CHERGUI %26amp%3b Loïs SERRE in 2012.%3c/span%3e\n%3cdiv%3e\n	%3cspan%3e%3cbr%3e%3c/span%3e\n%3c/div%3e\n%3cdiv%3e\n	%3ca href%3d%22https%3a//www.eventbrite.com/e/sayers-presents-trinix-tickets-58617342048%22%3ehttps%3a//www.eventbrite.com/e/sayers-presents-trinix-tickets-58617342048%3c/a%3e\n%3c/div%3eDesignHTMLWords: 15   Characters: 153
URL:https://www.discoverhollywood.com/event/trinix/
LOCATION:Sayers Club\, 1645 Wilcox\, Hollywood\, California\, 90028.0
END:VEVENT
BEGIN:VEVENT
DTSTART;TZID=Asia/Kolkata:20260422T135516
DTEND;TZID=Asia/Kolkata:20260422T135516
DTSTAMP:20260422T135516
CREATED:20250716T081636Z
LAST-MODIFIED:20250716T081636Z
UID:10014982-0-0@www.discoverhollywood.com
SUMMARY:Veers
DESCRIPTION:%3cspan%3eVeers pride themselves on English rock music%2c and draw from influences such as Verve%2c M83%2c Demob Happy%2c Interpol and Black Sabbath%2c amongst others.%3c/span%3e\n%3cdiv%3e\n	%3cspan%3e%3cbr%3e%3c/span%3e\n%3c/div%3e\n%3cdiv%3e\n	%3cspan%3e%3ca href%3d%22https%3a//www.eventbrite.com/e/sayers-presents-veers-tickets-57563865070%22 style%3d%22%22%3ehttps%3a//www.eventbrite.com/e/sayers-presents-veers-tickets-57563865070%3c/a%3e%3c/span%3e\n%3c/div%3eDesignHTMLWords: 24   Characters: 207
URL:https://www.discoverhollywood.com/event/veers/
LOCATION:Sayers Club\, 1645 Wilcox\, Hollywood\, California\, 90028.0
END:VEVENT
END:VCALENDAR