BEGIN:VCALENDAR
VERSION:2.0
PRODID:-//Discover Hollywood Magazine - ECPv6.15.17//NONSGML v1.0//EN
CALSCALE:GREGORIAN
METHOD:PUBLISH
X-WR-CALNAME:Discover Hollywood Magazine
X-ORIGINAL-URL:https://www.discoverhollywood.com
X-WR-CALDESC:Events for Discover Hollywood Magazine
REFRESH-INTERVAL;VALUE=DURATION:PT1H
X-Robots-Tag:noindex
X-PUBLISHED-TTL:PT1H
BEGIN:VTIMEZONE
TZID:Asia/Kolkata
BEGIN:STANDARD
TZOFFSETFROM:+0530
TZOFFSETTO:+0530
TZNAME:IST
DTSTART:19990101T000000
END:STANDARD
END:VTIMEZONE
BEGIN:VEVENT
DTSTART;TZID=Asia/Kolkata:20230320T000000
DTEND;TZID=Asia/Kolkata:20230320T000000
DTSTAMP:20260421T123045
CREATED:20250630T090055Z
LAST-MODIFIED:20250630T090055Z
UID:10001120-1679270400-1679270400@www.discoverhollywood.com
SUMMARY:2 Beer Queer
DESCRIPTION:DesignHTMLWords: 0   Characters: 0
URL:https://www.discoverhollywood.com/event/2-beer-queer-2/
LOCATION:Second City Studio\, 6560 Hollywood Blvd.\, Los Angeles\, California
END:VEVENT
BEGIN:VEVENT
DTSTART;TZID=Asia/Kolkata:20230314T000000
DTEND;TZID=Asia/Kolkata:20230314T000000
DTSTAMP:20260421T123045
CREATED:20250630T090055Z
LAST-MODIFIED:20250630T090055Z
UID:10001122-1678752000-1678752000@www.discoverhollywood.com
SUMMARY:2 in 1 & Collections
DESCRIPTION:DesignHTMLWords: 0   Characters: 0
URL:https://www.discoverhollywood.com/event/2-in-1-collections-2/
LOCATION:Second City Studio\, 6560 Hollywood Blvd.\, Los Angeles\, California
END:VEVENT
BEGIN:VEVENT
DTSTART;TZID=Asia/Kolkata:20211207T000000
DTEND;TZID=Asia/Kolkata:20211207T000000
DTSTAMP:20260421T123045
CREATED:20250630T092421Z
LAST-MODIFIED:20250630T092421Z
UID:10001276-1638835200-1638835200@www.discoverhollywood.com
SUMMARY:7 Day Shorts
DESCRIPTION:DesignHTMLWords: 0   Characters: 0
URL:https://www.discoverhollywood.com/event/7-day-shorts-2/
LOCATION:Second City Studio\, 6560 Hollywood Blvd.\, Los Angeles\, California
END:VEVENT
BEGIN:VEVENT
DTSTART;TZID=Asia/Kolkata:20211204T000000
DTEND;TZID=Asia/Kolkata:20211204T000000
DTSTAMP:20260421T123045
CREATED:20250630T092421Z
LAST-MODIFIED:20250630T092421Z
UID:10001277-1638576000-1638576000@www.discoverhollywood.com
SUMMARY:7 Day Shorts & Ditka
DESCRIPTION:DesignHTMLWords: 0   Characters: 0
URL:https://www.discoverhollywood.com/event/7-day-shorts-ditka-2/
LOCATION:Second City Studio\, 6560 Hollywood Blvd.\, Los Angeles\, California
END:VEVENT
BEGIN:VEVENT
DTSTART;TZID=Asia/Kolkata:20210408T000000
DTEND;TZID=Asia/Kolkata:20210408T000000
DTSTAMP:20260421T123045
CREATED:20250630T095011Z
LAST-MODIFIED:20250630T095011Z
UID:10001357-1617840000-1617840000@www.discoverhollywood.com
SUMMARY:A Group of Write People Presents Diversity
DESCRIPTION:DesignHTMLWords: 0   Characters: 0
URL:https://www.discoverhollywood.com/event/a-group-of-write-people-presents-diversity-2/
LOCATION:Second City Studio\, 6560 Hollywood Blvd.\, Los Angeles\, California
END:VEVENT
BEGIN:VEVENT
DTSTART;TZID=Asia/Kolkata:20190606T000000
DTEND;TZID=Asia/Kolkata:20190606T000000
DTSTAMP:20260421T123045
CREATED:20250630T102933Z
LAST-MODIFIED:20250630T102933Z
UID:10001576-1559779200-1559779200@www.discoverhollywood.com
SUMMARY:Afros & Ass Whoopins
DESCRIPTION:Everyone is tired of talking about race and the police%2c we are too%2c so we decided to sing about it instead%21 This original musical comedy is the story of a son who is at odds with his father%27s old-world views. Cop sticks%2c and afro picks%2c come get your ass whooped%21DesignHTMLWords: 50   Characters: 254
URL:https://www.discoverhollywood.com/event/afros-ass-whoopins-2/
LOCATION:Second City Studio\, 6560 Hollywood Blvd.\, Los Angeles\, California
END:VEVENT
BEGIN:VEVENT
DTSTART;TZID=Asia/Kolkata:20180121T000000
DTEND;TZID=Asia/Kolkata:20180121T000000
DTSTAMP:20260421T123045
CREATED:20250630T103940Z
LAST-MODIFIED:20250630T103940Z
UID:10001743-1516492800-1516492800@www.discoverhollywood.com
SUMMARY:All Skate and Friends
DESCRIPTION:DesignHTMLWords: 0   Characters: 0
URL:https://www.discoverhollywood.com/event/all-skate-and-friends-2/
LOCATION:Second City Studio\, 6560 Hollywood Blvd.\, Los Angeles\, California
END:VEVENT
BEGIN:VEVENT
DTSTART;TZID=Asia/Kolkata:20180112T000000
DTEND;TZID=Asia/Kolkata:20180112T000000
DTSTAMP:20260421T123045
CREATED:20250630T103955Z
LAST-MODIFIED:20250630T103955Z
UID:10001746-1515715200-1515715200@www.discoverhollywood.com
SUMMARY:All Star Improv Show
DESCRIPTION:DesignHTMLWords: 0   Characters: 0
URL:https://www.discoverhollywood.com/event/all-star-improv-show-2/
LOCATION:Second City Studio\, 6560 Hollywood Blvd.\, Los Angeles\, California
END:VEVENT
BEGIN:VEVENT
DTSTART;TZID=Asia/Kolkata:20141003T000000
DTEND;TZID=Asia/Kolkata:20141003T000000
DTSTAMP:20260421T123045
CREATED:20250630T114320Z
LAST-MODIFIED:20250630T114320Z
UID:10002211-1412294400-1412294400@www.discoverhollywood.com
SUMMARY:Armagayddon
DESCRIPTION:%3cp%3eGay marriage is here – get scared%2c straights%21 Gay marriage just passed in the U.S. and when a straight couple runs to escape the gays%27 %22evil agenda%22 they find out who the real sinners are%21 This original musical premieres on The Second City Hollywood stage and is performed by%3a Gina Brown%2c Josh Callahan%2c Marion Dunham%2c Martin Garcia%2c Michael Henry%2c Jamison Scala%2c Todd Risenmay and Carrie Weisberg. Written %26amp%3b Directed by Nancy Hayden. Assistant Director%2c Paul Bianchi. Music and Lyrics by Dan Wessels.%3c/p%3eDesignHTMLWords: 80   Characters: 479
URL:https://www.discoverhollywood.com/event/armagayddon/
LOCATION:Second City Studio\, 6560 Hollywood Blvd.\, Los Angeles\, California
END:VEVENT
BEGIN:VEVENT
DTSTART;TZID=Asia/Kolkata:20130730T000000
DTEND;TZID=Asia/Kolkata:20130730T000000
DTSTAMP:20260421T123045
CREATED:20250630T120414Z
LAST-MODIFIED:20250630T120414Z
UID:10002426-1375142400-1375142400@www.discoverhollywood.com
SUMMARY:Bad Sandy
DESCRIPTION:%3ca href%3d%22https%3a//www.secondcity.com/sc-long-form-party%22%3ehttps%3a//www.secondcity.com/sc-long-form-party%3c/a%3eDesignHTMLWords: 1   Characters: 39
URL:https://www.discoverhollywood.com/event/bad-sandy/
LOCATION:Second City Studio\, 6560 Hollywood Blvd.\, Los Angeles\, California
END:VEVENT
BEGIN:VEVENT
DTSTART;TZID=Asia/Kolkata:20121015T000000
DTEND;TZID=Asia/Kolkata:20121015T000000
DTSTAMP:20260421T123045
CREATED:20250630T120620Z
LAST-MODIFIED:20250630T120620Z
UID:10002570-1350259200-1350259200@www.discoverhollywood.com
SUMMARY:Beach Body
DESCRIPTION:%3ca href%3d%22https%3a//www.secondcity.com/sc-long-form-party%22%3ehttps%3a//www.secondcity.com/sc-long-form-party%3c/a%3eDesignHTMLWords: 1   Characters: 39
URL:https://www.discoverhollywood.com/event/beach-body/
LOCATION:Second City Studio\, 6560 Hollywood Blvd.\, Los Angeles\, California
END:VEVENT
BEGIN:VEVENT
DTSTART;TZID=Asia/Kolkata:20110122T000000
DTEND;TZID=Asia/Kolkata:20110122T000000
DTSTAMP:20260421T123045
CREATED:20250630T123312Z
LAST-MODIFIED:20250630T123312Z
UID:10002887-1295654400-1295654400@www.discoverhollywood.com
SUMMARY:Bingo!
DESCRIPTION:DesignHTMLWords: 0   Characters: 0
URL:https://www.discoverhollywood.com/event/bingo-2/
LOCATION:Second City Studio\, 6560 Hollywood Blvd.\, Los Angeles\, California
END:VEVENT
BEGIN:VEVENT
DTSTART;TZID=Asia/Kolkata:20100531T000000
DTEND;TZID=Asia/Kolkata:20100531T000000
DTSTAMP:20260421T123045
CREATED:20250630T131051Z
LAST-MODIFIED:20250716T122203Z
UID:10003005-1275264000-1275264000@www.discoverhollywood.com
SUMMARY:Bloodmagic
DESCRIPTION:%3ca href%3d%22https%3a//www.secondcity.com/sc-long-form-party%22%3ehttps%3a//www.secondcity.com/sc-long-form-party%3c/a%3eDesignHTMLWords: 1   Characters: 39
URL:https://www.discoverhollywood.com/event/bloodmagic/
LOCATION:Second City Studio\, 6560 Hollywood Blvd.\, Los Angeles\, California
END:VEVENT
BEGIN:VEVENT
DTSTART;TZID=Asia/Kolkata:20100320T000000
DTEND;TZID=Asia/Kolkata:20100320T000000
DTSTAMP:20260421T123045
CREATED:20250630T131146Z
LAST-MODIFIED:20250716T122307Z
UID:10003041-1269043200-1269043200@www.discoverhollywood.com
SUMMARY:Bob Curry Schowcase Hollywood 2019
DESCRIPTION:%3ca href%3d%22https%3a//www.secondcity.com/shows/hollywood/bob-curry-showcase-hollywood-2019/%22%3ehttps%3a//www.secondcity.com/shows/hollywood/bob-curry-showcase-hollywood-2019/%3c/a%3eDesignHTMLWords: 1   Characters: 70
URL:https://www.discoverhollywood.com/event/bob-curry-schowcase-hollywood-2019/
LOCATION:Second City Studio\, 6560 Hollywood Blvd.\, Los Angeles\, California
END:VEVENT
BEGIN:VEVENT
DTSTART;TZID=Asia/Kolkata:20090110T000000
DTEND;TZID=Asia/Kolkata:20090110T000000
DTSTAMP:20260421T123045
CREATED:20250701T062335Z
LAST-MODIFIED:20250701T062335Z
UID:10003253-1231545600-1231545600@www.discoverhollywood.com
SUMMARY:Broke City Cabaret
DESCRIPTION:DesignHTMLWords: 0   Characters: 0
URL:https://www.discoverhollywood.com/event/broke-city-cabaret/
LOCATION:Second City Studio\, 6560 Hollywood Blvd.\, Los Angeles\, California
END:VEVENT
BEGIN:VEVENT
DTSTART;TZID=Asia/Kolkata:20090108T000000
DTEND;TZID=Asia/Kolkata:20090108T000000
DTSTAMP:20260421T123045
CREATED:20250701T062335Z
LAST-MODIFIED:20250701T062335Z
UID:10003254-1231372800-1231372800@www.discoverhollywood.com
SUMMARY:Broke City Cabaret
DESCRIPTION:DesignHTMLWords: 0   Characters: 0
URL:https://www.discoverhollywood.com/event/broke-city-cabaret-2/
LOCATION:Second City Studio\, 6560 Hollywood Blvd.\, Los Angeles\, California
END:VEVENT
BEGIN:VEVENT
DTSTART;TZID=Asia/Kolkata:20081119T000000
DTEND;TZID=Asia/Kolkata:20081119T000000
DTSTAMP:20260421T123045
CREATED:20250701T063121Z
LAST-MODIFIED:20250701T063121Z
UID:10003279-1227052800-1227052800@www.discoverhollywood.com
SUMMARY:Brother Bradley
DESCRIPTION:%3ca href%3d%22https%3a//www.secondcity.com/sc-long-form-party%22%3ehttps%3a//www.secondcity.com/sc-long-form-party%3c/a%3eDesignHTMLWords: 1   Characters: 39
URL:https://www.discoverhollywood.com/event/brother-bradley/
LOCATION:Second City Studio\, 6560 Hollywood Blvd.\, Los Angeles\, California
END:VEVENT
BEGIN:VEVENT
DTSTART;TZID=Asia/Kolkata:20070218T000000
DTEND;TZID=Asia/Kolkata:20070218T000000
DTSTAMP:20260421T123045
CREATED:20250701T080217Z
LAST-MODIFIED:20250701T080217Z
UID:10003504-1171756800-1171756800@www.discoverhollywood.com
SUMMARY:CatNip
DESCRIPTION:DesignHTMLWords: 0   Characters: 0
URL:https://www.discoverhollywood.com/event/catnip/
LOCATION:Second City Studio\, 6560 Hollywood Blvd.\, Los Angeles\, California
END:VEVENT
BEGIN:VEVENT
DTSTART;TZID=Asia/Kolkata:20041208T000000
DTEND;TZID=Asia/Kolkata:20041208T000000
DTSTAMP:20260421T123045
CREATED:20250701T093603Z
LAST-MODIFIED:20250701T093603Z
UID:10003905-1102464000-1102464000@www.discoverhollywood.com
SUMMARY:Code Oscar
DESCRIPTION:DesignHTMLWords: 0   Characters: 0
URL:https://www.discoverhollywood.com/event/code-oscar/
LOCATION:Second City Studio\, 6560 Hollywood Blvd.\, Los Angeles\, California
END:VEVENT
BEGIN:VEVENT
DTSTART;TZID=Asia/Kolkata:20040307T000000
DTEND;TZID=Asia/Kolkata:20040307T000000
DTSTAMP:20260421T123045
CREATED:20250701T104656Z
LAST-MODIFIED:20250701T104656Z
UID:10004043-1078617600-1078617600@www.discoverhollywood.com
SUMMARY:Cool Table
DESCRIPTION:DesignHTMLWords: 0   Characters: 0
URL:https://www.discoverhollywood.com/event/cool-table/
LOCATION:Second City Studio\, 6560 Hollywood Blvd.\, Los Angeles\, California
END:VEVENT
BEGIN:VEVENT
DTSTART;TZID=Asia/Kolkata:20030929T000000
DTEND;TZID=Asia/Kolkata:20030929T000000
DTSTAMP:20260421T123045
CREATED:20250701T105943Z
LAST-MODIFIED:20250701T105943Z
UID:10004123-1064793600-1064793600@www.discoverhollywood.com
SUMMARY:Crisis Averted & Not From Here
DESCRIPTION:DesignHTMLWords: 0   Characters: 0
URL:https://www.discoverhollywood.com/event/crisis-averted-not-from-here/
LOCATION:Second City Studio\, 6560 Hollywood Blvd.\, Los Angeles\, California
END:VEVENT
BEGIN:VEVENT
DTSTART;TZID=Asia/Kolkata:20030927T000000
DTEND;TZID=Asia/Kolkata:20030927T000000
DTSTAMP:20260421T123045
CREATED:20250701T105943Z
LAST-MODIFIED:20250701T105943Z
UID:10004124-1064620800-1064620800@www.discoverhollywood.com
SUMMARY:Crisis Averted & Pants'd
DESCRIPTION:DesignHTMLWords: 0   Characters: 0
URL:https://www.discoverhollywood.com/event/crisis-averted-pantsd/
LOCATION:Second City Studio\, 6560 Hollywood Blvd.\, Los Angeles\, California
END:VEVENT
BEGIN:VEVENT
DTSTART;TZID=Asia/Kolkata:20020413T000000
DTEND;TZID=Asia/Kolkata:20020413T000000
DTSTAMP:20260421T123045
CREATED:20250701T120357Z
LAST-MODIFIED:20250701T120357Z
UID:10004390-1018656000-1018656000@www.discoverhollywood.com
SUMMARY:Day Job
DESCRIPTION:%3ca href%3d%22https%3a//www.secondcity.com/sc-long-form-party%22%3ehttps%3a//www.secondcity.com/sc-long-form-party%3c/a%3eDesignHTMLWords: 1   Characters: 39
URL:https://www.discoverhollywood.com/event/day-job/
LOCATION:Second City Studio\, 6560 Hollywood Blvd.\, Los Angeles\, California
END:VEVENT
BEGIN:VEVENT
DTSTART;TZID=Asia/Kolkata:20020312T000000
DTEND;TZID=Asia/Kolkata:20020312T000000
DTSTAMP:20260421T123045
CREATED:20250701T120419Z
LAST-MODIFIED:20250701T120419Z
UID:10004406-1015891200-1015891200@www.discoverhollywood.com
SUMMARY:DAZL
DESCRIPTION:%3ca href%3d%22https%3a//www.secondcity.com/sc-long-form-party%22%3ehttps%3a//www.secondcity.com/sc-long-form-party%3c/a%3eDesignHTMLWords: 1   Characters: 39
URL:https://www.discoverhollywood.com/event/dazl/
LOCATION:Second City Studio\, 6560 Hollywood Blvd.\, Los Angeles\, California
END:VEVENT
BEGIN:VEVENT
DTSTART;TZID=Asia/Kolkata:20010826T000000
DTEND;TZID=Asia/Kolkata:20010826T000000
DTSTAMP:20260421T123045
CREATED:20250701T120755Z
LAST-MODIFIED:20250701T120755Z
UID:10004505-998784000-998784000@www.discoverhollywood.com
SUMMARY:Delicious Moments
DESCRIPTION:DesignHTMLWords: 0   Characters: 0
URL:https://www.discoverhollywood.com/event/delicious-moments/
LOCATION:Second City Studio\, 6560 Hollywood Blvd.\, Los Angeles\, California
END:VEVENT
BEGIN:VEVENT
DTSTART;TZID=Asia/Kolkata:20010824T000000
DTEND;TZID=Asia/Kolkata:20010824T000000
DTSTAMP:20260421T123045
CREATED:20250701T120758Z
LAST-MODIFIED:20250701T120758Z
UID:10004506-998611200-998611200@www.discoverhollywood.com
SUMMARY:Delicious Moments
DESCRIPTION:DesignHTMLWords: 0   Characters: 0
URL:https://www.discoverhollywood.com/event/delicious-moments-2/
LOCATION:Second City Studio\, 6560 Hollywood Blvd.\, Los Angeles\, California
END:VEVENT
BEGIN:VEVENT
DTSTART;TZID=Asia/Kolkata:20010822T000000
DTEND;TZID=Asia/Kolkata:20010822T000000
DTSTAMP:20260421T123045
CREATED:20250701T120758Z
LAST-MODIFIED:20250701T120758Z
UID:10004507-998438400-998438400@www.discoverhollywood.com
SUMMARY:Delilah Dix and her Bag of Tricks
DESCRIPTION:DesignHTMLWords: 0   Characters: 0
URL:https://www.discoverhollywood.com/event/delilah-dix-and-her-bag-of-tricks/
LOCATION:Second City Studio\, 6560 Hollywood Blvd.\, Los Angeles\, California
END:VEVENT
BEGIN:VEVENT
DTSTART;TZID=Asia/Kolkata:20010514T000000
DTEND;TZID=Asia/Kolkata:20010514T000000
DTSTAMP:20260421T123045
CREATED:20250701T120848Z
LAST-MODIFIED:20250701T120848Z
UID:10004557-989798400-989798400@www.discoverhollywood.com
SUMMARY:Detention Hall
DESCRIPTION:DesignHTMLWords: 0   Characters: 0
URL:https://www.discoverhollywood.com/event/detention-hall/
LOCATION:Second City Studio\, 6560 Hollywood Blvd.\, Los Angeles\, California
END:VEVENT
BEGIN:VEVENT
DTSTART;TZID=Asia/Kolkata:20000825T000000
DTEND;TZID=Asia/Kolkata:20000825T000000
DTSTAMP:20260421T123045
CREATED:20250701T124015Z
LAST-MODIFIED:20250701T124015Z
UID:10004678-967161600-967161600@www.discoverhollywood.com
SUMMARY:Ditka
DESCRIPTION:DesignHTMLWords: 0   Characters: 0
URL:https://www.discoverhollywood.com/event/ditka/
LOCATION:Second City Studio\, 6560 Hollywood Blvd.\, Los Angeles\, California
END:VEVENT
BEGIN:VEVENT
DTSTART;TZID=Asia/Kolkata:20000817T000000
DTEND;TZID=Asia/Kolkata:20000817T000000
DTSTAMP:20260421T123045
CREATED:20250701T124217Z
LAST-MODIFIED:20250701T124217Z
UID:10004682-966470400-966470400@www.discoverhollywood.com
SUMMARY:Diversity in Comedy Festival
DESCRIPTION:The goal of this festival is to offer a platform for celebrating the unique points of view that come from diverse talent in Los Angeles and beyond. This festival will offer performers of diverse backgrounds an opportunity to explore issues of diversity across race%2c gender%2c disability%2c sexual orientation and gender identity through performances%2c panels and workshops.DesignHTMLWords: 56   Characters: 362
URL:https://www.discoverhollywood.com/event/diversity-in-comedy-festival/
LOCATION:Second City Studio\, 6560 Hollywood Blvd.\, Los Angeles\, California
END:VEVENT
END:VCALENDAR