BEGIN:VCALENDAR
VERSION:2.0
PRODID:-//Discover Hollywood Magazine - ECPv6.15.20//NONSGML v1.0//EN
CALSCALE:GREGORIAN
METHOD:PUBLISH
X-ORIGINAL-URL:https://www.discoverhollywood.com
X-WR-CALDESC:Events for Discover Hollywood Magazine
REFRESH-INTERVAL;VALUE=DURATION:PT1H
X-Robots-Tag:noindex
X-PUBLISHED-TTL:PT1H
BEGIN:VTIMEZONE
TZID:Asia/Kolkata
BEGIN:STANDARD
TZOFFSETFROM:+0530
TZOFFSETTO:+0530
TZNAME:IST
DTSTART:19780101T000000
END:STANDARD
END:VTIMEZONE
BEGIN:VEVENT
DTSTART;TZID=Asia/Kolkata:19970328T000000
DTEND;TZID=Asia/Kolkata:19970328T000000
DTSTAMP:20260423T051309
CREATED:20250703T062235Z
LAST-MODIFIED:20250703T062235Z
UID:10005697-859507200-859507200@www.discoverhollywood.com
SUMMARY:FrankenMatt
DESCRIPTION:DesignHTMLWords: 0   Characters: 0
URL:https://www.discoverhollywood.com/event/frankenmatt/
LOCATION:Second City Studio\, 6560 Hollywood Blvd.\, Los Angeles\, California
END:VEVENT
BEGIN:VEVENT
DTSTART;TZID=Asia/Kolkata:19970210T000000
DTEND;TZID=Asia/Kolkata:19970210T000000
DTSTAMP:20260423T051309
CREATED:20250703T062430Z
LAST-MODIFIED:20250703T062430Z
UID:10005743-855532800-855532800@www.discoverhollywood.com
SUMMARY:Free Sandwiches
DESCRIPTION:%3ca href%3d%22https%3a//www.secondcity.com/sc-long-form-party%22%3ehttps%3a//www.secondcity.com/sc-long-form-party%3c/a%3eDesignHTMLWords: 1   Characters: 39
URL:https://www.discoverhollywood.com/event/free-sandwiches/
LOCATION:Second City Studio\, 6560 Hollywood Blvd.\, Los Angeles\, California
END:VEVENT
BEGIN:VEVENT
DTSTART;TZID=Asia/Kolkata:19970207T000000
DTEND;TZID=Asia/Kolkata:19970207T000000
DTSTAMP:20260423T051309
CREATED:20250703T062431Z
LAST-MODIFIED:20250703T062431Z
UID:10005746-855273600-855273600@www.discoverhollywood.com
SUMMARY:Free Workshops & Shows
DESCRIPTION:%3cdiv%3eThe Second City Hollywood is opening up their doors and offering FREE WORKSHOPS %26amp%3b SHOWS to the entire community%21 All are welcome%2c no experience is necessary%3b and we hope you have a day filled with laughter%2c on us. %3c/div%3e\n%3cdiv%3e\n	%3ca href%3d%22http%3a//www.secondcity.com/hollywood-open-house/%22%3ehttp%3a//www.secondcity.com/hollywood-open-house/%3c/a%3e\n%3c/div%3eDesignHTMLWords: 38   Characters: 250
URL:https://www.discoverhollywood.com/event/free-workshops-shows/
LOCATION:Second City Studio\, 6560 Hollywood Blvd.\, Los Angeles\, California
END:VEVENT
BEGIN:VEVENT
DTSTART;TZID=Asia/Kolkata:19961118T000000
DTEND;TZID=Asia/Kolkata:19961118T000000
DTSTAMP:20260423T051309
CREATED:20250703T064259Z
LAST-MODIFIED:20250703T064259Z
UID:10005827-848275200-848275200@www.discoverhollywood.com
SUMMARY:Funnilingus
DESCRIPTION:DesignHTMLWords: 0   Characters: 0
URL:https://www.discoverhollywood.com/event/funnilingus/
LOCATION:Second City Studio\, 6560 Hollywood Blvd.\, Los Angeles\, California
END:VEVENT
BEGIN:VEVENT
DTSTART;TZID=Asia/Kolkata:19960511T000000
DTEND;TZID=Asia/Kolkata:19960511T000000
DTSTAMP:20260423T051309
CREATED:20250703T065610Z
LAST-MODIFIED:20250703T065610Z
UID:10006018-831772800-831772800@www.discoverhollywood.com
SUMMARY:Ghost Dog
DESCRIPTION:%3ca href%3d%22https%3a//www.secondcity.com/sc-long-form-party%22%3ehttps%3a//www.secondcity.com/sc-long-form-party%3c/a%3eDesignHTMLWords: 1   Characters: 39
URL:https://www.discoverhollywood.com/event/ghost-dog/
LOCATION:Second City Studio\, 6560 Hollywood Blvd.\, Los Angeles\, California
END:VEVENT
BEGIN:VEVENT
DTSTART;TZID=Asia/Kolkata:19960325T000000
DTEND;TZID=Asia/Kolkata:19960325T000000
DTSTAMP:20260423T051309
CREATED:20250703T065656Z
LAST-MODIFIED:20250703T065656Z
UID:10006065-827712000-827712000@www.discoverhollywood.com
SUMMARY:Girl Pope
DESCRIPTION:%3ca href%3d%22https%3a//www.secondcity.com/sc-long-form-party%22%3ehttps%3a//www.secondcity.com/sc-long-form-party%3c/a%3eDesignHTMLWords: 1   Characters: 39
URL:https://www.discoverhollywood.com/event/girl-pope/
LOCATION:Second City Studio\, 6560 Hollywood Blvd.\, Los Angeles\, California
END:VEVENT
BEGIN:VEVENT
DTSTART;TZID=Asia/Kolkata:19930718T000000
DTEND;TZID=Asia/Kolkata:19930718T000000
DTSTAMP:20260423T051309
CREATED:20250703T110035Z
LAST-MODIFIED:20250703T110035Z
UID:10006761-742953600-742953600@www.discoverhollywood.com
SUMMARY:Improvised Prom Night
DESCRIPTION:DesignHTMLWords: 0   Characters: 0
URL:https://www.discoverhollywood.com/event/improvised-prom-night/
LOCATION:Second City Studio\, 6560 Hollywood Blvd.\, Los Angeles\, California
END:VEVENT
BEGIN:VEVENT
DTSTART;TZID=Asia/Kolkata:19930717T000000
DTEND;TZID=Asia/Kolkata:19930717T000000
DTSTAMP:20260423T051309
CREATED:20250703T110035Z
LAST-MODIFIED:20250703T110035Z
UID:10006762-742867200-742867200@www.discoverhollywood.com
SUMMARY:Improvised Rap Battle
DESCRIPTION:DesignHTMLWords: 0   Characters: 0
URL:https://www.discoverhollywood.com/event/improvised-rap-battle/
LOCATION:Second City Studio\, 6560 Hollywood Blvd.\, Los Angeles\, California
END:VEVENT
BEGIN:VEVENT
DTSTART;TZID=Asia/Kolkata:19930715T000000
DTEND;TZID=Asia/Kolkata:19930715T000000
DTSTAMP:20260423T051309
CREATED:20250703T110042Z
LAST-MODIFIED:20250703T110042Z
UID:10006764-742694400-742694400@www.discoverhollywood.com
SUMMARY:Improvised Stand Up
DESCRIPTION:DesignHTMLWords: 0   Characters: 0
URL:https://www.discoverhollywood.com/event/improvised-stand-up/
LOCATION:Second City Studio\, 6560 Hollywood Blvd.\, Los Angeles\, California
END:VEVENT
BEGIN:VEVENT
DTSTART;TZID=Asia/Kolkata:19930225T000000
DTEND;TZID=Asia/Kolkata:19930225T000000
DTSTAMP:20260423T051309
CREATED:20250703T111058Z
LAST-MODIFIED:20250703T111058Z
UID:10006904-730598400-730598400@www.discoverhollywood.com
SUMMARY:Iron Lung & FrankenMatt
DESCRIPTION:DesignHTMLWords: 0   Characters: 0
URL:https://www.discoverhollywood.com/event/iron-lung-frankenmatt/
LOCATION:Second City Studio\, 6560 Hollywood Blvd.\, Los Angeles\, California
END:VEVENT
BEGIN:VEVENT
DTSTART;TZID=Asia/Kolkata:19930114T000000
DTEND;TZID=Asia/Kolkata:19930114T000000
DTSTAMP:20260423T051309
CREATED:20250703T111225Z
LAST-MODIFIED:20250703T111225Z
UID:10006946-726969600-726969600@www.discoverhollywood.com
SUMMARY:Ithamar has nothing to say
DESCRIPTION:%3cp%3e%22Charlie Chaplin for the 21st century%22 says the Charleston City Paper%21 Ithamar Enriquez performs a one-man sketch show without saying a single word. %3c/p%3eDesignHTMLWords: 23   Characters: 143
URL:https://www.discoverhollywood.com/event/ithamar-has-nothing-to-say/
LOCATION:Second City Studio\, 6560 Hollywood Blvd.\, Los Angeles\, California
END:VEVENT
BEGIN:VEVENT
DTSTART;TZID=Asia/Kolkata:19920625T000000
DTEND;TZID=Asia/Kolkata:19920625T000000
DTSTAMP:20260423T051309
CREATED:20250703T111817Z
LAST-MODIFIED:20250703T111817Z
UID:10007149-709430400-709430400@www.discoverhollywood.com
SUMMARY:Japanese Fun Time Game Show
DESCRIPTION:DesignHTMLWords: 0   Characters: 0
URL:https://www.discoverhollywood.com/event/japanese-fun-time-game-show/
LOCATION:Second City Studio\, 6560 Hollywood Blvd.\, Los Angeles\, California
END:VEVENT
BEGIN:VEVENT
DTSTART;TZID=Asia/Kolkata:19900619T000000
DTEND;TZID=Asia/Kolkata:19900619T000000
DTSTAMP:20260423T051309
CREATED:20250709T093102Z
LAST-MODIFIED:20250709T093102Z
UID:10008546-645753600-645753600@www.discoverhollywood.com
SUMMARY:Live Rude Girls
DESCRIPTION:All-female sketch comedy revue that carefully considers the question of whether women can be funny%2c takes the paper the question was written on%2c tears it up%2c pours gasoline all over it%2c and uses it to start a dumpster fire protesting the defunding of Planned Parenthood.DesignHTMLWords: 45   Characters: 264
URL:https://www.discoverhollywood.com/event/live-rude-girls/
LOCATION:Second City Studio\, 6560 Hollywood Blvd.\, Los Angeles\, California
END:VEVENT
BEGIN:VEVENT
DTSTART;TZID=Asia/Kolkata:19900304T000000
DTEND;TZID=Asia/Kolkata:19900304T000000
DTSTAMP:20260423T051309
CREATED:20250709T095807Z
LAST-MODIFIED:20250709T123217Z
UID:10008653-636508800-636508800@www.discoverhollywood.com
SUMMARY:Los Angeles Diversity in Comedy Festival
DESCRIPTION:%3ca href%3d%22https%3a//www.secondcity.com/los-angeles-diversity-comedy-festival/%3fgclid%3dEAIaIQobChMIjo2Sx-mc5QIVi__jBx2GZAaDEAAYASAAEgJ0HfD_BwE%22%3ehttps%3a//www.secondcity.com/los-angeles-diversity-comedy-festival/%3fgclid%3dEAIaIQobChMIjo2Sx-mc5QIVi__jBx2GZAaDEAAYASAAEgJ0HfD_BwE%3c/a%3eDesignHTMLWords: 1   Characters: 115
URL:https://www.discoverhollywood.com/event/los-angeles-diversity-in-comedy-festival/
LOCATION:Second City Studio\, 6560 Hollywood Blvd.\, Los Angeles\, California
END:VEVENT
BEGIN:VEVENT
DTSTART;TZID=Asia/Kolkata:19880605T000000
DTEND;TZID=Asia/Kolkata:19880605T000000
DTSTAMP:20260423T051309
CREATED:20250710T094524Z
LAST-MODIFIED:20250710T094524Z
UID:10009030-581472000-581472000@www.discoverhollywood.com
SUMMARY:McSmith & Sketch Bench 2
DESCRIPTION:DesignHTMLWords: 0   Characters: 0
URL:https://www.discoverhollywood.com/event/mcsmith-sketch-bench-2/
LOCATION:Second City Studio\, 6560 Hollywood Blvd.\, Los Angeles\, California
END:VEVENT
BEGIN:VEVENT
DTSTART;TZID=Asia/Kolkata:19871006T000000
DTEND;TZID=Asia/Kolkata:19871006T000000
DTSTAMP:20260423T051309
CREATED:20250710T095835Z
LAST-MODIFIED:20250710T095835Z
UID:10009273-560476800-560476800@www.discoverhollywood.com
SUMMARY:Miley Montana - The Musical
DESCRIPTION:%3cp%3eHannah and Miley are sisters. Of course there%27s sibling rivalry. Can they twerk it out%3f %3c/p%3eDesignHTMLWords: 15   Characters: 83
URL:https://www.discoverhollywood.com/event/miley-montana-the-musical/
LOCATION:Second City Studio\, 6560 Hollywood Blvd.\, Los Angeles\, California
END:VEVENT
BEGIN:VEVENT
DTSTART;TZID=Asia/Kolkata:19870822T000000
DTEND;TZID=Asia/Kolkata:19870822T000000
DTSTAMP:20260423T051309
CREATED:20250710T101311Z
LAST-MODIFIED:20250710T101311Z
UID:10009318-556588800-556588800@www.discoverhollywood.com
SUMMARY:Miss Lady Improvised Beauty Pageant
DESCRIPTION:DesignHTMLWords: 0   Characters: 0
URL:https://www.discoverhollywood.com/event/miss-lady-improvised-beauty-pageant/
LOCATION:Second City Studio\, 6560 Hollywood Blvd.\, Los Angeles\, California
END:VEVENT
BEGIN:VEVENT
DTSTART;TZID=Asia/Kolkata:19870617T000000
DTEND;TZID=Asia/Kolkata:19870617T000000
DTSTAMP:20260423T051309
CREATED:20250710T101432Z
LAST-MODIFIED:20250710T101432Z
UID:10009384-550886400-550886400@www.discoverhollywood.com
SUMMARY:Mom’s Favorite
DESCRIPTION:%3ca href%3d%22https%3a//www.secondcity.com/sc-long-form-party%22%3ehttps%3a//www.secondcity.com/sc-long-form-party%3c/a%3eDesignHTMLWords: 1   Characters: 39
URL:https://www.discoverhollywood.com/event/moms-favorite/
LOCATION:Second City Studio\, 6560 Hollywood Blvd.\, Los Angeles\, California
END:VEVENT
BEGIN:VEVENT
DTSTART;TZID=Asia/Kolkata:19870407T000000
DTEND;TZID=Asia/Kolkata:19870407T000000
DTSTAMP:20260423T051309
CREATED:20250710T101637Z
LAST-MODIFIED:20250710T101637Z
UID:10009455-544752000-544752000@www.discoverhollywood.com
SUMMARY:More Guns!  A Musical Comedy About the NRA
DESCRIPTION:With songs like %22Be Free%22%2c %22Everybody Do The Lobby%21%22%2c and %22Liberal Love%22%2c More Guns is a satire of the NRA%2c the %22woke%22 left%2c and all those boring moderates in between.%26nbsp%3b%26nbsp%3bDesignHTMLWords: 30   Characters: 152
URL:https://www.discoverhollywood.com/event/more-guns-a-musical-comedy-about-the-nra/
LOCATION:Second City Studio\, 6560 Hollywood Blvd.\, Los Angeles\, California
END:VEVENT
BEGIN:VEVENT
DTSTART;TZID=Asia/Kolkata:19870205T000000
DTEND;TZID=Asia/Kolkata:19870205T000000
DTSTAMP:20260423T051309
CREATED:20250710T101753Z
LAST-MODIFIED:20250710T101753Z
UID:10009516-539481600-539481600@www.discoverhollywood.com
SUMMARY:Mr. Johnson
DESCRIPTION:DesignHTMLWords: 0   Characters: 0
URL:https://www.discoverhollywood.com/event/mr-johnson/
LOCATION:Second City Studio\, 6560 Hollywood Blvd.\, Los Angeles\, California
END:VEVENT
BEGIN:VEVENT
DTSTART;TZID=Asia/Kolkata:19870204T000000
DTEND;TZID=Asia/Kolkata:19870204T000000
DTSTAMP:20260423T051309
CREATED:20250710T101801Z
LAST-MODIFIED:20250710T101801Z
UID:10009517-539395200-539395200@www.discoverhollywood.com
SUMMARY:Mr. Johnson & 7 Days Shorts
DESCRIPTION:DesignHTMLWords: 0   Characters: 0
URL:https://www.discoverhollywood.com/event/mr-johnson-7-days-shorts/
LOCATION:Second City Studio\, 6560 Hollywood Blvd.\, Los Angeles\, California
END:VEVENT
BEGIN:VEVENT
DTSTART;TZID=Asia/Kolkata:19870203T000000
DTEND;TZID=Asia/Kolkata:19870203T000000
DTSTAMP:20260423T051309
CREATED:20250710T101802Z
LAST-MODIFIED:20250710T101802Z
UID:10009518-539308800-539308800@www.discoverhollywood.com
SUMMARY:Mr. Johnson & Code Oscar
DESCRIPTION:DesignHTMLWords: 0   Characters: 0
URL:https://www.discoverhollywood.com/event/mr-johnson-code-oscar/
LOCATION:Second City Studio\, 6560 Hollywood Blvd.\, Los Angeles\, California
END:VEVENT
BEGIN:VEVENT
DTSTART;TZID=Asia/Kolkata:19861130T000000
DTEND;TZID=Asia/Kolkata:19861130T000000
DTSTAMP:20260423T051309
CREATED:20250710T101941Z
LAST-MODIFIED:20250710T101941Z
UID:10009583-533692800-533692800@www.discoverhollywood.com
SUMMARY:Musical Improv Performance
DESCRIPTION:DesignHTMLWords: 0   Characters: 0
URL:https://www.discoverhollywood.com/event/musical-improv-performance/
LOCATION:Second City Studio\, 6560 Hollywood Blvd.\, Los Angeles\, California
END:VEVENT
BEGIN:VEVENT
DTSTART;TZID=Asia/Kolkata:19850830T000000
DTEND;TZID=Asia/Kolkata:19850830T000000
DTSTAMP:20260423T051309
CREATED:20250710T121913Z
LAST-MODIFIED:20250716T064017Z
UID:10010040-494208000-494208000@www.discoverhollywood.com
SUMMARY:Off The Wall with opening act Bingo!
DESCRIPTION:DesignHTMLWords: 0   Characters: 0
URL:https://www.discoverhollywood.com/event/off-the-wall-with-opening-act-bingo/
LOCATION:Second City Studio\, 6560 Hollywood Blvd.\, Los Angeles\, California
END:VEVENT
BEGIN:VEVENT
DTSTART;TZID=Asia/Kolkata:19850611T000000
DTEND;TZID=Asia/Kolkata:19850611T000000
DTSTAMP:20260423T051309
CREATED:20250710T122535Z
LAST-MODIFIED:20250716T065023Z
UID:10010120-487296000-487296000@www.discoverhollywood.com
SUMMARY:Once Upon a Good Time
DESCRIPTION:An original sketch comedy revue.%26nbsp%3b%26nbsp%3bDesignHTMLWords: 5   Characters: 31
URL:https://www.discoverhollywood.com/event/once-upon-a-good-time/
LOCATION:Second City Studio\, 6560 Hollywood Blvd.\, Los Angeles\, California
END:VEVENT
BEGIN:VEVENT
DTSTART;TZID=Asia/Kolkata:19850416T000000
DTEND;TZID=Asia/Kolkata:19850416T000000
DTSTAMP:20260423T051309
CREATED:20250710T122915Z
LAST-MODIFIED:20250710T122915Z
UID:10010176-482457600-482457600@www.discoverhollywood.com
SUMMARY:Opening Night: The Improvised Musical!
DESCRIPTION:A Broadway-style musical that is made up on the spot%2c based on audience suggestion.DesignHTMLWords: 14   Characters: 80
URL:https://www.discoverhollywood.com/event/opening-night-the-improvised-musical-2/
LOCATION:Second City Studio\, 6560 Hollywood Blvd.\, Los Angeles\, California
END:VEVENT
BEGIN:VEVENT
DTSTART;TZID=Asia/Kolkata:19830323T000000
DTEND;TZID=Asia/Kolkata:19830323T000000
DTSTAMP:20260423T051309
CREATED:20250714T093114Z
LAST-MODIFIED:20250714T093114Z
UID:10010501-417225600-417225600@www.discoverhollywood.com
SUMMARY:Poppa Pill or H1NFun
DESCRIPTION:DesignHTMLWords: 0   Characters: 0
URL:https://www.discoverhollywood.com/event/poppa-pill-or-h1nfun/
LOCATION:Second City Studio\, 6560 Hollywood Blvd.\, Los Angeles\, California
END:VEVENT
BEGIN:VEVENT
DTSTART;TZID=Asia/Kolkata:19830207T000000
DTEND;TZID=Asia/Kolkata:19830207T000000
DTSTAMP:20260423T051309
CREATED:20250714T093211Z
LAST-MODIFIED:20250714T093211Z
UID:10010545-413424000-413424000@www.discoverhollywood.com
SUMMARY:President Hillary
DESCRIPTION:%3c%21–%5bif gte mso 9%5d%3e\n	%3cxml%3e%3c/xml%3e\n%3c%21%5bendif%5d–%3e\n%3cp class%3d%22MsoPlainText%22%3e%26nbsp%3bIt’s Jan 2017%2c President Hillary’s first day in the Oval Office%2c and she’s taking on China%2c Climate Change%2c Bill %26amp%3b Chelsea%2c and the ghost of Eleanor Roosevelt. %3c/p%3e\n%3c%21–%5bif gte mso 9%5d%3e\n	%3cxml%3e\n		%3cw%3aWordDocument%3e\n			%3cw%3aView%3eNormal%3c/w%3aView%3e\n			%3cw%3aZoom%3e0%3c/w%3aZoom%3e\n			%3cw%3aTrackMoves/%3e\n			%3cw%3aTrackFormatting/%3e\n			%3cw%3aPunctuationKerning/%3e\n			%3cw%3aValidateAg%3c%3c/body%3e–%3eDesignHTMLWords: 26   Characters: 152
URL:https://www.discoverhollywood.com/event/president-hillary/
LOCATION:Second City Studio\, 6560 Hollywood Blvd.\, Los Angeles\, California
END:VEVENT
BEGIN:VEVENT
DTSTART;TZID=Asia/Kolkata:19821107T000000
DTEND;TZID=Asia/Kolkata:19821107T000000
DTSTAMP:20260423T051309
CREATED:20250714T093531Z
LAST-MODIFIED:20250714T093531Z
UID:10010637-405475200-405475200@www.discoverhollywood.com
SUMMARY:Purple Mountain Travesty
DESCRIPTION:People are protesting at an unprecedented degree%2c female Uber drivers are taking drastic measures to protect themselves%2c and California might secede from the Union – if we don%27t get nuked first.DesignHTMLWords: 30   Characters: 189
URL:https://www.discoverhollywood.com/event/purple-mountain-travesty/
LOCATION:Second City Studio\, 6560 Hollywood Blvd.\, Los Angeles\, California
END:VEVENT
BEGIN:VEVENT
DTSTART;TZID=Asia/Kolkata:19791004T000000
DTEND;TZID=Asia/Kolkata:19791004T000000
DTSTAMP:20260423T051309
CREATED:20250714T115646Z
LAST-MODIFIED:20250714T115646Z
UID:10011745-307843200-307843200@www.discoverhollywood.com
SUMMARY:Second City Invitational hosted by All Skate!
DESCRIPTION:DesignHTMLWords: 0   Characters: 0
URL:https://www.discoverhollywood.com/event/second-city-invitational-hosted-by-all-skate/
LOCATION:Second City Studio\, 6560 Hollywood Blvd.\, Los Angeles\, California
END:VEVENT
END:VCALENDAR