BEGIN:VCALENDAR
VERSION:2.0
PRODID:-//Discover Hollywood Magazine - ECPv6.15.20//NONSGML v1.0//EN
CALSCALE:GREGORIAN
METHOD:PUBLISH
X-ORIGINAL-URL:https://www.discoverhollywood.com
X-WR-CALDESC:Events for Discover Hollywood Magazine
REFRESH-INTERVAL;VALUE=DURATION:PT1H
X-Robots-Tag:noindex
X-PUBLISHED-TTL:PT1H
BEGIN:VTIMEZONE
TZID:America/Los_Angeles
BEGIN:DAYLIGHT
TZOFFSETFROM:-0800
TZOFFSETTO:-0700
TZNAME:PDT
DTSTART:20250309T100000
END:DAYLIGHT
BEGIN:STANDARD
TZOFFSETFROM:-0700
TZOFFSETTO:-0800
TZNAME:PST
DTSTART:20251102T090000
END:STANDARD
BEGIN:DAYLIGHT
TZOFFSETFROM:-0800
TZOFFSETTO:-0700
TZNAME:PDT
DTSTART:20260308T100000
END:DAYLIGHT
BEGIN:STANDARD
TZOFFSETFROM:-0700
TZOFFSETTO:-0800
TZNAME:PST
DTSTART:20261101T090000
END:STANDARD
BEGIN:DAYLIGHT
TZOFFSETFROM:-0800
TZOFFSETTO:-0700
TZNAME:PDT
DTSTART:20270314T100000
END:DAYLIGHT
BEGIN:STANDARD
TZOFFSETFROM:-0700
TZOFFSETTO:-0800
TZNAME:PST
DTSTART:20271107T090000
END:STANDARD
END:VTIMEZONE
BEGIN:VTIMEZONE
TZID:Asia/Kolkata
BEGIN:STANDARD
TZOFFSETFROM:+0530
TZOFFSETTO:+0530
TZNAME:IST
DTSTART:19930101T000000
END:STANDARD
END:VTIMEZONE
BEGIN:VEVENT
DTSTART;TZID=America/Los_Angeles:20260227T200000
DTEND;TZID=America/Los_Angeles:20260227T230000
DTSTAMP:20260423T031715
CREATED:20260226T223136Z
LAST-MODIFIED:20260227T233337Z
UID:10030048-1772222400-1772233200@www.discoverhollywood.com
SUMMARY:KID GLOVES
DESCRIPTION:Ever look back at those cheerful kids’ TV shows and wonder what was actually happening behind the scenes? Kid Glovestakes that curiosity and runs with it\, creating a world premiere musical that is equal parts nostalgia and absolute chaos. \nThe vibe is electric. Think bright\, primary colored sets meeting the high stakes\, backstabbing energy of a reality TV competition. Written by Matthew Leavitt with a catchy\, high energy score by Emmy winner Nathan Wang\, the show follows a group of desperate performers as they fight for their own network show. \nThe cast is a total powerhouse of comedic talent. You will see favorites like Suzy Nakamura and Jonathan Slavin as part of a hilariously cynical judging panel\, all brought to life under the sharp direction of Richard Israel and the snappy choreography of Christine Lakin. \nWith a live band keeping the energy high\, Kid Gloves is a wild ride that is as heartfelt as it is irreverent. It is a night of theatre that is wonderfully messy\, deeply human\, and just a lot of fun. We would love to see you there.
URL:https://www.discoverhollywood.com/event/kid-gloves/
LOCATION:Skylight Theatre Company\, 1816 1/2 N. Vermont Ave.\, Hollywood\, California\, 90027.0
CATEGORIES:Theater
END:VEVENT
BEGIN:VEVENT
DTSTART;TZID=Asia/Kolkata:20230125T000000
DTEND;TZID=Asia/Kolkata:20230125T000000
DTSTAMP:20260423T031715
CREATED:20250630T090140Z
LAST-MODIFIED:20250630T090140Z
UID:10001138-1674604800-1674604800@www.discoverhollywood.com
SUMMARY:2013 Skylight Salute to Terrance McNally
DESCRIPTION:A celebrity reading of %22It%27s Only a Play%22DesignHTMLWords: 8   Characters: 38
URL:https://www.discoverhollywood.com/event/2013-skylight-salute-to-terrance-mcnally-2/
LOCATION:Skylight Theatre Company\, 1816 1/2 N. Vermont Ave.\, Hollywood\, California\, 90027.0
END:VEVENT
BEGIN:VEVENT
DTSTART;TZID=Asia/Kolkata:20210601T000000
DTEND;TZID=Asia/Kolkata:20210601T000000
DTSTAMP:20260423T031715
CREATED:20250630T094419Z
LAST-MODIFIED:20250630T094419Z
UID:10001339-1622505600-1622505600@www.discoverhollywood.com
SUMMARY:A Death in Colombia
DESCRIPTION:DesignHTMLWords: 0   Characters: 0
URL:https://www.discoverhollywood.com/event/a-death-in-colombia-2/
LOCATION:Skylight Theatre Company\, 1816 1/2 N. Vermont Ave.\, Hollywood\, California\, 90027.0
END:VEVENT
BEGIN:VEVENT
DTSTART;TZID=Asia/Kolkata:20210324T000000
DTEND;TZID=Asia/Kolkata:20210324T000000
DTSTAMP:20260423T031715
CREATED:20250630T095026Z
LAST-MODIFIED:20250630T095026Z
UID:10001362-1616544000-1616544000@www.discoverhollywood.com
SUMMARY:A Hit Dog Will Holler
DESCRIPTION:%3cspan%3eIn partnership with Playwrights’ Arena Skylight launches the first of four World Premiere productions for the 2021/2022 Season.%26nbsp%3b%3c/span%3eDesignHTMLWords: 18   Characters: 126
URL:https://www.discoverhollywood.com/event/a-hit-dog-will-holler-2/
LOCATION:Skylight Theatre Company\, 1816 1/2 N. Vermont Ave.\, Hollywood\, California\, 90027.0
END:VEVENT
BEGIN:VEVENT
DTSTART;TZID=Asia/Kolkata:20180415T000000
DTEND;TZID=Asia/Kolkata:20180415T000000
DTSTAMP:20260423T031715
CREATED:20250630T103633Z
LAST-MODIFIED:20250630T103633Z
UID:10001715-1523750400-1523750400@www.discoverhollywood.com
SUMMARY:Alimento
DESCRIPTION:%3cspan%3e%3cstrong%3eThis year we%27ll read six ten minute plays written specifically for Alimento on the themes of%3a Recipe%2c Rememberance or Thanks. %3c/strong%3e%3c/span%3eDesignHTMLWords: 20   Characters: 121
URL:https://www.discoverhollywood.com/event/alimento-2/
LOCATION:Skylight Theatre Company\, 1816 1/2 N. Vermont Ave.\, Hollywood\, California\, 90027.0
END:VEVENT
BEGIN:VEVENT
DTSTART;TZID=Asia/Kolkata:20170701T000000
DTEND;TZID=Asia/Kolkata:20170701T000000
DTSTAMP:20260423T031715
CREATED:20250630T105238Z
LAST-MODIFIED:20250630T105238Z
UID:10001811-1498867200-1498867200@www.discoverhollywood.com
SUMMARY:America Adjacent
DESCRIPTION:%3cp class%3d%22MsoNormal%22%3eWritten by%3a Boni B. Alvarez%3cbr%3eDirected by%3a Jon Lawrence Rivera%3c/p%3e\n%3cu5%3ap class%3d%22%22%3e%3c/u5%3ap%3e\n%3cu5%3ap class%3d%22%22%3e%3c/u5%3ap%3eDesignHTMLWords: 10   Characters: 57
URL:https://www.discoverhollywood.com/event/america-adjacent-2/
LOCATION:Skylight Theatre Company\, 1816 1/2 N. Vermont Ave.\, Hollywood\, California\, 90027.0
END:VEVENT
BEGIN:VEVENT
DTSTART;TZID=Asia/Kolkata:20170417T000000
DTEND;TZID=Asia/Kolkata:20170417T000000
DTSTAMP:20260423T031715
CREATED:20250630T105326Z
LAST-MODIFIED:20250630T105326Z
UID:10001836-1492387200-1492387200@www.discoverhollywood.com
SUMMARY:American Whore Story
DESCRIPTION:%3cspan%3eNaomi Grossman%2c who stars as %22Pepper%22 on FX Network%27s %22American Horror Story%2c%22 depicts the compromises she made with her career and her men on her way to becoming an internationally recognized star of genre entertainment.%3c/span%3eDesignHTMLWords: 35   Characters: 213
URL:https://www.discoverhollywood.com/event/american-whore-story-2/
LOCATION:Skylight Theatre Company\, 1816 1/2 N. Vermont Ave.\, Hollywood\, California\, 90027.0
END:VEVENT
BEGIN:VEVENT
DTSTART;TZID=Asia/Kolkata:20150115T000000
DTEND;TZID=Asia/Kolkata:20150115T000000
DTSTAMP:20260423T031715
CREATED:20250630T114035Z
LAST-MODIFIED:20250630T114035Z
UID:10002159-1421280000-1421280000@www.discoverhollywood.com
SUMMARY:Apartment Living
DESCRIPTION:Playwrights Arena and Skylight Theatre present World PremiereDesignHTMLWords: 8   Characters: 61
URL:https://www.discoverhollywood.com/event/apartment-living/
LOCATION:Skylight Theatre Company\, 1816 1/2 N. Vermont Ave.\, Hollywood\, California\, 90027.0
END:VEVENT
BEGIN:VEVENT
DTSTART;TZID=Asia/Kolkata:20120816T000000
DTEND;TZID=Asia/Kolkata:20120816T000000
DTSTAMP:20260423T031715
CREATED:20250630T120645Z
LAST-MODIFIED:20250630T120645Z
UID:10002600-1345075200-1345075200@www.discoverhollywood.com
SUMMARY:Beautified
DESCRIPTION:DesignHTMLWords: 0   Characters: 0
URL:https://www.discoverhollywood.com/event/beautified/
LOCATION:Skylight Theatre Company\, 1816 1/2 N. Vermont Ave.\, Hollywood\, California\, 90027.0
END:VEVENT
BEGIN:VEVENT
DTSTART;TZID=Asia/Kolkata:20101012T000000
DTEND;TZID=Asia/Kolkata:20101012T000000
DTSTAMP:20260423T031715
CREATED:20250630T130837Z
LAST-MODIFIED:20250716T121555Z
UID:10002938-1286841600-1286841600@www.discoverhollywood.com
SUMMARY:Black Super Hero Magic Mama
DESCRIPTION:%3cspan%3e\n	%3cspan%3eA single mother is unable to cope with the shooting death of her 14-year-old son by a White police officer. She must decide if she’ll stay in her splash-and-pow comic book world where sons don’t die%2c or return to the real world and mourn her loss.%3c/span%3e\n	%3cbr%3e\n	%3cbr%3e\n%3c/span%3eDesignHTMLWords: 46   Characters: 240
URL:https://www.discoverhollywood.com/event/black-super-hero-magic-mama/
LOCATION:Skylight Theatre Company\, 1816 1/2 N. Vermont Ave.\, Hollywood\, California\, 90027.0
END:VEVENT
BEGIN:VEVENT
DTSTART;TZID=Asia/Kolkata:20101004T000000
DTEND;TZID=Asia/Kolkata:20101004T000000
DTSTAMP:20260423T031715
CREATED:20250630T130854Z
LAST-MODIFIED:20250716T121611Z
UID:10002942-1286150400-1286150400@www.discoverhollywood.com
SUMMARY:Black Women State of the Union: Taking Flight
DESCRIPTION:DesignHTMLWords: 0   Characters: 0
URL:https://www.discoverhollywood.com/event/black-women-state-of-the-union-taking-flight/
LOCATION:Skylight Theatre Company\, 1816 1/2 N. Vermont Ave.\, Hollywood\, California\, 90027.0
END:VEVENT
BEGIN:VEVENT
DTSTART;TZID=Asia/Kolkata:20100107T000000
DTEND;TZID=Asia/Kolkata:20100107T000000
DTSTAMP:20260423T031715
CREATED:20250630T131216Z
LAST-MODIFIED:20250716T123130Z
UID:10003077-1262822400-1262822400@www.discoverhollywood.com
SUMMARY:Body Without Bones
DESCRIPTION:%3cspan%3e\n	%3ca href%3d%22http%3a//skylighttheatrecompany.com/developme/monthly-play-reading-series/body-without-bones.html%22%3eBODY WITHOUT BONES by Mimi Seton%3c/a%3e is a satire on cosmetic surgery. Four actor-singers %28three women and one man%29 embody aspects of Mother%2c a 75-year-old retired Musical Hall performer who%2c in Act One%2c is preparing to go into the hospital for a vast number of cosmetic surgeries %7e all vanity based. Act Two finds her back home%2c supposedly recovering. . .Staged Reading\n	%3cbr%3e\n%3c/span%3eDesignHTMLWords: 60   Characters: 350
URL:https://www.discoverhollywood.com/event/body-without-bones/
LOCATION:Skylight Theatre Company\, 1816 1/2 N. Vermont Ave.\, Hollywood\, California\, 90027.0
END:VEVENT
BEGIN:VEVENT
DTSTART;TZID=Asia/Kolkata:20090319T000000
DTEND;TZID=Asia/Kolkata:20090319T000000
DTSTAMP:20260423T031715
CREATED:20250701T061312Z
LAST-MODIFIED:20250701T061312Z
UID:10003219-1237420800-1237420800@www.discoverhollywood.com
SUMMARY:Bride of Blood
DESCRIPTION:World Premiere. King Solomon confronts Asmodeus%2c The Demon of Wrath%2c while investigating a mystic puzzle.DesignHTMLWords: 15   Characters: 101
URL:https://www.discoverhollywood.com/event/bride-of-blood/
LOCATION:Skylight Theatre Company\, 1816 1/2 N. Vermont Ave.\, Hollywood\, California\, 90027.0
END:VEVENT
BEGIN:VEVENT
DTSTART;TZID=Asia/Kolkata:20081221T000000
DTEND;TZID=Asia/Kolkata:20081221T000000
DTSTAMP:20260423T031715
CREATED:20250701T063037Z
LAST-MODIFIED:20250701T063037Z
UID:10003263-1229817600-1229817600@www.discoverhollywood.com
SUMMARY:Bronco Billy! The Musical
DESCRIPTION:%3ca href%3d%22https%3a//ci.ovationtix.com/34914%3f_ga%3d2.106221891.1712457156.1560191558-1895808075.1560191558%22%3ehttps%3a//ci.ovationtix.com/34914%3f_ga%3d2.106221891.1712457156.1560191558-1895808075.1560191558%3c/a%3eDesignHTMLWords: 1   Characters: 81
URL:https://www.discoverhollywood.com/event/bronco-billy-the-musical/
LOCATION:Skylight Theatre Company\, 1816 1/2 N. Vermont Ave.\, Hollywood\, California\, 90027.0
END:VEVENT
BEGIN:VEVENT
DTSTART;TZID=Asia/Kolkata:20080708T000000
DTEND;TZID=Asia/Kolkata:20080708T000000
DTSTAMP:20260423T031715
CREATED:20250701T063255Z
LAST-MODIFIED:20250701T063255Z
UID:10003346-1215475200-1215475200@www.discoverhollywood.com
SUMMARY:Bulrusher
DESCRIPTION:%3cspan%3e%3cspan%3eWhen you%27re a multiracial orphan girl with a gift for clairvoyance who was found floating as an infant in a basket on the river%2c there aren%27t many places to turn to form a strong self-identity when you%27re growing up in a predominantly white town in the %2750s.%26nbsp%3b That is%2c until a black girl from Alabama suddenly appears.%3c/span%3e%3c/span%3eDesignHTMLWords: 57   Characters: 309
URL:https://www.discoverhollywood.com/event/bulrusher/
LOCATION:Skylight Theatre Company\, 1816 1/2 N. Vermont Ave.\, Hollywood\, California\, 90027.0
END:VEVENT
BEGIN:VEVENT
DTSTART;TZID=Asia/Kolkata:20070109T000000
DTEND;TZID=Asia/Kolkata:20070109T000000
DTSTAMP:20260423T031715
CREATED:20250701T080333Z
LAST-MODIFIED:20250701T080333Z
UID:10003524-1168300800-1168300800@www.discoverhollywood.com
SUMMARY:Celebrate 33 years of Skylight Theatre
DESCRIPTION:%3cspan style%3d%22margin%3a0px%3b font-family%3aArial%2csans-serif%3b font-size%3a13pt%3b%22%3e%3cb%3eHard to believe it%27s been thirty-three years.%3c/b%3e%3c/span%3e\n%3cspan style%3d%22margin%3a0px%3b font-family%3aArial%2csans-serif%3b font-size%3a13pt%3b%22%3e%26nbsp%3b%3c/span%3e\n%3cspan style%3d%22margin%3a0px%3b font-family%3aArial%2csans-serif%3b font-size%3a12pt%3b%22%3eWe%27ve been digging into storage boxes%2c finding old photos%2c posters and programs and thought you might enjoy a %26nbsp%3bglimpse into the past.%3c/span%3eDesignHTMLWords: 29   Characters: 174
URL:https://www.discoverhollywood.com/event/celebrate-33-years-of-skylight-theatre/
LOCATION:Skylight Theatre Company\, 1816 1/2 N. Vermont Ave.\, Hollywood\, California\, 90027.0
END:VEVENT
BEGIN:VEVENT
DTSTART;TZID=Asia/Kolkata:20050914T000000
DTEND;TZID=Asia/Kolkata:20050914T000000
DTSTAMP:20260423T031715
CREATED:20250701T091106Z
LAST-MODIFIED:20250701T091106Z
UID:10003765-1126656000-1126656000@www.discoverhollywood.com
SUMMARY:Church & State
DESCRIPTION:%3cstrong%3e%3c/strong%3e\n%3cp align%3d%22left%22%3eThree days before his bid for%26nbsp%3breelection in North Carolina%2c a Republican U.S. Senator makes%26nbsp%3b%3cspan%3ean off-the-cuff comment to a%26nbsp%3b%3c/span%3eblogger that calls into question%26nbsp%3bhis belief in%26nbsp%3bGod. As his devoutly Christian wife%26nbsp%3band liberal Jewish campaign manager%26nbsp%3btry to contain%26nbsp%3bthe%26nbsp%3bdamage.%3c/p%3eDesignHTMLWords: 44   Characters: 259
URL:https://www.discoverhollywood.com/event/church-state/
LOCATION:Skylight Theatre Company\, 1816 1/2 N. Vermont Ave.\, Hollywood\, California\, 90027.0
END:VEVENT
BEGIN:VEVENT
DTSTART;TZID=Asia/Kolkata:20050602T000000
DTEND;TZID=Asia/Kolkata:20050602T000000
DTSTAMP:20260423T031715
CREATED:20250701T092110Z
LAST-MODIFIED:20250701T092110Z
UID:10003817-1117670400-1117670400@www.discoverhollywood.com
SUMMARY:Circle Dance
DESCRIPTION:DesignHTMLWords: 0   Characters: 0
URL:https://www.discoverhollywood.com/event/circle-dance/
LOCATION:Skylight Theatre Company\, 1816 1/2 N. Vermont Ave.\, Hollywood\, California\, 90027.0
END:VEVENT
BEGIN:VEVENT
DTSTART;TZID=Asia/Kolkata:20001121T000000
DTEND;TZID=Asia/Kolkata:20001121T000000
DTSTAMP:20260423T031715
CREATED:20250701T122308Z
LAST-MODIFIED:20250701T122308Z
UID:10004634-974764800-974764800@www.discoverhollywood.com
SUMMARY:Dirty Filthy Love Story
DESCRIPTION:DesignHTMLWords: 0   Characters: 0
URL:https://www.discoverhollywood.com/event/dirty-filthy-love-story/
LOCATION:Skylight Theatre Company\, 1816 1/2 N. Vermont Ave.\, Hollywood\, California\, 90027.0
END:VEVENT
BEGIN:VEVENT
DTSTART;TZID=Asia/Kolkata:20000531T000000
DTEND;TZID=Asia/Kolkata:20000531T000000
DTSTAMP:20260423T031715
CREATED:20250701T125536Z
LAST-MODIFIED:20250701T125536Z
UID:10004721-959731200-959731200@www.discoverhollywood.com
SUMMARY:Dog Sees God
DESCRIPTION:%3ca target%3d%22_blank%22 href%3d%22http%3a//skylighttheatrecompany.com/plays-and-events/dog-sees-god.html%22%3eWhen CB%27s dog dies from rabies%3c/a%3e%2c CB begins to question the existence of an afterlife. His best friend is too burnt out to provide any coherent speculation%3b his sister has gone goth%3b his ex-girlfriend has recently been institutionalized%3b and his other friends are too inebriated to give him any sort of solace. But a chance meeting with an artistic kid%2c the target of this group%27s bullying%2c offers CB a peace of minDesignHTMLWords: 72   Characters: 402
URL:https://www.discoverhollywood.com/event/dog-sees-god/
LOCATION:Skylight Theatre Company\, 1816 1/2 N. Vermont Ave.\, Hollywood\, California\, 90027.0
END:VEVENT
BEGIN:VEVENT
DTSTART;TZID=Asia/Kolkata:20000306T000000
DTEND;TZID=Asia/Kolkata:20000306T000000
DTSTAMP:20260423T031715
CREATED:20250701T125741Z
LAST-MODIFIED:20250701T125741Z
UID:10004764-952300800-952300800@www.discoverhollywood.com
SUMMARY:Dontrell Who Kissed the Seas
DESCRIPTION:%3c%21–%5bif gte mso 9%5d%3e\n	%3cxml%3e%3c/xml%3e\n%3c%21%5bendif%5d–%3e\n%3cp%3e%3cspan%3e\n		%3ca target%3d%22_blank%22 href%3d%22http%3a//skylighttheatrecompany.com/plays-and-events/dontrell-who-kissed-the-sea.html%22%3eWorld Premiere%3c/a%3e%3a A present-day hero%27s quest to right history%27s wrongs%2c as 18 year old Dontrell Jones III feels that it is his duty and destiny to venture into Atlantic in search of an ancestor lost during the Middle Passage. His family is not at all ready to abandon its prized son to the waters of a mysterious and haunting past.\n		%3cDesignHTMLWords: 61   Characters: 324
URL:https://www.discoverhollywood.com/event/dontrell-who-kissed-the-seas/
LOCATION:Skylight Theatre Company\, 1816 1/2 N. Vermont Ave.\, Hollywood\, California\, 90027.0
END:VEVENT
BEGIN:VEVENT
DTSTART;TZID=Asia/Kolkata:19981231T000000
DTEND;TZID=Asia/Kolkata:19981231T000000
DTSTAMP:20260423T031715
CREATED:20250701T135042Z
LAST-MODIFIED:20250702T044711Z
UID:10005058-915062400-915062400@www.discoverhollywood.com
SUMMARY:El Grande CIRCUS de Coca-Cola
DESCRIPTION:%3cp%3eFlush with the imagined success of his nightclub floorshow%2c%3ca target%3d%22_blank%22 href%3d%22http%3a//skylighttix.com   %22%3eEl Grande Maestro de Show Business%3c/a%3e%2c Pepe Hernandez%2c ups the ante and sets his sights on international fame with his %22Star-Studded Traveling CIRCUS.%22 First stop – Hollywood. Pepe corrals his family into posing as multinational stars%2c but his Hollywood gala opening%2c side-tracked by a flat tire%2c hassles at the border and a hungry tiger called Chupacabra%2c is already facing calamity.%26nbsp%3b%3c/p%3eDesignHTMLWords: 67   Characters: 425
URL:https://www.discoverhollywood.com/event/el-grande-circus-de-coca-cola/
LOCATION:Skylight Theatre Company\, 1816 1/2 N. Vermont Ave.\, Hollywood\, California\, 90027.0
END:VEVENT
BEGIN:VEVENT
DTSTART;TZID=Asia/Kolkata:19981122T000000
DTEND;TZID=Asia/Kolkata:19981122T000000
DTSTAMP:20260423T031715
CREATED:20250702T044911Z
LAST-MODIFIED:20250702T044911Z
UID:10005097-911692800-911692800@www.discoverhollywood.com
SUMMARY:Elevator Music
DESCRIPTION:%3cbr%3e\n%3cp%3e7%3a00pm a cocktail party%3b8%3a00pm an evening you won%27t soon forget as %3cb%3eED ASNER%3c/b%3e and\n	%3cb%3eROB NAGLE%3c/b%3e inhabit Walter Bagot%27s new play%2c\n	%3cb%3e%3ci%3eELEVATOR MUSIC %3c/i%3e%3c/b%3ein a staged reading directed by Elina de Santos.%26nbsp%3b\n%3c/p%3e\n%3cp%3e%3cb%3eYour ticket purchase will help ensure that Skylight%27s Artistic Development programs continue to be free for developing artists and at-risk youth from all across greater Los Angeles.%3c/b%3e%3c/p%3e\n%3cbr%3eDesignHTMLWords: 59   Characters: 360
URL:https://www.discoverhollywood.com/event/elevator-music/
LOCATION:Skylight Theatre Company\, 1816 1/2 N. Vermont Ave.\, Hollywood\, California\, 90027.0
END:VEVENT
BEGIN:VEVENT
DTSTART;TZID=Asia/Kolkata:19981109T000000
DTEND;TZID=Asia/Kolkata:19981109T000000
DTSTAMP:20260423T031715
CREATED:20250702T044941Z
LAST-MODIFIED:20250702T044941Z
UID:10005110-910569600-910569600@www.discoverhollywood.com
SUMMARY:Elijah Rock Sings
DESCRIPTION:%3cspan%3e\n	Remember Casablanca%3f Remember songs woven with romance and rhythm and… magic%3f\n	%3cbr%3e\n	%3cbr%3e\n	The remarkable Elijah Rock delivers those timeless songs with an ease that may remind you of the great %22crooners%22 like Frank Sinatra%2c Joe Williams%2c Tony Bennett%2c and Nat King Cole.%26nbsp%3b So what are you waiting for%3f%26nbsp%3b %26nbsp%3b%3c/span%3e\n%3cspan%3e\n	%3cbr%3e\n%3c%21–%5bendif%5d–%3e%3c/span%3eDesignHTMLWords: 47   Characters: 279
URL:https://www.discoverhollywood.com/event/elijah-rock-sings/
LOCATION:Skylight Theatre Company\, 1816 1/2 N. Vermont Ave.\, Hollywood\, California\, 90027.0
END:VEVENT
BEGIN:VEVENT
DTSTART;TZID=Asia/Kolkata:19971011T000000
DTEND;TZID=Asia/Kolkata:19971011T000000
DTSTAMP:20260423T031715
CREATED:20250703T061416Z
LAST-MODIFIED:20250703T061416Z
UID:10005504-876528000-876528000@www.discoverhollywood.com
SUMMARY:Filipinx Representation in Theater
DESCRIPTION:Panel moderated by Lucy Burns examines the history of its portrayal and what the future holds for its inclusion.\n%3cbr%3e\n%3cbr%3eDesignHTMLWords: 19   Characters: 111
URL:https://www.discoverhollywood.com/event/filipinx-representation-in-theater/
LOCATION:Skylight Theatre Company\, 1816 1/2 N. Vermont Ave.\, Hollywood\, California\, 90027.0
END:VEVENT
BEGIN:VEVENT
DTSTART;TZID=Asia/Kolkata:19970716T000000
DTEND;TZID=Asia/Kolkata:19970716T000000
DTSTAMP:20260423T031715
CREATED:20250703T061851Z
LAST-MODIFIED:20250703T061851Z
UID:10005587-869011200-869011200@www.discoverhollywood.com
SUMMARY:Focus Group Play
DESCRIPTION:DesignHTMLWords: 0   Characters: 0
URL:https://www.discoverhollywood.com/event/focus-group-play/
LOCATION:Skylight Theatre Company\, 1816 1/2 N. Vermont Ave.\, Hollywood\, California\, 90027.0
END:VEVENT
BEGIN:VEVENT
DTSTART;TZID=Asia/Kolkata:19970520T000000
DTEND;TZID=Asia/Kolkata:19970520T000000
DTSTAMP:20260423T031715
CREATED:20250703T062021Z
LAST-MODIFIED:20250703T062021Z
UID:10005644-864086400-864086400@www.discoverhollywood.com
SUMMARY:Forever House
DESCRIPTION:%3cp%3e%3cstrong%3e%3cspan%3eAn OUTrageous comedy with foreboding%21%3c/span%3e%3c/strong%3e\n	%3cspan%3e\n		%3ca href%3d%22http%3a//www.colonytheatre.org/cyclecocacola.html%22%3e%3cspan%3e%3cspan%3e%3c/span%3e%3c/span%3e%3c/a%3e\n		%3cstrong%3e%3cspan%3e%3c/span%3e%3c/strong%3e\n	%3c/span%3e\n	%3cspan%3e%3cstrong%3eA first mortgage%2c curb appeal%2c social respectability… What could possibly go wrong%3f%3c/strong%3e%3c/span%3e\n	%3cstrong%3e%3cspan%3eA comedy in two acts about love%2c gay marriage%2c and the improbable%2c unpredictable implications of acquiring real estate.%26nbsp%3b%3c/span%3e%3c/strong%3e\n%3c/p%3eDesignHTMLWords: 35   Characters: 232
URL:https://www.discoverhollywood.com/event/forever-house/
LOCATION:Skylight Theatre Company\, 1816 1/2 N. Vermont Ave.\, Hollywood\, California\, 90027.0
END:VEVENT
BEGIN:VEVENT
DTSTART;TZID=Asia/Kolkata:19950802T000000
DTEND;TZID=Asia/Kolkata:19950802T000000
DTSTAMP:20260423T031715
CREATED:20250703T084438Z
LAST-MODIFIED:20250703T084438Z
UID:10006301-807321600-807321600@www.discoverhollywood.com
SUMMARY:Grey Nomad
DESCRIPTION:World premiere%3a L.A.%27s Australian Theatre Company presents Dan Lee’s funny%2c engaging comedy about two retired couples who have dedicated their lives to RVing around Australia.\n%3cbr%3eDesignHTMLWords: 25   Characters: 169
URL:https://www.discoverhollywood.com/event/grey-nomad/
LOCATION:Skylight Theatre Company\, 1816 1/2 N. Vermont Ave.\, Hollywood\, California\, 90027.0
END:VEVENT
BEGIN:VEVENT
DTSTART;TZID=Asia/Kolkata:19940207T000000
DTEND;TZID=Asia/Kolkata:19940207T000000
DTSTAMP:20260423T031715
CREATED:20250703T100324Z
LAST-MODIFIED:20250703T100324Z
UID:10006557-760579200-760579200@www.discoverhollywood.com
SUMMARY:Hostage
DESCRIPTION:%3cspan%3e\n	%3ca target%3d%22_blank%22 href%3d%22http%3a//skylighttheatrecompany.com/developme/monthly-play-reading-series/play-reading-hostage.html%22%3eHOSTAGE by Michelle Kholos Brooks%3c/a%3e\n	%3cspan%3e%3c/span%3e is based on the true events of 1979 when students in Tehran took over the American Embassy and held hostages there for 555 days. The youngest hostage%2c a nineteen year- old Marine was in captivity for about six months when his mother flew from Wisconsin to Tehran in the hope of being allowed to see her son.\n	%3cbr%3e\n%3c/span%3eDesignHTMLWords: 62   Characters: 337
URL:https://www.discoverhollywood.com/event/hostage/
LOCATION:Skylight Theatre Company\, 1816 1/2 N. Vermont Ave.\, Hollywood\, California\, 90027.0
END:VEVENT
BEGIN:VEVENT
DTSTART;TZID=Asia/Kolkata:19940104T000000
DTEND;TZID=Asia/Kolkata:19940104T000000
DTSTAMP:20260423T031715
CREATED:20250703T105549Z
LAST-MODIFIED:20250703T105549Z
UID:10006591-757641600-757641600@www.discoverhollywood.com
SUMMARY:How We're Different From Animals
DESCRIPTION:%3cspan%3eA devised theatre work based on stories in Miranda July%27s book%2c %22No One Belongs Here More Than You.%22%3c/span%3eDesignHTMLWords: 18   Characters: 95
URL:https://www.discoverhollywood.com/event/how-were-different-from-animals/
LOCATION:Skylight Theatre Company\, 1816 1/2 N. Vermont Ave.\, Hollywood\, California\, 90027.0
END:VEVENT
END:VCALENDAR