BEGIN:VCALENDAR
VERSION:2.0
PRODID:-//Discover Hollywood Magazine - ECPv6.15.17//NONSGML v1.0//EN
CALSCALE:GREGORIAN
METHOD:PUBLISH
X-ORIGINAL-URL:https://www.discoverhollywood.com
X-WR-CALDESC:Events for Discover Hollywood Magazine
REFRESH-INTERVAL;VALUE=DURATION:PT1H
X-Robots-Tag:noindex
X-PUBLISHED-TTL:PT1H
BEGIN:VTIMEZONE
TZID:Asia/Kolkata
BEGIN:STANDARD
TZOFFSETFROM:+0530
TZOFFSETTO:+0530
TZNAME:IST
DTSTART:19770101T000000
END:STANDARD
END:VTIMEZONE
BEGIN:VEVENT
DTSTART;TZID=Asia/Kolkata:19990805T000000
DTEND;TZID=Asia/Kolkata:19990805T000000
DTSTAMP:20260422T084146
CREATED:20250701T125954Z
LAST-MODIFIED:20250701T125954Z
UID:10004871-933811200-933811200@www.discoverhollywood.com
SUMMARY:Drpwned
DESCRIPTION:%22Drpwned%22 by Barker Room Rep is inspired by modern video games%2c one invited guest will “play” live%2c taking on the role of a teenager who has recently moved to a new high school to navigate making friends in a charged political climate%2c surviving a troubled home%2c and deciphering the capitalistic ads for a hyper-realistic war-based video game.DesignHTMLWords: 57   Characters: 334
URL:https://www.discoverhollywood.com/event/drpwned/
LOCATION:Son of Semele (SOSE)\, 3301 Beverly Blvd\, Los Angeles\, California
END:VEVENT
BEGIN:VEVENT
DTSTART;TZID=Asia/Kolkata:19981102T000000
DTEND;TZID=Asia/Kolkata:19981102T000000
DTSTAMP:20260422T084146
CREATED:20250702T045011Z
LAST-MODIFIED:20250702T045011Z
UID:10005117-909964800-909964800@www.discoverhollywood.com
SUMMARY:Elizabeth Hammond - a eulogy
DESCRIPTION:After a lifetime perfecting her hostess skills%2c Beth finds herself at the worst party she%27s ever been to%3a The conversation is shallow%2c the food is nonexistent and the booze is long gone… not to mention it happens to be her funeral. But what better time to gain a little perspective%3f Amidst flashbacks%2c canapés and inane gossip%2c Elizabeth Hammond offers a piercingly intuitive peek into what shapes a person%27s identity.DesignHTMLWords: 69   Characters: 407
URL:https://www.discoverhollywood.com/event/elizabeth-hammond-a-eulogy/
LOCATION:Son of Semele (SOSE)\, 3301 Beverly Blvd\, Los Angeles\, California
END:VEVENT
BEGIN:VEVENT
DTSTART;TZID=Asia/Kolkata:19980611T000000
DTEND;TZID=Asia/Kolkata:19980611T000000
DTSTAMP:20260422T084146
CREATED:20250702T052353Z
LAST-MODIFIED:20250702T052353Z
UID:10005261-897523200-897523200@www.discoverhollywood.com
SUMMARY:Etty Hillesum: a voice outside the Camp – Theatre Factory Studio
DESCRIPTION:Based on the diaries and letters of Etty Hillesum%2c a Dutch Jew who served as a vital link between the prisoners of a Nazi work camp and the outside world%2c the play celebrates the radical altruism of a young life cruelly cut short.\n%3cbr%3e\n%3cbr%3eDesignHTMLWords: 43   Characters: 227
URL:https://www.discoverhollywood.com/event/etty-hillesum-a-voice-outside-the-camp-theatre-factory-studio/
LOCATION:Son of Semele (SOSE)\, 3301 Beverly Blvd\, Los Angeles\, California
END:VEVENT
BEGIN:VEVENT
DTSTART;TZID=Asia/Kolkata:19980129T000000
DTEND;TZID=Asia/Kolkata:19980129T000000
DTSTAMP:20260422T084146
CREATED:20250702T055952Z
LAST-MODIFIED:20250702T055952Z
UID:10005394-886032000-886032000@www.discoverhollywood.com
SUMMARY:Fast & Loose
DESCRIPTION:DesignHTMLWords: 0   Characters: 0
URL:https://www.discoverhollywood.com/event/fast-loose-2/
LOCATION:Son of Semele (SOSE)\, 3301 Beverly Blvd\, Los Angeles\, California
END:VEVENT
BEGIN:VEVENT
DTSTART;TZID=Asia/Kolkata:19980102T000000
DTEND;TZID=Asia/Kolkata:19980102T000000
DTSTAMP:20260422T084146
CREATED:20250702T060045Z
LAST-MODIFIED:20250702T060047Z
UID:10005421-883699200-883699200@www.discoverhollywood.com
SUMMARY:Favorites from the Solo Fest
DESCRIPTION:%3ch2%3e\n	%3cem%3eObjectify%3c/em%3e\n%3c/h2%3e An off-the-clock docent takes us on a tour of her memories%26nbsp%3b – even as those memories threaten her grasp of present reality.\n%3cbr%3e\n%3ch2%3e\n	%3cem%3eFreebird Goes to Mars%3c/em%3e\n%3c/h2%3e Betty%2c a recovering alcoholic Everymom%2c decides to put down her Walmart apron and take off on a voyage to the Red Planet\n%3cbr%3e\n%3cbr%3eDesignHTMLWords: 48   Characters: 271
URL:https://www.discoverhollywood.com/event/favorites-from-the-solo-fest/
LOCATION:Son of Semele (SOSE)\, 3301 Beverly Blvd\, Los Angeles\, California
END:VEVENT
BEGIN:VEVENT
DTSTART;TZID=Asia/Kolkata:19970508T000000
DTEND;TZID=Asia/Kolkata:19970508T000000
DTSTAMP:20260422T084146
CREATED:20250703T062052Z
LAST-MODIFIED:20250703T062052Z
UID:10005656-863049600-863049600@www.discoverhollywood.com
SUMMARY:Four Clowns
DESCRIPTION:Company Creation Festival is Son of Semele’s annual festival of new works generated by ensembles%2c using unconventional means. Four productions are presented in repertory over four weeks through January and February.DesignHTMLWords: 31   Characters: 212
URL:https://www.discoverhollywood.com/event/four-clowns-2/
LOCATION:Son of Semele (SOSE)\, 3301 Beverly Blvd\, Los Angeles\, California
END:VEVENT
BEGIN:VEVENT
DTSTART;TZID=Asia/Kolkata:19961004T000000
DTEND;TZID=Asia/Kolkata:19961004T000000
DTSTAMP:20260422T084146
CREATED:20250703T064855Z
LAST-MODIFIED:20250703T064855Z
UID:10005872-844387200-844387200@www.discoverhollywood.com
SUMMARY:Galatea
DESCRIPTION:%3cstrong%3eGalatea%3c/strong%3e delves into the world of silicone sex dolls that explores the men who own them%2c their relationships to these feminine objects%2c and their affect on women. It is also a harsh%2c raw examination of the creative process and the writer or artist%27s relationship to her creation%2c wehther the creation is a story or a sculpture.\n%3cbr%3e\n%3cbr%3e\nIn our world%2c where objects get personified%2c and people are objectified%2c where does the line between creator and creation blur%3f\n%3cbr%3eDesignHTMLWords: 76   Characters: 444
URL:https://www.discoverhollywood.com/event/galatea/
LOCATION:Son of Semele (SOSE)\, 3301 Beverly Blvd\, Los Angeles\, California
END:VEVENT
BEGIN:VEVENT
DTSTART;TZID=Asia/Kolkata:19931107T000000
DTEND;TZID=Asia/Kolkata:19931107T000000
DTSTAMP:20260422T084146
CREATED:20250703T105724Z
LAST-MODIFIED:20250703T105724Z
UID:10006649-752630400-752630400@www.discoverhollywood.com
SUMMARY:I Decided I'm Fine: A Roach Play
DESCRIPTION:When does clutter become a problem%2c and whose problem does it become%3f This new play takes a non-TLC Network look at a common American phenomenon%3a hoarding. I Decided I’m Fine%3a A Roach Play sifts through a messy topic with the whimsical%2c humorous%2c and thought-provoking approach to devised theater for which The Attic Collective is known. %3ca href%3d%22https%3a//www.artful.ly/son-of-semele-ensemble%22 target%3d%22_blank%22%3ewww.artful.ly/son-of-semele-ensemble%3c/a%3eDesignHTMLWords: 56   Characters: 359
URL:https://www.discoverhollywood.com/event/i-decided-im-fine-a-roach-play/
LOCATION:Son of Semele (SOSE)\, 3301 Beverly Blvd\, Los Angeles\, California
END:VEVENT
BEGIN:VEVENT
DTSTART;TZID=Asia/Kolkata:19931010T000000
DTEND;TZID=Asia/Kolkata:19931010T000000
DTSTAMP:20260422T084146
CREATED:20250703T105752Z
LAST-MODIFIED:20250703T105752Z
UID:10006677-750211200-750211200@www.discoverhollywood.com
SUMMARY:I Wonder If It's Possible to Have a Love Affair That Lasts Forever\, or\, Things I Found on Craigslist
DESCRIPTION:DesignHTMLWords: 0   Characters: 0
URL:https://www.discoverhollywood.com/event/i-wonder-if-its-possible-to-have-a-love-affair-that-lasts-forever-or-things-i-found-on-craigslist/
LOCATION:Son of Semele (SOSE)\, 3301 Beverly Blvd\, Los Angeles\, California
END:VEVENT
BEGIN:VEVENT
DTSTART;TZID=Asia/Kolkata:19930830T000000
DTEND;TZID=Asia/Kolkata:19930830T000000
DTSTAMP:20260422T084146
CREATED:20250703T105838Z
LAST-MODIFIED:20250703T105838Z
UID:10006718-746668800-746668800@www.discoverhollywood.com
SUMMARY:If you can get to Buffalo
DESCRIPTION:%3cem%3e%3cb%3e%3ca target%3d%22_blank%22 href%3d%22sonofsemele.org%22%3eIf You Can Get to Buffalo%3c/a%3e%2c an exploration of %22A Rape in Cyberspace%22 by Julian Dibbell%3c/b%3e%3c/em%3e\n%3cstrong%3e. %3c/strong%3eThe year is 1993%3a A befuddled Charlie Rose is our guide as intrepid online pioneers discover freedom – and looming dangers – on the virtual frontier. Their playground is one of the first-ever social networks%2c LambdaMoo%2c which invites users to mingle in a fantastical mansion made entirely of text.\n%3cbr%3eDesignHTMLWords: 63   Characters: 373
URL:https://www.discoverhollywood.com/event/if-you-can-get-to-buffalo/
LOCATION:Son of Semele (SOSE)\, 3301 Beverly Blvd\, Los Angeles\, California
END:VEVENT
BEGIN:VEVENT
DTSTART;TZID=Asia/Kolkata:19930601T000000
DTEND;TZID=Asia/Kolkata:19930601T000000
DTSTAMP:20260422T084146
CREATED:20250703T110204Z
LAST-MODIFIED:20250703T110204Z
UID:10006808-738892800-738892800@www.discoverhollywood.com
SUMMARY:Incognito
DESCRIPTION:N%3cspan%3eick Payne’s ingenious%2c time-traveling play interweaves three personal quests to probe matters of the mind.%3c/span%3e\n%3cdiv%3e\n	%3cspan%3e%3cbr%3e%3c/span%3e\n%3c/div%3e\n%3cdiv%3e\n	%3cspan%3e%3cspan%3e%3ca href%3d%22https%3a//www.artful.ly/son-of-semele-ensemble%22 target%3d%22_blank%22%3ehttps%3a//www.artful.ly/son-of-semele-ensemble%3c/a%3e%3c/span%3e%3c/span%3e\n%3c/div%3eDesignHTMLWords: 16   Characters: 145
URL:https://www.discoverhollywood.com/event/incognito/
LOCATION:Son of Semele (SOSE)\, 3301 Beverly Blvd\, Los Angeles\, California
END:VEVENT
BEGIN:VEVENT
DTSTART;TZID=Asia/Kolkata:19930129T000000
DTEND;TZID=Asia/Kolkata:19930129T000000
DTSTAMP:20260422T084146
CREATED:20250703T111208Z
LAST-MODIFIED:20250703T111208Z
UID:10006931-728265600-728265600@www.discoverhollywood.com
SUMMARY:It's a Wonderful Life
DESCRIPTION:George Bailey’s struggle to grasp why life is worth living finds a fresh voice in this enchanting one-person retelling of Frank Capra’s classic film%26nbsp%3b%3cem%3eIt’s A Wonderful Life%3c/em%3e.DesignHTMLWords: 28   Characters: 169
URL:https://www.discoverhollywood.com/event/its-a-wonderful-life-2/
LOCATION:Son of Semele (SOSE)\, 3301 Beverly Blvd\, Los Angeles\, California
END:VEVENT
BEGIN:VEVENT
DTSTART;TZID=Asia/Kolkata:19911230T000000
DTEND;TZID=Asia/Kolkata:19911230T000000
DTSTAMP:20260422T084146
CREATED:20250703T115920Z
LAST-MODIFIED:20250703T115920Z
UID:10007327-694051200-694051200@www.discoverhollywood.com
SUMMARY:Jesus Ride
DESCRIPTION:DesignHTMLWords: 0   Characters: 0
URL:https://www.discoverhollywood.com/event/jesus-ride/
LOCATION:Son of Semele (SOSE)\, 3301 Beverly Blvd\, Los Angeles\, California
END:VEVENT
BEGIN:VEVENT
DTSTART;TZID=Asia/Kolkata:19901201T000000
DTEND;TZID=Asia/Kolkata:19901201T000000
DTSTAMP:20260422T084146
CREATED:20250709T085826Z
LAST-MODIFIED:20250709T085826Z
UID:10008381-660009600-660009600@www.discoverhollywood.com
SUMMARY:Leonix Movement Collective
DESCRIPTION:Company Creation Festival is Son of Semele’s annual festival of new works generated by ensembles%2c using unconventional means. Four productions are presented in repertory over four weeks through January and February.DesignHTMLWords: 31   Characters: 212
URL:https://www.discoverhollywood.com/event/leonix-movement-collective/
LOCATION:Son of Semele (SOSE)\, 3301 Beverly Blvd\, Los Angeles\, California
END:VEVENT
BEGIN:VEVENT
DTSTART;TZID=Asia/Kolkata:19881125T000000
DTEND;TZID=Asia/Kolkata:19881125T000000
DTSTAMP:20260422T084146
CREATED:20250709T124003Z
LAST-MODIFIED:20250709T124004Z
UID:10008857-596419200-596419200@www.discoverhollywood.com
SUMMARY:Marion Bridge
DESCRIPTION:This comedy-drama follows three headstrong sisters who converge on their ancestral home to find they have everything and nothing in common.DesignHTMLWords: 21   Characters: 137
URL:https://www.discoverhollywood.com/event/marion-bridge/
LOCATION:Son of Semele (SOSE)\, 3301 Beverly Blvd\, Los Angeles\, California
END:VEVENT
BEGIN:VEVENT
DTSTART;TZID=Asia/Kolkata:19880911T000000
DTEND;TZID=Asia/Kolkata:19880911T000000
DTSTAMP:20260422T084146
CREATED:20250709T124326Z
LAST-MODIFIED:20250709T124326Z
UID:10008932-589939200-589939200@www.discoverhollywood.com
SUMMARY:Mary Stuart
DESCRIPTION:DesignHTMLWords: 0   Characters: 0
URL:https://www.discoverhollywood.com/event/mary-stuart/
LOCATION:Son of Semele (SOSE)\, 3301 Beverly Blvd\, Los Angeles\, California
END:VEVENT
BEGIN:VEVENT
DTSTART;TZID=Asia/Kolkata:19880519T000000
DTEND;TZID=Asia/Kolkata:19880519T000000
DTSTAMP:20260422T084146
CREATED:20250710T094624Z
LAST-MODIFIED:20250710T094624Z
UID:10009047-580003200-580003200@www.discoverhollywood.com
SUMMARY:Meat
DESCRIPTION:DesignHTMLWords: 0   Characters: 0
URL:https://www.discoverhollywood.com/event/meat/
LOCATION:Son of Semele (SOSE)\, 3301 Beverly Blvd\, Los Angeles\, California
END:VEVENT
BEGIN:VEVENT
DTSTART;TZID=Asia/Kolkata:19880325T000000
DTEND;TZID=Asia/Kolkata:19880325T000000
DTSTAMP:20260422T084146
CREATED:20250710T095142Z
LAST-MODIFIED:20250710T095142Z
UID:10009102-575251200-575251200@www.discoverhollywood.com
SUMMARY:Men On Boats
DESCRIPTION:%3cdiv%3e\n	%3cspan%3eMasculinity and manifest destiny meet their gender-flipped match in this hilarious spin on the journals of Grand Canyon explorer John Wesley Powell. The New York Times hailed the play’s “carefully exaggerated style that both teases and cozies up to the clichés of the archetypal hero adventurer.”%26nbsp%3b%3c/span%3e\n%3c/div%3e\n%3cdiv%3e\n	%3cbr%3e\n%3c/div%3e\n%3ca href%3d%22https%3a//www.sonofsemele.org/%22%3ehttps%3a//www.sonofsemele.org/%3c/a%3eDesignHTMLWords: 47   Characters: 322
URL:https://www.discoverhollywood.com/event/men-on-boats/
LOCATION:Son of Semele (SOSE)\, 3301 Beverly Blvd\, Los Angeles\, California
END:VEVENT
BEGIN:VEVENT
DTSTART;TZID=Asia/Kolkata:19870206T000000
DTEND;TZID=Asia/Kolkata:19870206T000000
DTSTAMP:20260422T084146
CREATED:20250710T101753Z
LAST-MODIFIED:20250710T101753Z
UID:10009515-539568000-539568000@www.discoverhollywood.com
SUMMARY:Mr. Crow
DESCRIPTION:%3cspan%3eMr. Crow is a creature who was born out of the memory of someone who died of suicide. Liberated from death%2c he dances at his own funeral and laughs at those who try to explain his death with a simple reason.%26nbsp%3b%3c/span%3e\n%3cdiv%3e\n	%3cspan%3e%3cbr%3e%3c/span%3e\n%3c/div%3e\n%3cdiv%3e\n	%3cspan%3e%3cspan%3e%3ca href%3d%22https%3a//www.artful.ly/son-of-semele-ensemble%22 target%3d%22_blank%22%3ehttps%3a//www.artful.ly/son-of-semele-ensemble%3c/a%3e%3c/span%3e%3c/span%3e\n%3c/div%3eDesignHTMLWords: 42   Characters: 245
URL:https://www.discoverhollywood.com/event/mr-crow/
LOCATION:Son of Semele (SOSE)\, 3301 Beverly Blvd\, Los Angeles\, California
END:VEVENT
BEGIN:VEVENT
DTSTART;TZID=Asia/Kolkata:19861101T000000
DTEND;TZID=Asia/Kolkata:19861101T000000
DTSTAMP:20260422T084146
CREATED:20250710T115223Z
LAST-MODIFIED:20250710T115223Z
UID:10009612-531187200-531187200@www.discoverhollywood.com
SUMMARY:My Echo\, My Shadow
DESCRIPTION:%3cem%3eMy Echo%2c My Shadow…%3c/em%3e is the sequel to\n%3cem%3eAsylum%3c/em%3e%2c which premiered at Son of Semele Ensemble in 2013%2c as part of the Company Creation Festival. Rising out of\n%3cem%3eAsylum%27s%3c/em%3e descent into madness%2c\n%3cem%3eMy Echo%2c My Shadow…%3c/em%3e begs the question%2c %22Who is sane%2c what is normal%2c and who decides%3f%22DesignHTMLWords: 48   Characters: 254
URL:https://www.discoverhollywood.com/event/my-echo-my-shadow/
LOCATION:Son of Semele (SOSE)\, 3301 Beverly Blvd\, Los Angeles\, California
END:VEVENT
BEGIN:VEVENT
DTSTART;TZID=Asia/Kolkata:19850907T000000
DTEND;TZID=Asia/Kolkata:19850907T000000
DTSTAMP:20260422T084146
CREATED:20250710T121907Z
LAST-MODIFIED:20250716T063902Z
UID:10010032-494899200-494899200@www.discoverhollywood.com
SUMMARY:Of Government
DESCRIPTION:Need to refill your cup%3f Join Ms. Marjorie Blain and friends for an evening of songs%2c tasty snacks%2c and a DIY pageant celebrating the often overlooked “feminine” labor that binds our communities together. Directed by Kate MotzenbackerDesignHTMLWords: 37   Characters: 229
URL:https://www.discoverhollywood.com/event/of-government/
LOCATION:Son of Semele (SOSE)\, 3301 Beverly Blvd\, Los Angeles\, California
END:VEVENT
BEGIN:VEVENT
DTSTART;TZID=Asia/Kolkata:19850701T000000
DTEND;TZID=Asia/Kolkata:19850701T000000
DTSTAMP:20260422T084146
CREATED:20250710T122441Z
LAST-MODIFIED:20250716T064820Z
UID:10010100-489024000-489024000@www.discoverhollywood.com
SUMMARY:On Emotion
DESCRIPTION:DesignHTMLWords: 0   Characters: 0
URL:https://www.discoverhollywood.com/event/on-emotion/
LOCATION:Son of Semele (SOSE)\, 3301 Beverly Blvd\, Los Angeles\, California
END:VEVENT
BEGIN:VEVENT
DTSTART;TZID=Asia/Kolkata:19850509T000000
DTEND;TZID=Asia/Kolkata:19850509T000000
DTSTAMP:20260422T084146
CREATED:20250710T122704Z
LAST-MODIFIED:20250710T122704Z
UID:10010153-484444800-484444800@www.discoverhollywood.com
SUMMARY:Onion Creek
DESCRIPTION:DesignHTMLWords: 0   Characters: 0
URL:https://www.discoverhollywood.com/event/onion-creek/
LOCATION:Son of Semele (SOSE)\, 3301 Beverly Blvd\, Los Angeles\, California
END:VEVENT
BEGIN:VEVENT
DTSTART;TZID=Asia/Kolkata:19821006T000000
DTEND;TZID=Asia/Kolkata:19821006T000000
DTSTAMP:20260422T084146
CREATED:20250714T093708Z
LAST-MODIFIED:20250714T093708Z
UID:10010669-402710400-402710400@www.discoverhollywood.com
SUMMARY:Quick Creation Festival
DESCRIPTION:%3cdiv%3e\n	%3cspan%3eQuick Creation Festival %28QCF%29%3c/span%3e\n	%3cspan%3e%26nbsp%3bexists to support the creation and production of new and innovative short plays of up to 20 minutes in length. The festival presents two programs%2c each featuring three short works. Each program will be presented 3 times over the course of a single festival weekend.%3c/span%3e\n%3c/div%3e\n%3cdiv%3e\n	%3cbr%3e\n%3c/div%3e\n%3ca href%3d%22https%3a//www.sonofsemele.org/quick-creation-festival/%22%3ehttps%3a//www.sonofsemele.org/quick-creation-festival/%3c/a%3eDesignHTMLWords: 50   Characters: 340
URL:https://www.discoverhollywood.com/event/quick-creation-festival/
LOCATION:Son of Semele (SOSE)\, 3301 Beverly Blvd\, Los Angeles\, California
END:VEVENT
BEGIN:VEVENT
DTSTART;TZID=Asia/Kolkata:19820608T000000
DTEND;TZID=Asia/Kolkata:19820608T000000
DTSTAMP:20260422T084146
CREATED:20250714T094147Z
LAST-MODIFIED:20250714T094147Z
UID:10010789-392342400-392342400@www.discoverhollywood.com
SUMMARY:Reactor
DESCRIPTION:DesignHTMLWords: 0   Characters: 0
URL:https://www.discoverhollywood.com/event/reactor/
LOCATION:Son of Semele (SOSE)\, 3301 Beverly Blvd\, Los Angeles\, California
END:VEVENT
BEGIN:VEVENT
DTSTART;TZID=Asia/Kolkata:19820201T000000
DTEND;TZID=Asia/Kolkata:19820201T000000
DTSTAMP:20260422T084146
CREATED:20250714T094731Z
LAST-MODIFIED:20250714T094731Z
UID:10010916-381369600-381369600@www.discoverhollywood.com
SUMMARY:Retrocade: Level Two
DESCRIPTION:%3cspan%3eThe 2018 hit evolves with the next level of a theatrical choose-your-own-adventure featuring romance%2c retro video games and NBA Jam%21 Inspired by modern day role-playing video games%2c one invited guest will “play” live%2c taking on the role of a teenager who has recently moved to a new high school%3c/span%3eDesignHTMLWords: 49   Characters: 286
URL:https://www.discoverhollywood.com/event/retrocade-level-two/
LOCATION:Son of Semele (SOSE)\, 3301 Beverly Blvd\, Los Angeles\, California
END:VEVENT
BEGIN:VEVENT
DTSTART;TZID=Asia/Kolkata:19811120T000000
DTEND;TZID=Asia/Kolkata:19811120T000000
DTSTAMP:20260422T084146
CREATED:20250714T100307Z
LAST-MODIFIED:20250714T100307Z
UID:10010989-375062400-375062400@www.discoverhollywood.com
SUMMARY:Ride: A Life With Tobacco
DESCRIPTION:%3cstrong%3eRIDE%3c/strong%3e is a non-linear%2c solo theatre piece delivered with the use of spoken word%2c multi-media and characters. At her father%27s gravesite%2c Cheryl delivers a poetic story telling about Tobacco. It%27s an honoring of Tobacco. An offering of gratitude to the one that has been making love to her since she can remember. Tracing the roots back to birth%2c to the home it has in her DNA%2c the relief%2c the happiness and the hold.\n%3cbr%3eDesignHTMLWords: 73   Characters: 399
URL:https://www.discoverhollywood.com/event/ride-a-life-with-tobacco/
LOCATION:Son of Semele (SOSE)\, 3301 Beverly Blvd\, Los Angeles\, California
END:VEVENT
BEGIN:VEVENT
DTSTART;TZID=Asia/Kolkata:19811013T000000
DTEND;TZID=Asia/Kolkata:19811013T000000
DTSTAMP:20260422T084146
CREATED:20250714T100502Z
LAST-MODIFIED:20250714T100502Z
UID:10011027-371779200-371779200@www.discoverhollywood.com
SUMMARY:Roadkill Confidential
DESCRIPTION:DesignHTMLWords: 0   Characters: 0
URL:https://www.discoverhollywood.com/event/roadkill-confidential/
LOCATION:Son of Semele (SOSE)\, 3301 Beverly Blvd\, Los Angeles\, California
END:VEVENT
BEGIN:VEVENT
DTSTART;TZID=Asia/Kolkata:19800312T000000
DTEND;TZID=Asia/Kolkata:19800312T000000
DTSTAMP:20260422T084146
CREATED:20250714T113047Z
LAST-MODIFIED:20250714T113047Z
UID:10011407-321667200-321667200@www.discoverhollywood.com
SUMMARY:Roses
DESCRIPTION:DesignHTMLWords: 0   Characters: 0
URL:https://www.discoverhollywood.com/event/roses/
LOCATION:Son of Semele (SOSE)\, 3301 Beverly Blvd\, Los Angeles\, California
END:VEVENT
BEGIN:VEVENT
DTSTART;TZID=Asia/Kolkata:19781003T000000
DTEND;TZID=Asia/Kolkata:19781003T000000
DTSTAMP:20260422T084146
CREATED:20250714T124230Z
LAST-MODIFIED:20250714T124230Z
UID:10012111-276220800-276220800@www.discoverhollywood.com
SUMMARY:Slaughter City
DESCRIPTION:DesignHTMLWords: 0   Characters: 0
URL:https://www.discoverhollywood.com/event/slaughter-city/
LOCATION:Son of Semele (SOSE)\, 3301 Beverly Blvd\, Los Angeles\, California
END:VEVENT
END:VCALENDAR