BEGIN:VCALENDAR
VERSION:2.0
PRODID:-//Discover Hollywood Magazine - ECPv6.15.20//NONSGML v1.0//EN
CALSCALE:GREGORIAN
METHOD:PUBLISH
X-WR-CALNAME:Discover Hollywood Magazine
X-ORIGINAL-URL:https://www.discoverhollywood.com
X-WR-CALDESC:Events for Discover Hollywood Magazine
REFRESH-INTERVAL;VALUE=DURATION:PT1H
X-Robots-Tag:noindex
X-PUBLISHED-TTL:PT1H
BEGIN:VTIMEZONE
TZID:Asia/Kolkata
BEGIN:STANDARD
TZOFFSETFROM:+0530
TZOFFSETTO:+0530
TZNAME:IST
DTSTART:19690101T000000
END:STANDARD
END:VTIMEZONE
BEGIN:VEVENT
DTSTART;TZID=Asia/Kolkata:20260423T005440
DTEND;TZID=Asia/Kolkata:20260423T005440
DTSTAMP:20260423T005440
CREATED:20250716T084311Z
LAST-MODIFIED:20250716T091516Z
UID:10015474-0-0@www.discoverhollywood.com
SUMMARY:Wrath
DESCRIPTION:DesignHTMLWords: 0   Characters: 0
URL:https://www.discoverhollywood.com/event/wrath/
LOCATION:Son of Semele (SOSE)\, 3301 Beverly Blvd\, Los Angeles\, California
END:VEVENT
BEGIN:VEVENT
DTSTART;TZID=Asia/Kolkata:20260423T005440
DTEND;TZID=Asia/Kolkata:20260423T005440
DTSTAMP:20260423T005440
CREATED:20250716T084142Z
LAST-MODIFIED:20250716T084142Z
UID:10015451-0-0@www.discoverhollywood.com
SUMMARY:Wonderful Life
DESCRIPTION:George Bailey’s struggle to grasp why life is worth living finds a fresh voice in this enchanting one-person retelling of Frank Capra’s classic film It’s A Wonderful LifeDesignHTMLWords: 28   Characters: 169
URL:https://www.discoverhollywood.com/event/wonderful-life-2/
LOCATION:Son of Semele (SOSE)\, 3301 Beverly Blvd\, Los Angeles\, California
END:VEVENT
BEGIN:VEVENT
DTSTART;TZID=Asia/Kolkata:20260423T005440
DTEND;TZID=Asia/Kolkata:20260423T005440
DTSTAMP:20260423T005440
CREATED:20250716T084055Z
LAST-MODIFIED:20250716T091342Z
UID:10015431-0-0@www.discoverhollywood.com
SUMMARY:Woman Parts
DESCRIPTION:%3cbr%3eDesignHTMLWords: 0   Characters: 0
URL:https://www.discoverhollywood.com/event/woman-parts/
LOCATION:Son of Semele (SOSE)\, 3301 Beverly Blvd\, Los Angeles\, California
END:VEVENT
BEGIN:VEVENT
DTSTART;TZID=Asia/Kolkata:20260423T005440
DTEND;TZID=Asia/Kolkata:20260423T005440
DTSTAMP:20260423T005440
CREATED:20250716T083635Z
LAST-MODIFIED:20250716T083635Z
UID:10015360-0-0@www.discoverhollywood.com
SUMMARY:Wild Man
DESCRIPTION:DesignHTMLWords: 0   Characters: 0
URL:https://www.discoverhollywood.com/event/wild-man/
LOCATION:Son of Semele (SOSE)\, 3301 Beverly Blvd\, Los Angeles\, California
END:VEVENT
BEGIN:VEVENT
DTSTART;TZID=Asia/Kolkata:20260423T005440
DTEND;TZID=Asia/Kolkata:20260423T005440
DTSTAMP:20260423T005440
CREATED:20250716T083635Z
LAST-MODIFIED:20250716T083635Z
UID:10015361-0-0@www.discoverhollywood.com
SUMMARY:Wild Man in Rome
DESCRIPTION:DesignHTMLWords: 0   Characters: 0
URL:https://www.discoverhollywood.com/event/wild-man-in-rome/
LOCATION:Son of Semele (SOSE)\, 3301 Beverly Blvd\, Los Angeles\, California
END:VEVENT
BEGIN:VEVENT
DTSTART;TZID=Asia/Kolkata:20260423T005440
DTEND;TZID=Asia/Kolkata:20260423T005440
DTSTAMP:20260423T005440
CREATED:20250716T082640Z
LAST-MODIFIED:20250716T082640Z
UID:10015282-0-0@www.discoverhollywood.com
SUMMARY:What the Moon Saw\, or\, I Only Appear to Be Dead
DESCRIPTION:DesignHTMLWords: 0   Characters: 0
URL:https://www.discoverhollywood.com/event/what-the-moon-saw-or-i-only-appear-to-be-dead/
LOCATION:Son of Semele (SOSE)\, 3301 Beverly Blvd\, Los Angeles\, California
END:VEVENT
BEGIN:VEVENT
DTSTART;TZID=Asia/Kolkata:20260423T005440
DTEND;TZID=Asia/Kolkata:20260423T005440
DTSTAMP:20260423T005440
CREATED:20250716T082232Z
LAST-MODIFIED:20250716T082232Z
UID:10015132-0-0@www.discoverhollywood.com
SUMMARY:Wallowa: The Vanishing of Maude Leray
DESCRIPTION:DesignHTMLWords: 0   Characters: 0
URL:https://www.discoverhollywood.com/event/wallowa-the-vanishing-of-maude-leray/
LOCATION:Son of Semele (SOSE)\, 3301 Beverly Blvd\, Los Angeles\, California
END:VEVENT
BEGIN:VEVENT
DTSTART;TZID=Asia/Kolkata:20260423T005440
DTEND;TZID=Asia/Kolkata:20260423T005440
DTSTAMP:20260423T005440
CREATED:20250716T081421Z
LAST-MODIFIED:20250716T081421Z
UID:10014888-0-0@www.discoverhollywood.com
SUMMARY:Unmericful Good Fortune
DESCRIPTION:DesignHTMLWords: 0   Characters: 0
URL:https://www.discoverhollywood.com/event/unmericful-good-fortune/
LOCATION:Son of Semele (SOSE)\, 3301 Beverly Blvd\, Los Angeles\, California
END:VEVENT
BEGIN:VEVENT
DTSTART;TZID=Asia/Kolkata:20260423T005440
DTEND;TZID=Asia/Kolkata:20260423T005440
DTSTAMP:20260423T005440
CREATED:20250714T114217Z
LAST-MODIFIED:20250714T114217Z
UID:10011601-0-0@www.discoverhollywood.com
SUMMARY:Sand Moon
DESCRIPTION:%3cspan%3eThe future is unpredictable%2c but what about the past%3f When a brother and sister invite their respective girlfriends on family vacations%2c their shared history takes on unsettling new dimensions.%26nbsp%3b%3c/span%3e\n%3cdiv%3e\n	%3cspan%3e%3cbr%3e%3c/span%3e\n%3c/div%3e\n%3cdiv%3e\n	%3cspan%3e%3ca href%3d%22http%3a//www.sonofsemele.org/%22 target%3d%22_blank%22%3ewww.sonofsemele.org/%3c/a%3e%3c/span%3e\n%3c/div%3eDesignHTMLWords: 30   Characters: 211
URL:https://www.discoverhollywood.com/event/sand-moon/
LOCATION:Son of Semele (SOSE)\, 3301 Beverly Blvd\, Los Angeles\, California
END:VEVENT
END:VCALENDAR