BEGIN:VCALENDAR
VERSION:2.0
PRODID:-//Discover Hollywood Magazine - ECPv6.15.20//NONSGML v1.0//EN
CALSCALE:GREGORIAN
METHOD:PUBLISH
X-WR-CALNAME:Discover Hollywood Magazine
X-ORIGINAL-URL:https://www.discoverhollywood.com
X-WR-CALDESC:Events for Discover Hollywood Magazine
REFRESH-INTERVAL;VALUE=DURATION:PT1H
X-Robots-Tag:noindex
X-PUBLISHED-TTL:PT1H
BEGIN:VTIMEZONE
TZID:America/Los_Angeles
BEGIN:DAYLIGHT
TZOFFSETFROM:-0800
TZOFFSETTO:-0700
TZNAME:PDT
DTSTART:20250309T100000
END:DAYLIGHT
BEGIN:STANDARD
TZOFFSETFROM:-0700
TZOFFSETTO:-0800
TZNAME:PST
DTSTART:20251102T090000
END:STANDARD
BEGIN:DAYLIGHT
TZOFFSETFROM:-0800
TZOFFSETTO:-0700
TZNAME:PDT
DTSTART:20260308T100000
END:DAYLIGHT
BEGIN:STANDARD
TZOFFSETFROM:-0700
TZOFFSETTO:-0800
TZNAME:PST
DTSTART:20261101T090000
END:STANDARD
BEGIN:DAYLIGHT
TZOFFSETFROM:-0800
TZOFFSETTO:-0700
TZNAME:PDT
DTSTART:20270314T100000
END:DAYLIGHT
BEGIN:STANDARD
TZOFFSETFROM:-0700
TZOFFSETTO:-0800
TZNAME:PST
DTSTART:20271107T090000
END:STANDARD
END:VTIMEZONE
BEGIN:VTIMEZONE
TZID:Asia/Kolkata
BEGIN:STANDARD
TZOFFSETFROM:+0530
TZOFFSETTO:+0530
TZNAME:IST
DTSTART:19890101T000000
END:STANDARD
END:VTIMEZONE
BEGIN:VEVENT
DTSTART;TZID=America/Los_Angeles:20260225T193000
DTEND;TZID=America/Los_Angeles:20260225T213000
DTSTAMP:20260425T060149
CREATED:20260216T011855Z
LAST-MODIFIED:20260216T011855Z
UID:10029533-1772047800-1772055000@www.discoverhollywood.com
SUMMARY:3 Year Conservatory Class of 2027 Language Projects
DESCRIPTION:Experience the visceral power of classical storytelling as the Stella Adler Studio 3-Year Conservatory Class of 2027 presents their Language Rehearsal Projects. Hosted in the intimate and storied atmosphere of The Betsy Theater\, this showcase brings a fresh\, contemporary vitality to the ancient myths of Ovid’s Metamorphoses. \nThe vibe is one of deep intellectual curiosity and creative discipline—a hallmark of the Stella Adler tradition. The evening offers a sophisticated exploration of heightened language and physical transformation\, where the timeless tales of Pyramus and Thisbe\, Mars and Venus\, and the daughters of Minyas are reimagined through the lens of emerging artists. It is a welcoming invitation to witness the rigorous process of actor training as these students bridge the gap between ancient text and modern performance. \nUnder the visionary guidance of directors Christa Kimlicko Jones and Kern McFadden\, the ensemble navigates the rich\, lyrical translation by Charles Martin. These performers dive into the complexities of desire\, change\, and the supernatural with the sincerity and technical prowess the studio is renowned for. Join us for a celebratory evening that honors the enduring legacy of the classics and the bold\, new voices of the theater’s next generation.
URL:https://www.discoverhollywood.com/event/3-year-conservatory-class-of-2027-language-projects/
LOCATION:Stella Adler Theatre\, 6773 Hollywood Blvd\, Los Angeles\, California
CATEGORIES:Staged Reading
END:VEVENT
BEGIN:VEVENT
DTSTART;TZID=America/Los_Angeles:20260218T190000
DTEND;TZID=America/Los_Angeles:20260218T210000
DTSTAMP:20260425T060149
CREATED:20260216T010759Z
LAST-MODIFIED:20260216T010759Z
UID:10029532-1771441200-1771448400@www.discoverhollywood.com
SUMMARY:Harold Clurman Poetry Reading Series presents: Mahogany L. Browne
DESCRIPTION:Step into an evening of profound lyrical power as the Harold Clurman Poetry Reading Series proudly hosts the incomparable Mahogany L. Browne. Held within the esteemed and historic setting of the Stella Adler Center for the Arts\, this event promises a sophisticated yet deeply intimate exploration of the human experience through the lens of one of contemporary literature’s most vital voices. \nThe vibe is one of soulful reflection and urgent beauty. It is an invitation to experience the transformative power of the spoken word in a space that honors the intersection of art and social justice. Attendees can expect an atmosphere that is both intellectually stimulating and emotionally resonant\, as the room fills with the rhythmic\, truth-telling grace that has become Browne’s hallmark. \nThe spotlight remains firmly on the artistry of Mahogany L. Browne—a Kennedy Center Next 50 Fellow\, NY Emmy nominee\, and winner of the 2024 Paterson Poetry Prize. As Lincoln Center’s inaugural poet-in-residence\, Browne brings a magnetic presence and a masterful command of language to the stage. Whether she is sharing selections from her award-winning collection Chrome Valley or her newest novel A Bird in the Air Means We Can Still Breathe\, her performance is a testament to the resilience of the spirit. Join us for a celebratory evening that reaffirms poetry as a vital force for connection and change.
URL:https://www.discoverhollywood.com/event/harold-clurman-poetry-reading-series-presents-mahogany-l-browne/
LOCATION:Stella Adler Theatre\, 6773 Hollywood Blvd\, Los Angeles\, California
CATEGORIES:Poetry Reading
END:VEVENT
BEGIN:VEVENT
DTSTART;TZID=Asia/Kolkata:20210225T000000
DTEND;TZID=Asia/Kolkata:20210225T000000
DTSTAMP:20260425T060149
CREATED:20250630T095056Z
LAST-MODIFIED:20250630T095056Z
UID:10001371-1614211200-1614211200@www.discoverhollywood.com
SUMMARY:A Light in Dark Places
DESCRIPTION:%3cspan%3eA Light in Dark Places is a play festival made up of five short plays that touch on the topic of suicide and is followed by a reception each night with a volunteer from the AFSP present.%26nbsp%3b%3c/span%3e\n%3cspan%3e%3cspan%3e%3ca href%3d%22http%3a//stellaadler.la/a-light-in-dark-places-2018/%22 target%3d%22_blank%22%3estellaadler.la/a-light-in-dark-places-2018%3c/a%3e%3c/span%3e%3c/span%3eDesignHTMLWords: 38   Characters: 223
URL:https://www.discoverhollywood.com/event/a-light-in-dark-places-2/
LOCATION:Stella Adler Theatre\, 6773 Hollywood Blvd\, Los Angeles\, California
END:VEVENT
BEGIN:VEVENT
DTSTART;TZID=Asia/Kolkata:20200609T000000
DTEND;TZID=Asia/Kolkata:20200609T000000
DTSTAMP:20260425T060149
CREATED:20250630T095947Z
LAST-MODIFIED:20250630T095947Z
UID:10001458-1591660800-1591660800@www.discoverhollywood.com
SUMMARY:A View From The Bridge
DESCRIPTION:%3cbr%3eDesignHTMLWords: 0   Characters: 0
URL:https://www.discoverhollywood.com/event/a-view-from-the-bridge-2/
LOCATION:Stella Adler Theatre\, 6773 Hollywood Blvd\, Los Angeles\, California
END:VEVENT
BEGIN:VEVENT
DTSTART;TZID=Asia/Kolkata:20190802T000000
DTEND;TZID=Asia/Kolkata:20190802T000000
DTSTAMP:20260425T060149
CREATED:20250630T102833Z
LAST-MODIFIED:20250630T102833Z
UID:10001557-1564704000-1564704000@www.discoverhollywood.com
SUMMARY:Adlerfest
DESCRIPTION:DesignHTMLWords: 0   Characters: 0
URL:https://www.discoverhollywood.com/event/adlerfest-2/
LOCATION:Stella Adler Theatre\, 6773 Hollywood Blvd\, Los Angeles\, California
END:VEVENT
BEGIN:VEVENT
DTSTART;TZID=Asia/Kolkata:20180208T000000
DTEND;TZID=Asia/Kolkata:20180208T000000
DTSTAMP:20260425T060149
CREATED:20250630T103925Z
LAST-MODIFIED:20250630T103925Z
UID:10001737-1518048000-1518048000@www.discoverhollywood.com
SUMMARY:All My Sons
DESCRIPTION:DesignHTMLWords: 0   Characters: 0
URL:https://www.discoverhollywood.com/event/all-my-sons-4/
LOCATION:Stella Adler Theatre\, 6773 Hollywood Blvd\, Los Angeles\, California
END:VEVENT
BEGIN:VEVENT
DTSTART;TZID=Asia/Kolkata:20170207T000000
DTEND;TZID=Asia/Kolkata:20170207T000000
DTSTAMP:20260425T060149
CREATED:20250630T105427Z
LAST-MODIFIED:20250630T105427Z
UID:10001859-1486425600-1486425600@www.discoverhollywood.com
SUMMARY:Amy and Elliot
DESCRIPTION:DesignHTMLWords: 0   Characters: 0
URL:https://www.discoverhollywood.com/event/amy-and-elliot-2/
LOCATION:Stella Adler Theatre\, 6773 Hollywood Blvd\, Los Angeles\, California
END:VEVENT
BEGIN:VEVENT
DTSTART;TZID=Asia/Kolkata:20130401T000000
DTEND;TZID=Asia/Kolkata:20130401T000000
DTSTAMP:20260425T060149
CREATED:20250630T120512Z
LAST-MODIFIED:20250630T120512Z
UID:10002486-1364774400-1364774400@www.discoverhollywood.com
SUMMARY:Barefoot in the Park
DESCRIPTION:DesignHTMLWords: 0   Characters: 0
URL:https://www.discoverhollywood.com/event/barefoot-in-the-park/
LOCATION:Stella Adler Theatre\, 6773 Hollywood Blvd\, Los Angeles\, California
END:VEVENT
BEGIN:VEVENT
DTSTART;TZID=Asia/Kolkata:20110909T000000
DTEND;TZID=Asia/Kolkata:20110909T000000
DTSTAMP:20260425T060149
CREATED:20250630T123019Z
LAST-MODIFIED:20250630T123019Z
UID:10002771-1315526400-1315526400@www.discoverhollywood.com
SUMMARY:Beyond Sight
DESCRIPTION:DesignHTMLWords: 0   Characters: 0
URL:https://www.discoverhollywood.com/event/beyond-sight/
LOCATION:Stella Adler Theatre\, 6773 Hollywood Blvd\, Los Angeles\, California
END:VEVENT
BEGIN:VEVENT
DTSTART;TZID=Asia/Kolkata:20101231T000000
DTEND;TZID=Asia/Kolkata:20101231T000000
DTSTAMP:20260425T060149
CREATED:20250630T123435Z
LAST-MODIFIED:20250630T123435Z
UID:10002898-1293753600-1293753600@www.discoverhollywood.com
SUMMARY:Bitch Please Comedy
DESCRIPTION:%3cp%3eBitch Please Comedy will be debuting brand new sketches and screening several videos%2c including our Halloween episode 10 %22Halloween House.%22%26nbsp%3b In honor of the Holiday%2c there will be a %3cb%3eHalloween party with the cast after the show.%26nbsp%3b Costumes are encouraged%21%3c/b%3e%26nbsp%3b There will also be Bitch Please merchandise available for purchase%2c which helps us make more funny videos for your viewing pleasure%2c as well as a donation-only bar%21%26nbsp%3b%3c/p%3eDesignHTMLWords: 67   Characters: 408
URL:https://www.discoverhollywood.com/event/bitch-please-comedy/
LOCATION:Stella Adler Theatre\, 6773 Hollywood Blvd\, Los Angeles\, California
END:VEVENT
BEGIN:VEVENT
DTSTART;TZID=Asia/Kolkata:20101211T000000
DTEND;TZID=Asia/Kolkata:20101211T000000
DTSTAMP:20260425T060149
CREATED:20250630T123837Z
LAST-MODIFIED:20250630T123837Z
UID:10002908-1292025600-1292025600@www.discoverhollywood.com
SUMMARY:Black History Month
DESCRIPTION:DesignHTMLWords: 0   Characters: 0
URL:https://www.discoverhollywood.com/event/black-history-month/
LOCATION:Stella Adler Theatre\, 6773 Hollywood Blvd\, Los Angeles\, California
END:VEVENT
BEGIN:VEVENT
DTSTART;TZID=Asia/Kolkata:20101209T000000
DTEND;TZID=Asia/Kolkata:20101209T000000
DTSTAMP:20260425T060149
CREATED:20250630T123837Z
LAST-MODIFIED:20250630T123837Z
UID:10002909-1291852800-1291852800@www.discoverhollywood.com
SUMMARY:Black History Month\, Towne Street Theatre
DESCRIPTION:DesignHTMLWords: 0   Characters: 0
URL:https://www.discoverhollywood.com/event/black-history-month-towne-street-theatre/
LOCATION:Stella Adler Theatre\, 6773 Hollywood Blvd\, Los Angeles\, California
END:VEVENT
BEGIN:VEVENT
DTSTART;TZID=Asia/Kolkata:20090703T000000
DTEND;TZID=Asia/Kolkata:20090703T000000
DTSTAMP:20260425T060149
CREATED:20250630T131356Z
LAST-MODIFIED:20250716T130751Z
UID:10003171-1246579200-1246579200@www.discoverhollywood.com
SUMMARY:Brandee Built on Crazee
DESCRIPTION:DesignHTMLWords: 0   Characters: 0
URL:https://www.discoverhollywood.com/event/brandee-built-on-crazee/
LOCATION:Stella Adler Theatre\, 6773 Hollywood Blvd\, Los Angeles\, California
END:VEVENT
BEGIN:VEVENT
DTSTART;TZID=Asia/Kolkata:20090305T000000
DTEND;TZID=Asia/Kolkata:20090305T000000
DTSTAMP:20260425T060149
CREATED:20250701T061515Z
LAST-MODIFIED:20250701T061515Z
UID:10003226-1236211200-1236211200@www.discoverhollywood.com
SUMMARY:Brighton Beach Memoirs
DESCRIPTION:Dreaming of baseball and girls%2c Eugene must cope with the mundane existence of his family life in Brooklyn%3a formidable mother%2c overworked father%2c and his worldly older brother Stanley. Throw into the mix his widowed Aunt Blanche%2c her two young %28but rapidly aging%29 daughters and Grandpa the Socialist and you have a recipe for hilarity%2c served up Simon-style.DesignHTMLWords: 57   Characters: 347
URL:https://www.discoverhollywood.com/event/brighton-beach-memoirs/
LOCATION:Stella Adler Theatre\, 6773 Hollywood Blvd\, Los Angeles\, California
END:VEVENT
BEGIN:VEVENT
DTSTART;TZID=Asia/Kolkata:20090303T000000
DTEND;TZID=Asia/Kolkata:20090303T000000
DTSTAMP:20260425T060149
CREATED:20250701T061515Z
LAST-MODIFIED:20250701T061515Z
UID:10003227-1236038400-1236038400@www.discoverhollywood.com
SUMMARY:Brighton Beach Memoirs
DESCRIPTION:Dreaming of baseball and girls%2c Eugene must cope with the mundane existence of his family life in Brooklyn%3a formidable mother%2c overworked father%2c and his worldly older brother Stanley. Throw into the mix his widowed Aunt Blanche%2c her two young %28but rapidly aging%29 daughters and Grandpa the Socialist and you have a recipe for hilarity%2c served up Simon-style.DesignHTMLWords: 57   Characters: 347
URL:https://www.discoverhollywood.com/event/brighton-beach-memoirs-2/
LOCATION:Stella Adler Theatre\, 6773 Hollywood Blvd\, Los Angeles\, California
END:VEVENT
BEGIN:VEVENT
DTSTART;TZID=Asia/Kolkata:20080608T000000
DTEND;TZID=Asia/Kolkata:20080608T000000
DTSTAMP:20260425T060149
CREATED:20250701T063325Z
LAST-MODIFIED:20250701T063325Z
UID:10003361-1212883200-1212883200@www.discoverhollywood.com
SUMMARY:Burton
DESCRIPTION:DesignHTMLWords: 0   Characters: 0
URL:https://www.discoverhollywood.com/event/burton-4/
LOCATION:Stella Adler Theatre\, 6773 Hollywood Blvd\, Los Angeles\, California
END:VEVENT
BEGIN:VEVENT
DTSTART;TZID=Asia/Kolkata:20061019T000000
DTEND;TZID=Asia/Kolkata:20061019T000000
DTSTAMP:20260425T060149
CREATED:20250701T081449Z
LAST-MODIFIED:20250701T081449Z
UID:10003565-1161216000-1161216000@www.discoverhollywood.com
SUMMARY:Chariot
DESCRIPTION:DesignHTMLWords: 0   Characters: 0
URL:https://www.discoverhollywood.com/event/chariot/
LOCATION:Stella Adler Theatre\, 6773 Hollywood Blvd\, Los Angeles\, California
END:VEVENT
BEGIN:VEVENT
DTSTART;TZID=Asia/Kolkata:20031021T000000
DTEND;TZID=Asia/Kolkata:20031021T000000
DTSTAMP:20260425T060149
CREATED:20250701T105742Z
LAST-MODIFIED:20250701T105742Z
UID:10004112-1066694400-1066694400@www.discoverhollywood.com
SUMMARY:CRE Theater by the Blind
DESCRIPTION:%3cbr%3eDesignHTMLWords: 0   Characters: 0
URL:https://www.discoverhollywood.com/event/cre-theater-by-the-blind/
LOCATION:Stella Adler Theatre\, 6773 Hollywood Blvd\, Los Angeles\, California
END:VEVENT
BEGIN:VEVENT
DTSTART;TZID=Asia/Kolkata:20020328T000000
DTEND;TZID=Asia/Kolkata:20020328T000000
DTSTAMP:20260425T060149
CREATED:20250701T120409Z
LAST-MODIFIED:20250701T120409Z
UID:10004398-1017273600-1017273600@www.discoverhollywood.com
SUMMARY:Daynaland
DESCRIPTION:DesignHTMLWords: 0   Characters: 0
URL:https://www.discoverhollywood.com/event/daynaland/
LOCATION:Stella Adler Theatre\, 6773 Hollywood Blvd\, Los Angeles\, California
END:VEVENT
BEGIN:VEVENT
DTSTART;TZID=Asia/Kolkata:19970702T000000
DTEND;TZID=Asia/Kolkata:19970702T000000
DTSTAMP:20260425T060149
CREATED:20250703T061909Z
LAST-MODIFIED:20250703T061909Z
UID:10005601-867801600-867801600@www.discoverhollywood.com
SUMMARY:Fool For Love
DESCRIPTION:%3ca href%3d%22https%3a//stellaadler.la/fool-for-love/%22%3ehttps%3a//stellaadler.la/fool-for-love/%3c/a%3eDesignHTMLWords: 1   Characters: 33
URL:https://www.discoverhollywood.com/event/fool-for-love-3/
LOCATION:Stella Adler Theatre\, 6773 Hollywood Blvd\, Los Angeles\, California
END:VEVENT
BEGIN:VEVENT
DTSTART;TZID=Asia/Kolkata:19970611T000000
DTEND;TZID=Asia/Kolkata:19970611T000000
DTSTAMP:20260425T060149
CREATED:20250703T061951Z
LAST-MODIFIED:20250703T061951Z
UID:10005622-865987200-865987200@www.discoverhollywood.com
SUMMARY:For The Special Ones
DESCRIPTION:DesignHTMLWords: 0   Characters: 0
URL:https://www.discoverhollywood.com/event/for-the-special-ones/
LOCATION:Stella Adler Theatre\, 6773 Hollywood Blvd\, Los Angeles\, California
END:VEVENT
BEGIN:VEVENT
DTSTART;TZID=Asia/Kolkata:19961207T000000
DTEND;TZID=Asia/Kolkata:19961207T000000
DTSTAMP:20260425T060149
CREATED:20250703T064210Z
LAST-MODIFIED:20250703T064210Z
UID:10005808-849916800-849916800@www.discoverhollywood.com
SUMMARY:FUBAR
DESCRIPTION:DesignHTMLWords: 0   Characters: 0
URL:https://www.discoverhollywood.com/event/fubar/
LOCATION:Stella Adler Theatre\, 6773 Hollywood Blvd\, Los Angeles\, California
END:VEVENT
BEGIN:VEVENT
DTSTART;TZID=Asia/Kolkata:19950606T000000
DTEND;TZID=Asia/Kolkata:19950606T000000
DTSTAMP:20260425T060149
CREATED:20250703T084549Z
LAST-MODIFIED:20250703T084549Z
UID:10006358-802396800-802396800@www.discoverhollywood.com
SUMMARY:Guilty
DESCRIPTION:GUILTY is the story of a young woman on trial%2c representing herself. The play takes the audience on a journey through every thought that goes through her mind from the time the judge asks%2c %22How do you plead%3f%22 to the time she answers.%26nbsp%3b%3cdiv%3e\n	%3cbr%3e\n%3c/div%3e\n%3cdiv%3e\n	%3ca href%3d%22http%3a//www.townestreetla.org./%22 target%3d%22_blank%22%3e%26nbsp%3bwww.townestreetla.org%3c/a%3e\n%3c/div%3eDesignHTMLWords: 44   Characters: 250
URL:https://www.discoverhollywood.com/event/guilty/
LOCATION:Stella Adler Theatre\, 6773 Hollywood Blvd\, Los Angeles\, California
END:VEVENT
BEGIN:VEVENT
DTSTART;TZID=Asia/Kolkata:19931120T000000
DTEND;TZID=Asia/Kolkata:19931120T000000
DTSTAMP:20260425T060149
CREATED:20250703T105656Z
LAST-MODIFIED:20250703T105656Z
UID:10006636-753753600-753753600@www.discoverhollywood.com
SUMMARY:I Am An Actor
DESCRIPTION:DesignHTMLWords: 0   Characters: 0
URL:https://www.discoverhollywood.com/event/i-am-an-actor/
LOCATION:Stella Adler Theatre\, 6773 Hollywood Blvd\, Los Angeles\, California
END:VEVENT
BEGIN:VEVENT
DTSTART;TZID=Asia/Kolkata:19930807T000000
DTEND;TZID=Asia/Kolkata:19930807T000000
DTSTAMP:20260425T060149
CREATED:20250703T105904Z
LAST-MODIFIED:20250703T105904Z
UID:10006741-744681600-744681600@www.discoverhollywood.com
SUMMARY:Imago Fest
DESCRIPTION:DesignHTMLWords: 0   Characters: 0
URL:https://www.discoverhollywood.com/event/imago-fest/
LOCATION:Stella Adler Theatre\, 6773 Hollywood Blvd\, Los Angeles\, California
END:VEVENT
BEGIN:VEVENT
DTSTART;TZID=Asia/Kolkata:19930806T000000
DTEND;TZID=Asia/Kolkata:19930806T000000
DTSTAMP:20260425T060149
CREATED:20250703T105904Z
LAST-MODIFIED:20250703T105904Z
UID:10006742-744595200-744595200@www.discoverhollywood.com
SUMMARY:ImagoFest
DESCRIPTION:DesignHTMLWords: 0   Characters: 0
URL:https://www.discoverhollywood.com/event/imagofest/
LOCATION:Stella Adler Theatre\, 6773 Hollywood Blvd\, Los Angeles\, California
END:VEVENT
BEGIN:VEVENT
DTSTART;TZID=Asia/Kolkata:19930705T000000
DTEND;TZID=Asia/Kolkata:19930705T000000
DTSTAMP:20260425T060149
CREATED:20250703T110052Z
LAST-MODIFIED:20250703T110052Z
UID:10006774-741830400-741830400@www.discoverhollywood.com
SUMMARY:In Response
DESCRIPTION:Towne Street Theatre presents a multi-author %22response%22 to systemic racism throughout American history. As artists of color%2c the company felt it had to respond to the recent numerous police shootings and brutality of unarmed black men and women.%26nbsp%3b Told through a collection of scenes%2c poetry%2c video%2c song%2c and movement from the 1800%27s to 2015%2c there will be talkbacks and a call for audience responses during the run of the show.DesignHTMLWords: 70   Characters: 415
URL:https://www.discoverhollywood.com/event/in-response/
LOCATION:Stella Adler Theatre\, 6773 Hollywood Blvd\, Los Angeles\, California
END:VEVENT
BEGIN:VEVENT
DTSTART;TZID=Asia/Kolkata:19930216T000000
DTEND;TZID=Asia/Kolkata:19930216T000000
DTSTAMP:20260425T060149
CREATED:20250703T111114Z
LAST-MODIFIED:20250703T111114Z
UID:10006913-729820800-729820800@www.discoverhollywood.com
SUMMARY:Isaac Babel and the Black Sea
DESCRIPTION:An imaginative look at the life%2c the loves%2c and the mystery of the great Soviet-era writer Isaac Babel. Babel%27s life spanned the birth of the Soviet Union through the Stalin era%2c and Timothy McNeil%27s new play delves into the mystery of this remarkable writer%2c as he comes of age and attempts to survive in the Age of Stalin.DesignHTMLWords: 58   Characters: 315
URL:https://www.discoverhollywood.com/event/isaac-babel-and-the-black-sea/
LOCATION:Stella Adler Theatre\, 6773 Hollywood Blvd\, Los Angeles\, California
END:VEVENT
BEGIN:VEVENT
DTSTART;TZID=Asia/Kolkata:19930215T000000
DTEND;TZID=Asia/Kolkata:19930215T000000
DTSTAMP:20260425T060149
CREATED:20250703T111114Z
LAST-MODIFIED:20250703T111114Z
UID:10006914-729734400-729734400@www.discoverhollywood.com
SUMMARY:Isaac Bright Presents
DESCRIPTION:%3cbr%3eDesignHTMLWords: 0   Characters: 0
URL:https://www.discoverhollywood.com/event/isaac-bright-presents/
LOCATION:Stella Adler Theatre\, 6773 Hollywood Blvd\, Los Angeles\, California
END:VEVENT
BEGIN:VEVENT
DTSTART;TZID=Asia/Kolkata:19901111T000000
DTEND;TZID=Asia/Kolkata:19901111T000000
DTSTAMP:20260425T060149
CREATED:20250709T090313Z
LAST-MODIFIED:20250709T090313Z
UID:10008401-658281600-658281600@www.discoverhollywood.com
SUMMARY:Let Freedom Ring
DESCRIPTION:DesignHTMLWords: 0   Characters: 0
URL:https://www.discoverhollywood.com/event/let-freedom-ring/
LOCATION:Stella Adler Theatre\, 6773 Hollywood Blvd\, Los Angeles\, California
END:VEVENT
END:VCALENDAR