BEGIN:VCALENDAR
VERSION:2.0
PRODID:-//Discover Hollywood Magazine - ECPv6.15.17//NONSGML v1.0//EN
CALSCALE:GREGORIAN
METHOD:PUBLISH
X-WR-CALNAME:Discover Hollywood Magazine
X-ORIGINAL-URL:https://www.discoverhollywood.com
X-WR-CALDESC:Events for Discover Hollywood Magazine
REFRESH-INTERVAL;VALUE=DURATION:PT1H
X-Robots-Tag:noindex
X-PUBLISHED-TTL:PT1H
BEGIN:VTIMEZONE
TZID:Asia/Kolkata
BEGIN:STANDARD
TZOFFSETFROM:+0530
TZOFFSETTO:+0530
TZNAME:IST
DTSTART:19710101T000000
END:STANDARD
END:VTIMEZONE
BEGIN:VEVENT
DTSTART;TZID=Asia/Kolkata:20191106T000000
DTEND;TZID=Asia/Kolkata:20191106T000000
DTSTAMP:20260422T135515
CREATED:20250630T102703Z
LAST-MODIFIED:20250630T102703Z
UID:10001525-1572998400-1572998400@www.discoverhollywood.com
SUMMARY:Ada and the Engine
DESCRIPTION:%3cp class%3d%22MsoNormal%22%3e%3cspan%3eIt’s a music-laced story of love%2c friendship%2c and the edgiest dreams of the future. Jane Austen meets Steve Jobs in this poignant pre-tech romance heralding the computer age.%3c/span%3e%3c/p%3e\n%3cp class%3d%22MsoNormal%22%3e%3ca href%3d%22http%3a//www.theatreunleashed.org/%22 target%3d%22_blank%22 style%3d%22font-family%3a%26quot%3bTimes New Roman%26quot%3b%2c serif%3b%22%3ehttp%3a//www.theatreunleashed.org/%3c/a%3e%3c/p%3eDesignHTMLWords: 29   Characters: 199
URL:https://www.discoverhollywood.com/event/ada-and-the-engine-2/
LOCATION:Studio/Stage Theatre\, 520 N. Western\, Hollywood\, California
END:VEVENT
BEGIN:VEVENT
DTSTART;TZID=Asia/Kolkata:20190218T000000
DTEND;TZID=Asia/Kolkata:20190218T000000
DTSTAMP:20260422T135515
CREATED:20250630T103118Z
LAST-MODIFIED:20250630T103118Z
UID:10001612-1550448000-1550448000@www.discoverhollywood.com
SUMMARY:Ain't Nuthing But Drama
DESCRIPTION:DesignHTMLWords: 0   Characters: 0
URL:https://www.discoverhollywood.com/event/aint-nuthing-but-drama-2/
LOCATION:Studio/Stage Theatre\, 520 N. Western\, Hollywood\, California
END:VEVENT
BEGIN:VEVENT
DTSTART;TZID=Asia/Kolkata:20170905T000000
DTEND;TZID=Asia/Kolkata:20170905T000000
DTSTAMP:20260422T135515
CREATED:20250630T104156Z
LAST-MODIFIED:20250630T104156Z
UID:10001789-1504569600-1504569600@www.discoverhollywood.com
SUMMARY:ALTERNATE ENDINGS
DESCRIPTION:%3cp align%3d%22center%22%3eA LIMITED TWO WEEKEND RUN%21%3c/p%3e\n%3ca target%3d%22_blank%22 href%3d%22www.SkyPilotTheatre.com%22%3eALTERNATE ENDINGS%3c/a%3e by Jonathan Price. Humorous and moving scenes and monologues focusing on the many ways the world could end%2c from nuclear warfare and artificial intelligence to global pandemics and volcanoes.%26nbsp%3bDesignHTMLWords: 36   Characters: 233
URL:https://www.discoverhollywood.com/event/alternate-endings-2/
LOCATION:Studio/Stage Theatre\, 520 N. Western\, Hollywood\, California
END:VEVENT
BEGIN:VEVENT
DTSTART;TZID=Asia/Kolkata:20140526T000000
DTEND;TZID=Asia/Kolkata:20140526T000000
DTSTAMP:20260422T135515
CREATED:20250630T114635Z
LAST-MODIFIED:20250630T114635Z
UID:10002276-1401062400-1401062400@www.discoverhollywood.com
SUMMARY:Asexuality! The Solo Musical
DESCRIPTION:Written and performed by Rebecca McGlynnDesignHTMLWords: 6   Characters: 40
URL:https://www.discoverhollywood.com/event/asexuality-the-solo-musical/
LOCATION:Studio/Stage Theatre\, 520 N. Western\, Hollywood\, California
END:VEVENT
BEGIN:VEVENT
DTSTART;TZID=Asia/Kolkata:20080626T000000
DTEND;TZID=Asia/Kolkata:20080626T000000
DTSTAMP:20260422T135515
CREATED:20250701T063307Z
LAST-MODIFIED:20250701T063307Z
UID:10003352-1214438400-1214438400@www.discoverhollywood.com
SUMMARY:BurlyQ Moon
DESCRIPTION:DesignHTMLWords: 0   Characters: 0
URL:https://www.discoverhollywood.com/event/burlyq-moon/
LOCATION:Studio/Stage Theatre\, 520 N. Western\, Hollywood\, California
END:VEVENT
BEGIN:VEVENT
DTSTART;TZID=Asia/Kolkata:20080511T000000
DTEND;TZID=Asia/Kolkata:20080511T000000
DTSTAMP:20260422T135515
CREATED:20250701T063342Z
LAST-MODIFIED:20250701T063342Z
UID:10003375-1210464000-1210464000@www.discoverhollywood.com
SUMMARY:Buzz'd Out Live
DESCRIPTION:%3cspan%3e\n	%3cbr%3e\n	Clever%2c entertaining%2c and just plain wild%2c%26nbsp%3bBuzz%27d Out%21%26nbsp%3bis a popular game show that currently airs on The Arroyo Channel. Like%26nbsp%3b%3ci%3eDouble Dare%3c/i%3e%2c the show pairs crazy challenges with mind boggling trivia. This special live version will have new challenges%2c new questions%2c and new contestants with each performance.%26nbsp%3b\n%3c/span%3e\n%3ca href%3d%22https%3a//piepieproductions.wixsite.com/buzzdout%22 target%3d%22_blank%22%3ehttps%3a//piepieproductions.wixsite.com/buzzdout%3c/a%3eDesignHTMLWords: 49   Characters: 341
URL:https://www.discoverhollywood.com/event/buzzd-out-live/
LOCATION:Studio/Stage Theatre\, 520 N. Western\, Hollywood\, California
END:VEVENT
BEGIN:VEVENT
DTSTART;TZID=Asia/Kolkata:20040703T000000
DTEND;TZID=Asia/Kolkata:20040703T000000
DTSTAMP:20260422T135515
CREATED:20250701T094913Z
LAST-MODIFIED:20250701T094913Z
UID:10003984-1088812800-1088812800@www.discoverhollywood.com
SUMMARY:Coming To Zimbabwe
DESCRIPTION:%3cbr%3eDesignHTMLWords: 0   Characters: 0
URL:https://www.discoverhollywood.com/event/coming-to-zimbabwe/
LOCATION:Studio/Stage Theatre\, 520 N. Western\, Hollywood\, California
END:VEVENT
BEGIN:VEVENT
DTSTART;TZID=Asia/Kolkata:20030414T000000
DTEND;TZID=Asia/Kolkata:20030414T000000
DTSTAMP:20260422T135515
CREATED:20250701T112409Z
LAST-MODIFIED:20250701T112409Z
UID:10004207-1050278400-1050278400@www.discoverhollywood.com
SUMMARY:Daddy Walks Like A Slut
DESCRIPTION:%3cspan%3eThree short plays in one seating. You’ll laugh. You’ll cry. You’ll inexplicably leave craving pierogies. In Daddy Issues%2c four historical figures sift through each other’s psychological muck and fling it around in their perpetual state of purgatory. Walk of Shame chronicles the peculiar journey of two co-eds on a short walk after attending a sexual assault awareness lecture. And SLUT transports us to the exotic location of a clinical waiting room%2c where a woman encounters a younger version of herselfDesignHTMLWords: 80   Characters: 496
URL:https://www.discoverhollywood.com/event/daddy-walks-like-a-slut/
LOCATION:Studio/Stage Theatre\, 520 N. Western\, Hollywood\, California
END:VEVENT
BEGIN:VEVENT
DTSTART;TZID=Asia/Kolkata:20020831T000000
DTEND;TZID=Asia/Kolkata:20020831T000000
DTSTAMP:20260422T135515
CREATED:20250701T115923Z
LAST-MODIFIED:20250701T115923Z
UID:10004320-1030752000-1030752000@www.discoverhollywood.com
SUMMARY:Dating Stories and Angelos
DESCRIPTION:Broad comedy about a Hasidic Jewish boy who decides to rob the barber shop next door.DesignHTMLWords: 16   Characters: 84
URL:https://www.discoverhollywood.com/event/dating-stories-and-angelos/
LOCATION:Studio/Stage Theatre\, 520 N. Western\, Hollywood\, California
END:VEVENT
BEGIN:VEVENT
DTSTART;TZID=Asia/Kolkata:19980615T000000
DTEND;TZID=Asia/Kolkata:19980615T000000
DTSTAMP:20260422T135515
CREATED:20250702T052338Z
LAST-MODIFIED:20250702T052338Z
UID:10005257-897868800-897868800@www.discoverhollywood.com
SUMMARY:Esther's Moustache
DESCRIPTION:DesignHTMLWords: 0   Characters: 0
URL:https://www.discoverhollywood.com/event/esthers-moustache/
LOCATION:Studio/Stage Theatre\, 520 N. Western\, Hollywood\, California
END:VEVENT
BEGIN:VEVENT
DTSTART;TZID=Asia/Kolkata:19931106T000000
DTEND;TZID=Asia/Kolkata:19931106T000000
DTSTAMP:20260422T135515
CREATED:20250703T105724Z
LAST-MODIFIED:20250703T105724Z
UID:10006650-752544000-752544000@www.discoverhollywood.com
SUMMARY:I Decided I’m Fine: A Roach Play
DESCRIPTION:%3ca href%3d%22https%3a//www.theatticcollectivela.com/i-decided-im-fine-a-roach-play%22%3ehttps%3a//www.theatticcollectivela.com/i-decided-im-fine-a-roach-play%3c/a%3eDesignHTMLWords: 1   Characters: 58
URL:https://www.discoverhollywood.com/event/i-decided-im-fine-a-roach-play-2/
LOCATION:Studio/Stage Theatre\, 520 N. Western\, Hollywood\, California
END:VEVENT
BEGIN:VEVENT
DTSTART;TZID=Asia/Kolkata:19930704T000000
DTEND;TZID=Asia/Kolkata:19930704T000000
DTSTAMP:20260422T135515
CREATED:20250703T110053Z
LAST-MODIFIED:20250703T110053Z
UID:10006775-741744000-741744000@www.discoverhollywood.com
SUMMARY:In the Balance
DESCRIPTION:Matt shares a cliffside home in Big Sur overlooking the ocean with his wife and baby. Sounds idyllic%2c but the joint is haunted. How else to explain the mishaps and sudden shatterings%3f When Matt%27s old college buddy Kostya shows up with his young girlfriend from Mexico City%2c Alicia%2c hidden sins are revealed%3b a violent%2c bloody death from the past comes back to haunt them%3b and ghosts come out to possess the living and play out a wicked game. %3cp%3e%26nbsp%3b%26nbsp%3b%26nbsp%3b%26nbsp%3b%26nbsp%3b%26nbsp%3b%26nbsp%3b%26nbsp%3b%26nbsp%3b%26nbsp%3b%26nbsp%3bDesignHTMLWords: 78   Characters: 430
URL:https://www.discoverhollywood.com/event/in-the-balance/
LOCATION:Studio/Stage Theatre\, 520 N. Western\, Hollywood\, California
END:VEVENT
BEGIN:VEVENT
DTSTART;TZID=Asia/Kolkata:19900703T000000
DTEND;TZID=Asia/Kolkata:19900703T000000
DTSTAMP:20260422T135515
CREATED:20250709T092937Z
LAST-MODIFIED:20250709T092937Z
UID:10008532-646963200-646963200@www.discoverhollywood.com
SUMMARY:Little Shop of Horrors
DESCRIPTION:DesignHTMLWords: 0   Characters: 0
URL:https://www.discoverhollywood.com/event/little-shop-of-horrors/
LOCATION:Studio/Stage Theatre\, 520 N. Western\, Hollywood\, California
END:VEVENT
BEGIN:VEVENT
DTSTART;TZID=Asia/Kolkata:19900508T000000
DTEND;TZID=Asia/Kolkata:19900508T000000
DTSTAMP:20260422T135515
CREATED:20250709T061018Z
LAST-MODIFIED:20250709T061018Z
UID:10007928-642124800-642124800@www.discoverhollywood.com
SUMMARY:King Lear
DESCRIPTION:DesignHTMLWords: 0   Characters: 0
URL:https://www.discoverhollywood.com/event/king-lear/
LOCATION:Studio/Stage Theatre\, 520 N. Western\, Hollywood\, California
END:VEVENT
BEGIN:VEVENT
DTSTART;TZID=Asia/Kolkata:19890305T000000
DTEND;TZID=Asia/Kolkata:19890305T000000
DTSTAMP:20260422T135515
CREATED:20250709T123500Z
LAST-MODIFIED:20250709T123500Z
UID:10008757-605059200-605059200@www.discoverhollywood.com
SUMMARY:Mama Mama Can't You See
DESCRIPTION:Coin %26amp%3b Ghost Theatre Comapny present explosive new play about human connection.%3cdiv%3eReservations%3a coinandghost.org%3c/div%3eDesignHTMLWords: 13   Characters: 106
URL:https://www.discoverhollywood.com/event/mama-mama-cant-you-see-2/
LOCATION:Studio/Stage Theatre\, 520 N. Western\, Hollywood\, California
END:VEVENT
BEGIN:VEVENT
DTSTART;TZID=Asia/Kolkata:19881022T000000
DTEND;TZID=Asia/Kolkata:19881022T000000
DTSTAMP:20260422T135515
CREATED:20250709T124107Z
LAST-MODIFIED:20250709T124107Z
UID:10008891-593481600-593481600@www.discoverhollywood.com
SUMMARY:Maron Doll
DESCRIPTION:The story of a mother and daughter’s struggles through abandonment%2c failure%2c poverty%2c and Alzheimer’s disease. %3ca href%3d%22http%3a//www.hollywoodfringe.org/projects/5245%22 target%3d%22_blank%22%3ewww.hollywoodfringe.org/projects/5245%3c/a%3eDesignHTMLWords: 16   Characters: 142
URL:https://www.discoverhollywood.com/event/maron-doll/
LOCATION:Studio/Stage Theatre\, 520 N. Western\, Hollywood\, California
END:VEVENT
BEGIN:VEVENT
DTSTART;TZID=Asia/Kolkata:19870710T000000
DTEND;TZID=Asia/Kolkata:19870710T000000
DTSTAMP:20260422T135515
CREATED:20250710T101357Z
LAST-MODIFIED:20250710T101357Z
UID:10009361-552873600-552873600@www.discoverhollywood.com
SUMMARY:Modern Drama
DESCRIPTION:Noel Coward%27s %22Private Lives%22 meets Luigi Pirandello%27s %22Six Characters in Search of an Author%22 in this comedy of manners about infidelity and retribution on the tip of Cape Cod.DesignHTMLWords: 29   Characters: 170
URL:https://www.discoverhollywood.com/event/modern-drama/
LOCATION:Studio/Stage Theatre\, 520 N. Western\, Hollywood\, California
END:VEVENT
BEGIN:VEVENT
DTSTART;TZID=Asia/Kolkata:19860622T000000
DTEND;TZID=Asia/Kolkata:19860622T000000
DTSTAMP:20260422T135515
CREATED:20250710T120034Z
LAST-MODIFIED:20250710T120034Z
UID:10009744-519782400-519782400@www.discoverhollywood.com
SUMMARY:Neo's Motel 8
DESCRIPTION:%3cbr%3eDesignHTMLWords: 0   Characters: 0
URL:https://www.discoverhollywood.com/event/neos-motel-8/
LOCATION:Studio/Stage Theatre\, 520 N. Western\, Hollywood\, California
END:VEVENT
BEGIN:VEVENT
DTSTART;TZID=Asia/Kolkata:19850221T000000
DTEND;TZID=Asia/Kolkata:19850221T000000
DTSTAMP:20260422T135515
CREATED:20250710T123418Z
LAST-MODIFIED:20250710T123418Z
UID:10010230-477792000-477792000@www.discoverhollywood.com
SUMMARY:Our American Cousin
DESCRIPTION:DesignHTMLWords: 0   Characters: 0
URL:https://www.discoverhollywood.com/event/our-american-cousin/
LOCATION:Studio/Stage Theatre\, 520 N. Western\, Hollywood\, California
END:VEVENT
BEGIN:VEVENT
DTSTART;TZID=Asia/Kolkata:19800220T000000
DTEND;TZID=Asia/Kolkata:19800220T000000
DTSTAMP:20260422T135515
CREATED:20250714T113308Z
LAST-MODIFIED:20250714T113308Z
UID:10011428-319852800-319852800@www.discoverhollywood.com
SUMMARY:Round Rock
DESCRIPTION:DesignHTMLWords: 0   Characters: 0
URL:https://www.discoverhollywood.com/event/round-rock-2/
LOCATION:Studio/Stage Theatre\, 520 N. Western\, Hollywood\, California
END:VEVENT
BEGIN:VEVENT
DTSTART;TZID=Asia/Kolkata:19800122T000000
DTEND;TZID=Asia/Kolkata:19800122T000000
DTSTAMP:20260422T135515
CREATED:20250714T113352Z
LAST-MODIFIED:20250714T113352Z
UID:10011457-317347200-317347200@www.discoverhollywood.com
SUMMARY:RuddiGORE
DESCRIPTION:%3cp%3eThis new adaptaion of %3ci%3eRuddiGORE%3c/i%3e retains Gilbert %26amp%3b Sullivan%27s glorious music%2c and is filled with laughter%2c romance and wonderful singing. This new adaptation of\n	%3ci%3eRuddiGORE%3c/i%3e takes the supernatural elements of the original show %28ghosts%2c witches%29 and amps up the blood count for a gory good time. The protagonist%2c Sir Ruthven Murgatroyd%2c fakes his own death and comes back pretending to be his own zombie. His best friend%2c Dick Dauntless%2c is a werewolf. The village bridesmaids are now the blooDesignHTMLWords: 78   Characters: 473
URL:https://www.discoverhollywood.com/event/ruddigore/
LOCATION:Studio/Stage Theatre\, 520 N. Western\, Hollywood\, California
END:VEVENT
BEGIN:VEVENT
DTSTART;TZID=Asia/Kolkata:19781001T000000
DTEND;TZID=Asia/Kolkata:19781001T000000
DTSTAMP:20260422T135515
CREATED:20250714T124347Z
LAST-MODIFIED:20250714T124347Z
UID:10012113-276048000-276048000@www.discoverhollywood.com
SUMMARY:Slaughterhouse-Five
DESCRIPTION:DesignHTMLWords: 0   Characters: 0
URL:https://www.discoverhollywood.com/event/slaughterhouse-five/
LOCATION:Studio/Stage Theatre\, 520 N. Western\, Hollywood\, California
END:VEVENT
BEGIN:VEVENT
DTSTART;TZID=Asia/Kolkata:19770402T000000
DTEND;TZID=Asia/Kolkata:19770402T000000
DTSTAMP:20260422T135515
CREATED:20250715T092730Z
LAST-MODIFIED:20250715T092730Z
UID:10012661-228787200-228787200@www.discoverhollywood.com
SUMMARY:Summer in Hell
DESCRIPTION:DesignHTMLWords: 0   Characters: 0
URL:https://www.discoverhollywood.com/event/summer-in-hell/
LOCATION:Studio/Stage Theatre\, 520 N. Western\, Hollywood\, California
END:VEVENT
BEGIN:VEVENT
DTSTART;TZID=Asia/Kolkata:19760211T000000
DTEND;TZID=Asia/Kolkata:19760211T000000
DTSTAMP:20260422T135515
CREATED:20250715T111007Z
LAST-MODIFIED:20250715T111007Z
UID:10013077-192844800-192844800@www.discoverhollywood.com
SUMMARY:The Arctic Circle
DESCRIPTION:DesignHTMLWords: 0   Characters: 0
URL:https://www.discoverhollywood.com/event/the-arctic-circle/
LOCATION:Studio/Stage Theatre\, 520 N. Western\, Hollywood\, California
END:VEVENT
BEGIN:VEVENT
DTSTART;TZID=Asia/Kolkata:19751202T000000
DTEND;TZID=Asia/Kolkata:19751202T000000
DTSTAMP:20260422T135515
CREATED:20250715T111800Z
LAST-MODIFIED:20250715T111800Z
UID:10013148-186710400-186710400@www.discoverhollywood.com
SUMMARY:The Beauty Queen of Leenane
DESCRIPTION:%3cspan%3eMartin McDonagh%27s stunning black comedy traps four characters in a small Irish town. Suffocated dreams and simmering resentments culminate in an unexpected climax that pits mother against daughter%2c love against rejection%2c and hope against fate.%3c/span%3e\n%3ca href%3d%22https%3a//www.plays411.com/newsite/show/play_info.asp%3fshow_id%3d4847%22 target%3d%22_blank%22%3e%3cspan%3e%26nbsp%3b%3c/span%3ewww.plays411.com/newsite/show/play_info.asp%3fshow_id%3d4847%3c/a%3eDesignHTMLWords: 36   Characters: 291
URL:https://www.discoverhollywood.com/event/the-beauty-queen-of-leenane/
LOCATION:Studio/Stage Theatre\, 520 N. Western\, Hollywood\, California
END:VEVENT
BEGIN:VEVENT
DTSTART;TZID=Asia/Kolkata:19740227T000000
DTEND;TZID=Asia/Kolkata:19740227T000000
DTSTAMP:20260422T135515
CREATED:20250715T124659Z
LAST-MODIFIED:20250715T124659Z
UID:10013606-131155200-131155200@www.discoverhollywood.com
SUMMARY:The Last Days of Judas Iscariot
DESCRIPTION:%3cp%3e%3c/p%3e\n%3cp%3e%3cspan class%3d%22mediumtextbold%22%3ePreviews%3c/span%3e\n	%3cbr%3e\n	%3cspan class%3d%22mediumtext%22%3eAug 17 %26amp%3b Aug 18 @ 8%3a30 PM%2c %2410%3c/span%3e%26nbsp%3b\n%3c/p%3e\n%3cp%3e%3c/p%3e\n%3cp%3eOpening night %2430 %26amp%3b %2440 Tickets%26nbsp%3b%3c/p%3e\n%3cp%3eFri %26amp%3b Sat @ 8PM %2420 %26amp%3b %2430 Tickets%3c/p%3e\n%3cp%3eSun @ 2%3a30 PM %2415 %26amp%3b %2420 Tickets%26nbsp%3b%3c/p%3e\n%3cp%3e%3cspan class%3d%22mediumtext%22%3eSun @ 6%3a30 PM %2420 %26amp%3b %2430 Tickets %3cbr%3eMon 9/5 @ 1%3a30 PM %2410 %26amp%3b %2415 Tickets %3c/span%3e%3c/p%3e\n%3cp%3e%3cspan class%3d%22mediumtextbold%22%3eSpecial Events %3c/span%3e\n	%3cbr%3e\n	%3cspan class%3d%22meDesignHTMLWords: 45   Characters: 216
URL:https://www.discoverhollywood.com/event/the-last-days-of-judas-iscariot/
LOCATION:Studio/Stage Theatre\, 520 N. Western\, Hollywood\, California
END:VEVENT
BEGIN:VEVENT
DTSTART;TZID=Asia/Kolkata:19731111T000000
DTEND;TZID=Asia/Kolkata:19731111T000000
DTSTAMP:20260422T135515
CREATED:20250715T124945Z
LAST-MODIFIED:20250715T124945Z
UID:10013714-121824000-121824000@www.discoverhollywood.com
SUMMARY:The Matador
DESCRIPTION:DesignHTMLWords: 0   Characters: 0
URL:https://www.discoverhollywood.com/event/the-matador/
LOCATION:Studio/Stage Theatre\, 520 N. Western\, Hollywood\, California
END:VEVENT
BEGIN:VEVENT
DTSTART;TZID=Asia/Kolkata:19731006T000000
DTEND;TZID=Asia/Kolkata:19731006T000000
DTSTAMP:20260422T135515
CREATED:20250715T125056Z
LAST-MODIFIED:20250715T125056Z
UID:10013750-118713600-118713600@www.discoverhollywood.com
SUMMARY:The Missile Man of Peenemunde
DESCRIPTION:DesignHTMLWords: 0   Characters: 0
URL:https://www.discoverhollywood.com/event/the-missile-man-of-peenemunde/
LOCATION:Studio/Stage Theatre\, 520 N. Western\, Hollywood\, California
END:VEVENT
BEGIN:VEVENT
DTSTART;TZID=Asia/Kolkata:19720831T000000
DTEND;TZID=Asia/Kolkata:19720831T000000
DTSTAMP:20260422T135515
CREATED:20250716T053430Z
LAST-MODIFIED:20250716T053430Z
UID:10014151-84067200-84067200@www.discoverhollywood.com
SUMMARY:The Tempest
DESCRIPTION:DesignHTMLWords: 0   Characters: 0
URL:https://www.discoverhollywood.com/event/the-tempest-2/
LOCATION:Studio/Stage Theatre\, 520 N. Western\, Hollywood\, California
END:VEVENT
BEGIN:VEVENT
DTSTART;TZID=Asia/Kolkata:19720713T000000
DTEND;TZID=Asia/Kolkata:19720713T000000
DTSTAMP:20260422T135515
CREATED:20250716T060001Z
LAST-MODIFIED:20250716T060001Z
UID:10014200-79833600-79833600@www.discoverhollywood.com
SUMMARY:The Twins of GillyGate
DESCRIPTION:%3cspan%3eA musical tale woven together by a misfit traveling ensemble%2c this show will take you back to the Ren Faire. Full of bawdy%2c drunken fun mixed with some good ol%27 audience interaction%2c this show is fun for your whole family%21…well maybe not your kids.%3c/span%3e\n%3cdiv%3e\n	%3cspan%3e%3cbr%3e%3c/span%3e\n%3c/div%3e\n%3cdiv%3e\n	%3cspan%3e%3ca href%3d%22https%3a//www.flattiretheatre.org/%22 target%3d%22_blank%22%3ehttps%3a//www.flattiretheatre.org/%3c/a%3e%3c/span%3e\n%3c/div%3eDesignHTMLWords: 45   Characters: 272
URL:https://www.discoverhollywood.com/event/the-twins-of-gillygate/
LOCATION:Studio/Stage Theatre\, 520 N. Western\, Hollywood\, California
END:VEVENT
END:VCALENDAR