BEGIN:VCALENDAR
VERSION:2.0
PRODID:-//Discover Hollywood Magazine - ECPv6.15.17//NONSGML v1.0//EN
CALSCALE:GREGORIAN
METHOD:PUBLISH
X-ORIGINAL-URL:https://www.discoverhollywood.com
X-WR-CALDESC:Events for Discover Hollywood Magazine
REFRESH-INTERVAL;VALUE=DURATION:PT1H
X-Robots-Tag:noindex
X-PUBLISHED-TTL:PT1H
BEGIN:VTIMEZONE
TZID:Asia/Kolkata
BEGIN:STANDARD
TZOFFSETFROM:+0530
TZOFFSETTO:+0530
TZNAME:IST
DTSTART:19690101T000000
END:STANDARD
END:VTIMEZONE
BEGIN:VEVENT
DTSTART;TZID=Asia/Kolkata:19751202T000000
DTEND;TZID=Asia/Kolkata:19751202T000000
DTSTAMP:20260422T210024
CREATED:20250715T111800Z
LAST-MODIFIED:20250715T111800Z
UID:10013148-186710400-186710400@www.discoverhollywood.com
SUMMARY:The Beauty Queen of Leenane
DESCRIPTION:%3cspan%3eMartin McDonagh%27s stunning black comedy traps four characters in a small Irish town. Suffocated dreams and simmering resentments culminate in an unexpected climax that pits mother against daughter%2c love against rejection%2c and hope against fate.%3c/span%3e\n%3ca href%3d%22https%3a//www.plays411.com/newsite/show/play_info.asp%3fshow_id%3d4847%22 target%3d%22_blank%22%3e%3cspan%3e%26nbsp%3b%3c/span%3ewww.plays411.com/newsite/show/play_info.asp%3fshow_id%3d4847%3c/a%3eDesignHTMLWords: 36   Characters: 291
URL:https://www.discoverhollywood.com/event/the-beauty-queen-of-leenane/
LOCATION:Studio/Stage Theatre\, 520 N. Western\, Hollywood\, California
END:VEVENT
BEGIN:VEVENT
DTSTART;TZID=Asia/Kolkata:19740227T000000
DTEND;TZID=Asia/Kolkata:19740227T000000
DTSTAMP:20260422T210024
CREATED:20250715T124659Z
LAST-MODIFIED:20250715T124659Z
UID:10013606-131155200-131155200@www.discoverhollywood.com
SUMMARY:The Last Days of Judas Iscariot
DESCRIPTION:%3cp%3e%3c/p%3e\n%3cp%3e%3cspan class%3d%22mediumtextbold%22%3ePreviews%3c/span%3e\n	%3cbr%3e\n	%3cspan class%3d%22mediumtext%22%3eAug 17 %26amp%3b Aug 18 @ 8%3a30 PM%2c %2410%3c/span%3e%26nbsp%3b\n%3c/p%3e\n%3cp%3e%3c/p%3e\n%3cp%3eOpening night %2430 %26amp%3b %2440 Tickets%26nbsp%3b%3c/p%3e\n%3cp%3eFri %26amp%3b Sat @ 8PM %2420 %26amp%3b %2430 Tickets%3c/p%3e\n%3cp%3eSun @ 2%3a30 PM %2415 %26amp%3b %2420 Tickets%26nbsp%3b%3c/p%3e\n%3cp%3e%3cspan class%3d%22mediumtext%22%3eSun @ 6%3a30 PM %2420 %26amp%3b %2430 Tickets %3cbr%3eMon 9/5 @ 1%3a30 PM %2410 %26amp%3b %2415 Tickets %3c/span%3e%3c/p%3e\n%3cp%3e%3cspan class%3d%22mediumtextbold%22%3eSpecial Events %3c/span%3e\n	%3cbr%3e\n	%3cspan class%3d%22meDesignHTMLWords: 45   Characters: 216
URL:https://www.discoverhollywood.com/event/the-last-days-of-judas-iscariot/
LOCATION:Studio/Stage Theatre\, 520 N. Western\, Hollywood\, California
END:VEVENT
BEGIN:VEVENT
DTSTART;TZID=Asia/Kolkata:19731111T000000
DTEND;TZID=Asia/Kolkata:19731111T000000
DTSTAMP:20260422T210024
CREATED:20250715T124945Z
LAST-MODIFIED:20250715T124945Z
UID:10013714-121824000-121824000@www.discoverhollywood.com
SUMMARY:The Matador
DESCRIPTION:DesignHTMLWords: 0   Characters: 0
URL:https://www.discoverhollywood.com/event/the-matador/
LOCATION:Studio/Stage Theatre\, 520 N. Western\, Hollywood\, California
END:VEVENT
BEGIN:VEVENT
DTSTART;TZID=Asia/Kolkata:19731006T000000
DTEND;TZID=Asia/Kolkata:19731006T000000
DTSTAMP:20260422T210024
CREATED:20250715T125056Z
LAST-MODIFIED:20250715T125056Z
UID:10013750-118713600-118713600@www.discoverhollywood.com
SUMMARY:The Missile Man of Peenemunde
DESCRIPTION:DesignHTMLWords: 0   Characters: 0
URL:https://www.discoverhollywood.com/event/the-missile-man-of-peenemunde/
LOCATION:Studio/Stage Theatre\, 520 N. Western\, Hollywood\, California
END:VEVENT
BEGIN:VEVENT
DTSTART;TZID=Asia/Kolkata:19720831T000000
DTEND;TZID=Asia/Kolkata:19720831T000000
DTSTAMP:20260422T210024
CREATED:20250716T053430Z
LAST-MODIFIED:20250716T053430Z
UID:10014151-84067200-84067200@www.discoverhollywood.com
SUMMARY:The Tempest
DESCRIPTION:DesignHTMLWords: 0   Characters: 0
URL:https://www.discoverhollywood.com/event/the-tempest-2/
LOCATION:Studio/Stage Theatre\, 520 N. Western\, Hollywood\, California
END:VEVENT
BEGIN:VEVENT
DTSTART;TZID=Asia/Kolkata:19720713T000000
DTEND;TZID=Asia/Kolkata:19720713T000000
DTSTAMP:20260422T210024
CREATED:20250716T060001Z
LAST-MODIFIED:20250716T060001Z
UID:10014200-79833600-79833600@www.discoverhollywood.com
SUMMARY:The Twins of GillyGate
DESCRIPTION:%3cspan%3eA musical tale woven together by a misfit traveling ensemble%2c this show will take you back to the Ren Faire. Full of bawdy%2c drunken fun mixed with some good ol%27 audience interaction%2c this show is fun for your whole family%21…well maybe not your kids.%3c/span%3e\n%3cdiv%3e\n	%3cspan%3e%3cbr%3e%3c/span%3e\n%3c/div%3e\n%3cdiv%3e\n	%3cspan%3e%3ca href%3d%22https%3a//www.flattiretheatre.org/%22 target%3d%22_blank%22%3ehttps%3a//www.flattiretheatre.org/%3c/a%3e%3c/span%3e\n%3c/div%3eDesignHTMLWords: 45   Characters: 272
URL:https://www.discoverhollywood.com/event/the-twins-of-gillygate/
LOCATION:Studio/Stage Theatre\, 520 N. Western\, Hollywood\, California
END:VEVENT
BEGIN:VEVENT
DTSTART;TZID=Asia/Kolkata:19720710T000000
DTEND;TZID=Asia/Kolkata:19720710T000000
DTSTAMP:20260422T210024
CREATED:20250716T060002Z
LAST-MODIFIED:20250716T060002Z
UID:10014203-79574400-79574400@www.discoverhollywood.com
SUMMARY:The Twylight Zone: The 6th Dimension
DESCRIPTION:DesignHTMLWords: 0   Characters: 0
URL:https://www.discoverhollywood.com/event/the-twylight-zone-the-6th-dimension/
LOCATION:Studio/Stage Theatre\, 520 N. Western\, Hollywood\, California
END:VEVENT
BEGIN:VEVENT
DTSTART;TZID=Asia/Kolkata:19720316T000000
DTEND;TZID=Asia/Kolkata:19720316T000000
DTSTAMP:20260422T210024
CREATED:20250716T060800Z
LAST-MODIFIED:20250716T060800Z
UID:10014319-69552000-69552000@www.discoverhollywood.com
SUMMARY:The Woodpecker
DESCRIPTION:%3cbr%3eDesignHTMLWords: 0   Characters: 0
URL:https://www.discoverhollywood.com/event/the-woodpecker/
LOCATION:Studio/Stage Theatre\, 520 N. Western\, Hollywood\, California
END:VEVENT
BEGIN:VEVENT
DTSTART;TZID=Asia/Kolkata:19720309T000000
DTEND;TZID=Asia/Kolkata:19720309T000000
DTSTAMP:20260422T210024
CREATED:20250716T060808Z
LAST-MODIFIED:20250716T060808Z
UID:10014326-68947200-68947200@www.discoverhollywood.com
SUMMARY:The Wreck Of The Spanish Armada
DESCRIPTION:%3cbr%3eDesignHTMLWords: 0   Characters: 0
URL:https://www.discoverhollywood.com/event/the-wreck-of-the-spanish-armada/
LOCATION:Studio/Stage Theatre\, 520 N. Western\, Hollywood\, California
END:VEVENT
BEGIN:VEVENT
DTSTART;TZID=Asia/Kolkata:19720131T000000
DTEND;TZID=Asia/Kolkata:19720131T000000
DTSTAMP:20260422T210024
CREATED:20250716T061127Z
LAST-MODIFIED:20250716T061127Z
UID:10014364-65664000-65664000@www.discoverhollywood.com
SUMMARY:There is Evil in This House
DESCRIPTION:A pop-culture obsessed Transgender woman copes with the realities of having grown up in a haunted house%2c the trauma of coming out to her mother%2c and uncovers the painful truth about the demons that haunt her still.%26nbsp%3b%3cdiv%3e\n	%3cbr%3e\n%3c/div%3e\n%3cdiv%3e\n	%3ca href%3d%22https%3a//www.flattiretheatre.org/%22 target%3d%22_blank%22%3e%26nbsp%3bwww.flattiretheatre.org%3c/a%3e\n%3c/div%3eDesignHTMLWords: 38   Characters: 236
URL:https://www.discoverhollywood.com/event/there-is-evil-in-this-house/
LOCATION:Studio/Stage Theatre\, 520 N. Western\, Hollywood\, California
END:VEVENT
BEGIN:VEVENT
DTSTART;TZID=Asia/Kolkata:20260422T210024
DTEND;TZID=Asia/Kolkata:20260422T210024
DTSTAMP:20260422T210024
CREATED:20250716T082337Z
LAST-MODIFIED:20250716T082337Z
UID:10015168-0-0@www.discoverhollywood.com
SUMMARY:Waste Land
DESCRIPTION:A WORLD PREMIERE serio-comedy period piece by legendary playwright Don Nigro that explores the tumultuous love between T.S. Eliot and his first wife%2c Vivienne during the time leading up to his creation of one of the most influential poems of the twentieth century.DesignHTMLWords: 43   Characters: 259
URL:https://www.discoverhollywood.com/event/waste-land/
LOCATION:Studio/Stage Theatre\, 520 N. Western\, Hollywood\, California
END:VEVENT
BEGIN:VEVENT
DTSTART;TZID=Asia/Kolkata:20260422T210024
DTEND;TZID=Asia/Kolkata:20260422T210024
DTSTAMP:20260422T210024
CREATED:20250716T081149Z
LAST-MODIFIED:20250716T081149Z
UID:10014811-0-0@www.discoverhollywood.com
SUMMARY:Twylight Zone: Back To The 6th Dimension (A Parody)
DESCRIPTION:%3cbr%3eDesignHTMLWords: 0   Characters: 0
URL:https://www.discoverhollywood.com/event/twylight-zone-back-to-the-6th-dimension-a-parody/
LOCATION:Studio/Stage Theatre\, 520 N. Western\, Hollywood\, California
END:VEVENT
BEGIN:VEVENT
DTSTART;TZID=Asia/Kolkata:20260422T210024
DTEND;TZID=Asia/Kolkata:20260422T210024
DTSTAMP:20260422T210024
CREATED:20250714T113925Z
LAST-MODIFIED:20250714T113925Z
UID:10011557-0-0@www.discoverhollywood.com
SUMMARY:Salon Series ReadingSweeney Todd by George Dibdin Pitt
DESCRIPTION:DesignHTMLWords: 0   Characters: 0
URL:https://www.discoverhollywood.com/event/salon-series-readingsweeney-todd-by-george-dibdin-pitt/
LOCATION:Studio/Stage Theatre\, 520 N. Western\, Hollywood\, California
END:VEVENT
END:VCALENDAR