BEGIN:VCALENDAR
VERSION:2.0
PRODID:-//Discover Hollywood Magazine - ECPv6.15.20//NONSGML v1.0//EN
CALSCALE:GREGORIAN
METHOD:PUBLISH
X-WR-CALNAME:Discover Hollywood Magazine
X-ORIGINAL-URL:https://www.discoverhollywood.com
X-WR-CALDESC:Events for Discover Hollywood Magazine
REFRESH-INTERVAL;VALUE=DURATION:PT1H
X-Robots-Tag:noindex
X-PUBLISHED-TTL:PT1H
BEGIN:VTIMEZONE
TZID:Asia/Kolkata
BEGIN:STANDARD
TZOFFSETFROM:+0530
TZOFFSETTO:+0530
TZNAME:IST
DTSTART:19690101T000000
END:STANDARD
END:VTIMEZONE
BEGIN:VEVENT
DTSTART;TZID=Asia/Kolkata:20260424T194332
DTEND;TZID=Asia/Kolkata:20260424T194332
DTSTAMP:20260424T194332
CREATED:20250714T113925Z
LAST-MODIFIED:20250714T113925Z
UID:10011557-0-0@www.discoverhollywood.com
SUMMARY:Salon Series ReadingSweeney Todd by George Dibdin Pitt
DESCRIPTION:DesignHTMLWords: 0   Characters: 0
URL:https://www.discoverhollywood.com/event/salon-series-readingsweeney-todd-by-george-dibdin-pitt/
LOCATION:Studio/Stage Theatre\, 520 N. Western\, Hollywood\, California
END:VEVENT
END:VCALENDAR