BEGIN:VCALENDAR
VERSION:2.0
PRODID:-//Discover Hollywood Magazine - ECPv6.15.20//NONSGML v1.0//EN
CALSCALE:GREGORIAN
METHOD:PUBLISH
X-ORIGINAL-URL:https://www.discoverhollywood.com
X-WR-CALDESC:Events for Discover Hollywood Magazine
REFRESH-INTERVAL;VALUE=DURATION:PT1H
X-Robots-Tag:noindex
X-PUBLISHED-TTL:PT1H
BEGIN:VTIMEZONE
TZID:Asia/Kolkata
BEGIN:STANDARD
TZOFFSETFROM:+0530
TZOFFSETTO:+0530
TZNAME:IST
DTSTART:19840101T000000
END:STANDARD
END:VTIMEZONE
BEGIN:VEVENT
DTSTART;TZID=Asia/Kolkata:20230209T000000
DTEND;TZID=Asia/Kolkata:20230209T000000
DTSTAMP:20260425T191749
CREATED:20250630T090125Z
LAST-MODIFIED:20250630T090125Z
UID:10001133-1675900800-1675900800@www.discoverhollywood.com
SUMMARY:2011 Film Screening Series and after-party event
DESCRIPTION:%3cspan size%3d%222%22%3e%3cspan face%3d%22Verdana%22%3e\n		5%3a30PM Documentary Program Reception\n		%3cbr%3e\n		6%3a00PM Documentary Program Screening%3a\n		%3cbr%3e\n		%3cbr%3e\n		%3cspan%3e* In Need of an Education %28Dir. Laura Forde%29 %3c/span%3e\n		%3cbr%3e\n		%3cspan%3e* Animation%3a A Palette of Possibilities %28Dir. Angela Hinton%29 %3c/span%3e\n		%3cbr%3e\n		%3cspan%3e* In the Shadow of Buddha %28Dir. Heather Kessinger%29 %3c/span%3e\n		%3cbr%3e\n		%3cspan%3e* Smut Capital of America %28Dir. Michael Stabile%29 %3c/span%3e\n		%3cbr%3e\n		%3cbr%3e\n		%3cspan%3e7%3a15PM Short Film Program %231 Reception%3c/span%3eDesignHTMLWords: 49   Characters: 303
URL:https://www.discoverhollywood.com/event/2011-film-screening-series-and-after-party-event-2/
LOCATION:Sunset Gower Studio\, 1438 N. Gower St\, Hollywood\, California\, 90028
END:VEVENT
BEGIN:VEVENT
DTSTART;TZID=Asia/Kolkata:19980413T000000
DTEND;TZID=Asia/Kolkata:19980413T000000
DTSTAMP:20260425T191749
CREATED:20250702T053446Z
LAST-MODIFIED:20250702T053446Z
UID:10005320-892425600-892425600@www.discoverhollywood.com
SUMMARY:Extravaganza for the Senses
DESCRIPTION:%26nbsp%3bIn observance of its 45th anniversary%2c the clinic hosts its 15th annual Extravaganza for the Senses. Food and wine flow in a cornucopia of gustatory delights from more than 40 L.A. restaurants%2c including Jar%2c Canelé%2c Angelini Osteria%2c Chaya and others. If you drink and eat too much and get gout — go to the Free Clinic%21 Proceeds from the silent auction directly benefit the clinic.DesignHTMLWords: 64   Characters: 370
URL:https://www.discoverhollywood.com/event/extravaganza-for-the-senses/
LOCATION:Sunset Gower Studio\, 1438 N. Gower St\, Hollywood\, California\, 90028
END:VEVENT
BEGIN:VEVENT
DTSTART;TZID=Asia/Kolkata:19860428T000000
DTEND;TZID=Asia/Kolkata:19860428T000000
DTSTAMP:20260425T191749
CREATED:20250710T120315Z
LAST-MODIFIED:20250710T120315Z
UID:10009799-515030400-515030400@www.discoverhollywood.com
SUMMARY:New Filmmakers LA
DESCRIPTION:%3cdiv%3e\n	%3cspan%3e%3cspan mce_style%3d%22clear%3aboth%3b%22%3e\n			%3cdiv%3e\n				%3cspan%3e\n					5%3a00PM Documentary Program Reception\n					%3cbr%3e\n					5%3a30PM Documentary Program%3cspan mce_style%3d%22clear%3aboth%3b%22%3e\n						%3cbr%3e\n						6%3a15PM Documentary Program After-Party\n						%3cbr%3e\n						6%3a15PM Short Film Program 1 Reception\n						%3cbr%3e\n						6%3a45PM Short Film Program 1\n						%3cbr%3e\n						7%3a30PM Short Film Program 1 After-Party\n						%3cbr%3e\n						7%3a30PM Short Film Program 2 Reception\n						%3cbr%3e\n						8%3a00PM Short Film Program 2DesignHTMLWords: 39   Characters: 264
URL:https://www.discoverhollywood.com/event/new-filmmakers-la/
LOCATION:Sunset Gower Studio\, 1438 N. Gower St\, Hollywood\, California\, 90028
END:VEVENT
BEGIN:VEVENT
DTSTART;TZID=Asia/Kolkata:19860327T000000
DTEND;TZID=Asia/Kolkata:19860327T000000
DTSTAMP:20260425T191749
CREATED:20250710T120537Z
LAST-MODIFIED:20250710T120537Z
UID:10009831-512265600-512265600@www.discoverhollywood.com
SUMMARY:NewFilmmakers LA
DESCRIPTION:DesignHTMLWords: 0   Characters: 0
URL:https://www.discoverhollywood.com/event/newfilmmakers-la/
LOCATION:Sunset Gower Studio\, 1438 N. Gower St\, Hollywood\, California\, 90028
END:VEVENT
BEGIN:VEVENT
DTSTART;TZID=Asia/Kolkata:19850629T000000
DTEND;TZID=Asia/Kolkata:19850629T000000
DTSTAMP:20260425T191749
CREATED:20250710T122452Z
LAST-MODIFIED:20250716T064821Z
UID:10010102-488851200-488851200@www.discoverhollywood.com
SUMMARY:On Location: What is your LA?
DESCRIPTION:The Los Angeles video projectDesignHTMLWords: 5   Characters: 29
URL:https://www.discoverhollywood.com/event/on-location-what-is-your-la/
LOCATION:Sunset Gower Studio\, 1438 N. Gower St\, Hollywood\, California\, 90028
END:VEVENT
END:VCALENDAR