BEGIN:VCALENDAR
VERSION:2.0
PRODID:-//Discover Hollywood Magazine - ECPv6.15.20//NONSGML v1.0//EN
CALSCALE:GREGORIAN
METHOD:PUBLISH
X-ORIGINAL-URL:https://www.discoverhollywood.com
X-WR-CALDESC:Events for Discover Hollywood Magazine
REFRESH-INTERVAL;VALUE=DURATION:PT1H
X-Robots-Tag:noindex
X-PUBLISHED-TTL:PT1H
BEGIN:VTIMEZONE
TZID:Asia/Kolkata
BEGIN:STANDARD
TZOFFSETFROM:+0530
TZOFFSETTO:+0530
TZNAME:IST
DTSTART:19690101T000000
END:STANDARD
END:VTIMEZONE
BEGIN:VEVENT
DTSTART;TZID=Asia/Kolkata:20251022T080000
DTEND;TZID=Asia/Kolkata:20251026T233000
DTSTAMP:20260425T164104
CREATED:20251008T182500Z
LAST-MODIFIED:20251008T182500Z
UID:10021887-1761120000-1761521400@www.discoverhollywood.com
SUMMARY:AFI FEST
DESCRIPTION:AFI FEST\, short for the American Film Institute Festival\, is a major international film festival held annually in Hollywood\, Los Angeles.\n\n\n\n\n\n\n\nIt is a showcase for some of the year’s best films\, serving as a significant platform for awards-season contenders\, and an opportunity for both master filmmakers and emerging artists to connect with audiences and the industry. The festival is recognized by the Academy of Motion Picture Arts and Sciences as a qualifying festival for the Short Films category of the annual Academy Awards.
URL:https://www.discoverhollywood.com/event/afi-fest-3/
LOCATION:TCL Chinese Theatre\, 6925 Hollywood Blvd.\, Hollywood\, California\, 90028
END:VEVENT
BEGIN:VEVENT
DTSTART;TZID=Asia/Kolkata:20221217T000000
DTEND;TZID=Asia/Kolkata:20221217T000000
DTSTAMP:20260425T164104
CREATED:20250630T090225Z
LAST-MODIFIED:20250630T090225Z
UID:10001151-1671235200-1671235200@www.discoverhollywood.com
SUMMARY:2017 TCM CLASSIC FILM FESTIVAL
DESCRIPTION:Each year movie lovers gather for four days in the heart of Hollywood to experience classic movies as they were meant to be experienced%3a on the big screen with the people who made them.DesignHTMLWords: 34   Characters: 183
URL:https://www.discoverhollywood.com/event/2017-tcm-classic-film-festival-2/
LOCATION:TCL Chinese Theatre\, 6925 Hollywood Blvd.\, Hollywood\, California\, 90028
END:VEVENT
BEGIN:VEVENT
DTSTART;TZID=Asia/Kolkata:20200721T000000
DTEND;TZID=Asia/Kolkata:20200721T000000
DTSTAMP:20260425T164104
CREATED:20250630T095903Z
LAST-MODIFIED:20250630T095903Z
UID:10001444-1595289600-1595289600@www.discoverhollywood.com
SUMMARY:A Tribute to Rock Hudson
DESCRIPTION:A screening of %22Has Anybody Seen My Gal%22 and a new Rock Hudson documentary %22All That Heaven Allows%22 preceded by a Q%26amp%3bA with Piper Laurie and biographer Mark Griffin%2c moderated by Illeana Douglas.%26nbsp%3b%26nbsp%3b%3cdiv%3e\n	%3cbr%3e\n%3c/div%3e\n%3cdiv%3e\n	%3ca href%3d%22http%3a//www.tclchinesetheatres.com/uncategorized/has-anybody-seen-my-gal-special-showing-qa/%22 target%3d%22_blank%22%3ewww.tclchinesetheatres.com/uncategorized/has-anybody-seen-my-gal-special-showing-qa%3c/a%3e\n%3c/div%3eDesignHTMLWords: 34   Characters: 266
URL:https://www.discoverhollywood.com/event/a-tribute-to-rock-hudson-2/
LOCATION:TCL Chinese Theatre\, 6925 Hollywood Blvd.\, Hollywood\, California\, 90028
END:VEVENT
BEGIN:VEVENT
DTSTART;TZID=Asia/Kolkata:20190630T000000
DTEND;TZID=Asia/Kolkata:20190630T000000
DTSTAMP:20260425T164104
CREATED:20250630T102903Z
LAST-MODIFIED:20250630T102903Z
UID:10001568-1561852800-1561852800@www.discoverhollywood.com
SUMMARY:AFI Fest
DESCRIPTION:DesignHTMLWords: 0   Characters: 0
URL:https://www.discoverhollywood.com/event/afi-fest-2/
LOCATION:TCL Chinese Theatre\, 6925 Hollywood Blvd.\, Hollywood\, California\, 90028
END:VEVENT
BEGIN:VEVENT
DTSTART;TZID=Asia/Kolkata:19980501T000000
DTEND;TZID=Asia/Kolkata:19980501T000000
DTSTAMP:20260425T164104
CREATED:20250702T052842Z
LAST-MODIFIED:20250702T052842Z
UID:10005302-893980800-893980800@www.discoverhollywood.com
SUMMARY:Excelsior!  A Celebration of the Life of Stan Lee
DESCRIPTION:A tribute event for Stan’s friends and fans to memorialize one of the greatest storytellers of all-time%2c and benefit one of Stan’s favorite charities%3a The Hero Initiative.%3cdiv%3e\n	%3cbr%3e\n%3c/div%3e\n%3cdiv%3e\n	%3ca href%3d%22https%3a//legionm.com/stantribute%22 target%3d%22_blank%22%3e%26nbsp%3bhttps%3a//legionm.com/stantribute%3c/a%3e\n%3c/div%3eDesignHTMLWords: 28   Characters: 200
URL:https://www.discoverhollywood.com/event/excelsior-a-celebration-of-the-life-of-stan-lee/
LOCATION:TCL Chinese Theatre\, 6925 Hollywood Blvd.\, Hollywood\, California\, 90028
END:VEVENT
BEGIN:VEVENT
DTSTART;TZID=Asia/Kolkata:19960917T000000
DTEND;TZID=Asia/Kolkata:19960917T000000
DTSTAMP:20260425T164104
CREATED:20250703T064910Z
LAST-MODIFIED:20250703T064910Z
UID:10005889-842918400-842918400@www.discoverhollywood.com
SUMMARY:Game Day
DESCRIPTION:%3cp class%3d%22MsoNormal%22%3e%3cb%3e%3ci%3e%3cspan%3eGAME DAY%3c/span%3e%3c/i%3e%3c/b%3e\n	%3cb%3e%3cspan%3e%3c/span%3e%3c/b%3e\n	%3cspan%3eis the story of a basketball-savvy teen %28Miller%29 who reluctantly agrees to coach a bankrupt self-centered entrepreneur %28Elizabeth Alderfer%29 become a team player in the office and on the company’s%2c up till now%2c all-male basketball team%2c when she enlists his help in a desperate attempt to save her job and her future.%3c/span%3e\n%3c/p%3eDesignHTMLWords: 54   Characters: 314
URL:https://www.discoverhollywood.com/event/game-day/
LOCATION:TCL Chinese Theatre\, 6925 Hollywood Blvd.\, Hollywood\, California\, 90028
END:VEVENT
BEGIN:VEVENT
DTSTART;TZID=Asia/Kolkata:19951221T000000
DTEND;TZID=Asia/Kolkata:19951221T000000
DTSTAMP:20260425T164104
CREATED:20250703T084048Z
LAST-MODIFIED:20250703T084051Z
UID:10006160-819504000-819504000@www.discoverhollywood.com
SUMMARY:Golden State Film Festival
DESCRIPTION:%3ca href%3d%22https%3a//www.goldenstatefilmfestival.com/%22%3ehttps%3a//www.goldenstatefilmfestival.com/%3c/a%3eDesignHTMLWords: 1   Characters: 37
URL:https://www.discoverhollywood.com/event/golden-state-film-festival/
LOCATION:TCL Chinese Theatre\, 6925 Hollywood Blvd.\, Hollywood\, California\, 90028
END:VEVENT
BEGIN:VEVENT
DTSTART;TZID=Asia/Kolkata:19940608T000000
DTEND;TZID=Asia/Kolkata:19940608T000000
DTSTAMP:20260425T164104
CREATED:20250703T093841Z
LAST-MODIFIED:20250703T093841Z
UID:10006436-771033600-771033600@www.discoverhollywood.com
SUMMARY:HollyShorts Monthly Screening
DESCRIPTION:Monthly screening features the best in short film%26nbsp%3b%26nbsp%3bDesignHTMLWords: 8   Characters: 49
URL:https://www.discoverhollywood.com/event/hollyshorts-monthly-screening/
LOCATION:TCL Chinese Theatre\, 6925 Hollywood Blvd.\, Hollywood\, California\, 90028
END:VEVENT
BEGIN:VEVENT
DTSTART;TZID=Asia/Kolkata:19940521T000000
DTEND;TZID=Asia/Kolkata:19940521T000000
DTSTAMP:20260425T164104
CREATED:20250703T094633Z
LAST-MODIFIED:20250703T094633Z
UID:10006454-769478400-769478400@www.discoverhollywood.com
SUMMARY:Hollywood Christmas Parade
DESCRIPTION:%3ca href%3d%22https%3a//thehollywoodchristmasparade.org/%22%3ehttps%3a//thehollywoodchristmasparade.org/%3c/a%3eDesignHTMLWords: 1   Characters: 38
URL:https://www.discoverhollywood.com/event/hollywood-christmas-parade-2/
LOCATION:TCL Chinese Theatre\, 6925 Hollywood Blvd.\, Hollywood\, California\, 90028
END:VEVENT
BEGIN:VEVENT
DTSTART;TZID=Asia/Kolkata:19940520T000000
DTEND;TZID=Asia/Kolkata:19940520T000000
DTSTAMP:20260425T164104
CREATED:20250703T094633Z
LAST-MODIFIED:20250703T094633Z
UID:10006455-769392000-769392000@www.discoverhollywood.com
SUMMARY:Hollywood Comedy Shorts Film Festival
DESCRIPTION:%3ca href%3d%22http%3a//www.hollywoodcomedyshortsfilmfest.com%22 target%3d%22_blank%22%3ewww.hollywoodcomedyshortsfilmfest.com%3c/a%3eDesignHTMLWords: 1   Characters: 35
URL:https://www.discoverhollywood.com/event/hollywood-comedy-shorts-film-festival/
LOCATION:TCL Chinese Theatre\, 6925 Hollywood Blvd.\, Hollywood\, California\, 90028
END:VEVENT
BEGIN:VEVENT
DTSTART;TZID=Asia/Kolkata:19920403T000000
DTEND;TZID=Asia/Kolkata:19920403T000000
DTSTAMP:20260425T164104
CREATED:20250703T114514Z
LAST-MODIFIED:20250703T114514Z
UID:10007232-702259200-702259200@www.discoverhollywood.com
SUMMARY:Jeff Bridges Book Signing
DESCRIPTION:%3ca href%3d%22http%3a//www.tclchinesetheatres.com/blog-events/jeff-bridges-book-signing-double-bill/%22%3ehttp%3a//www.tclchinesetheatres.com/blog-events/jeff-bridges-book-signing-double-bill/%3c/a%3eDesignHTMLWords: 1   Characters: 75
URL:https://www.discoverhollywood.com/event/jeff-bridges-book-signing/
LOCATION:TCL Chinese Theatre\, 6925 Hollywood Blvd.\, Hollywood\, California\, 90028
END:VEVENT
BEGIN:VEVENT
DTSTART;TZID=Asia/Kolkata:19900222T000000
DTEND;TZID=Asia/Kolkata:19900222T000000
DTSTAMP:20260425T164104
CREATED:20250709T095811Z
LAST-MODIFIED:20250709T123219Z
UID:10008663-635644800-635644800@www.discoverhollywood.com
SUMMARY:Los Angeles Italia Film\, Fashion and Art Fest
DESCRIPTION:%3ca href%3d%22http%3a//www.losangelesitalia.com/%22%3ehttp%3a//www.losangelesitalia.com/%3c/a%3eDesignHTMLWords: 1   Characters: 29
URL:https://www.discoverhollywood.com/event/los-angeles-italia-film-fashion-and-art-fest/
LOCATION:TCL Chinese Theatre\, 6925 Hollywood Blvd.\, Hollywood\, California\, 90028
END:VEVENT
BEGIN:VEVENT
DTSTART;TZID=Asia/Kolkata:19900214T000000
DTEND;TZID=Asia/Kolkata:19900214T000000
DTSTAMP:20260425T164104
CREATED:20250709T062208Z
LAST-MODIFIED:20250709T062208Z
UID:10008011-634953600-634953600@www.discoverhollywood.com
SUMMARY:Krampus Fears & Beers Holiday Screening
DESCRIPTION:DesignHTMLWords: 0   Characters: 0
URL:https://www.discoverhollywood.com/event/krampus-fears-beers-holiday-screening/
LOCATION:TCL Chinese Theatre\, 6925 Hollywood Blvd.\, Hollywood\, California\, 90028
END:VEVENT
BEGIN:VEVENT
DTSTART;TZID=Asia/Kolkata:19860615T000000
DTEND;TZID=Asia/Kolkata:19860615T000000
DTSTAMP:20260425T164104
CREATED:20250710T120044Z
LAST-MODIFIED:20250710T120044Z
UID:10009751-519177600-519177600@www.discoverhollywood.com
SUMMARY:Nerdland
DESCRIPTION:The big screen premiere of %3cem%3e%3cstrong%3eNerdland%3c/strong%3e%3c/em%3e%2c featuring a panel discussion with stars Patton Oswalt%2c Brendon Small%2c Kate Miccuci%2c and John Ennis. Along with director Chris Prynoski%2c and writer/producer Andrew Kevin Walker%2c moderated by stand-up comedian Blaine Capatch. Plus an exclusive short film from Titmouse%21DesignHTMLWords: 44   Characters: 294
URL:https://www.discoverhollywood.com/event/nerdland/
LOCATION:TCL Chinese Theatre\, 6925 Hollywood Blvd.\, Hollywood\, California\, 90028
END:VEVENT
BEGIN:VEVENT
DTSTART;TZID=Asia/Kolkata:19821104T000000
DTEND;TZID=Asia/Kolkata:19821104T000000
DTSTAMP:20260425T164104
CREATED:20250714T093531Z
LAST-MODIFIED:20250714T093531Z
UID:10010640-405216000-405216000@www.discoverhollywood.com
SUMMARY:Purple Rain Screening and Morris Day Signing
DESCRIPTION:%3ca href%3d%22http%3a//www.tclchinesetheatres.com/blog-events/purple-rain-anniversary-screening-morris-day-qa-and-book-signing/%22%3ehttp%3a//www.tclchinesetheatres.com/blog-events/purple-rain-anniversary-screening-morris-day-qa-and-book-signing/%3c/a%3eDesignHTMLWords: 1   Characters: 98
URL:https://www.discoverhollywood.com/event/purple-rain-screening-and-morris-day-signing/
LOCATION:TCL Chinese Theatre\, 6925 Hollywood Blvd.\, Hollywood\, California\, 90028
END:VEVENT
BEGIN:VEVENT
DTSTART;TZID=Asia/Kolkata:19791109T000000
DTEND;TZID=Asia/Kolkata:19791109T000000
DTSTAMP:20260425T164104
CREATED:20250714T115536Z
LAST-MODIFIED:20250714T115536Z
UID:10011709-310953600-310953600@www.discoverhollywood.com
SUMMARY:Screamfest
DESCRIPTION:DesignHTMLWords: 0   Characters: 0
URL:https://www.discoverhollywood.com/event/screamfest/
LOCATION:TCL Chinese Theatre\, 6925 Hollywood Blvd.\, Hollywood\, California\, 90028
END:VEVENT
BEGIN:VEVENT
DTSTART;TZID=Asia/Kolkata:19790311T000000
DTEND;TZID=Asia/Kolkata:19790311T000000
DTSTAMP:20260425T164104
CREATED:20250714T120609Z
LAST-MODIFIED:20250714T120609Z
UID:10011952-289958400-289958400@www.discoverhollywood.com
SUMMARY:Short Shorts Film Festival
DESCRIPTION:%3cspan%3eA free one-day film festival bringing together premier film talent from Japan.%3c/span%3eDesignHTMLWords: 12   Characters: 76
URL:https://www.discoverhollywood.com/event/short-shorts-film-festival/
LOCATION:TCL Chinese Theatre\, 6925 Hollywood Blvd.\, Hollywood\, California\, 90028
END:VEVENT
BEGIN:VEVENT
DTSTART;TZID=Asia/Kolkata:19780504T000000
DTEND;TZID=Asia/Kolkata:19780504T000000
DTSTAMP:20260425T164104
CREATED:20250715T080529Z
LAST-MODIFIED:20250715T080529Z
UID:10012264-263088000-263088000@www.discoverhollywood.com
SUMMARY:Something Wicked This Way Comes
DESCRIPTION:%3ca href%3d%22https%3a//tickets.fandango.com/transaction/ticketing/express/ticketboxoffice.aspx%3frow_count%3d0%26amp%3btid%3dAAACD%26amp%3brfilter%3d%26amp%3bfrom%3dRedirect.aspx%26amp%3bmid%3d87097%26amp%3bwssaffid%3d12959_ChineseTheatres%26amp%3bwssac%3d58%26amp%3brefreshdate%3d09/18/2015%22 target%3d%22_blank%22%3ehttps%3a//tickets.fandango.com/transaction/ticketing/express/ticketboxoffice.aspx%3frow_count%3d0%26amp%3btid%3dAAACD%26amp%3brfilter%3d%26amp%3bfrom%3dRedirect.aspx%26amp%3bmid%3d87097%26amp%3bwssaffid%3d12959_ChineseTheatres%26amp%3bwssac%3d58%26amp%3brefreshdate%3d09/18/2015%3c/a%3eDesignHTMLWords: 1   Characters: 187
URL:https://www.discoverhollywood.com/event/something-wicked-this-way-comes/
LOCATION:TCL Chinese Theatre\, 6925 Hollywood Blvd.\, Hollywood\, California\, 90028
END:VEVENT
BEGIN:VEVENT
DTSTART;TZID=Asia/Kolkata:19760423T000000
DTEND;TZID=Asia/Kolkata:19760423T000000
DTSTAMP:20260425T164104
CREATED:20250715T110233Z
LAST-MODIFIED:20250715T110233Z
UID:10013005-199065600-199065600@www.discoverhollywood.com
SUMMARY:The 14th Annuak HollyShorts Film Festival
DESCRIPTION:%3ca href%3d%22http%3a//www.hollyshorts.com/%22 target%3d%22_blank%22%3ehttp%3a//www.hollyshorts.com/%3c/a%3eDesignHTMLWords: 1   Characters: 24
URL:https://www.discoverhollywood.com/event/the-14th-annuak-hollyshorts-film-festival/
LOCATION:TCL Chinese Theatre\, 6925 Hollywood Blvd.\, Hollywood\, California\, 90028
END:VEVENT
BEGIN:VEVENT
DTSTART;TZID=Asia/Kolkata:19750725T000000
DTEND;TZID=Asia/Kolkata:19750725T000000
DTSTAMP:20260425T164104
CREATED:20250715T115550Z
LAST-MODIFIED:20250715T115550Z
UID:10013278-175478400-175478400@www.discoverhollywood.com
SUMMARY:The Cat That Changed America
DESCRIPTION:The film reaches out to the public and the next generation of conservationists as an entertaining and emotional film about living alongside wildlife in LA.DesignHTMLWords: 25   Characters: 154
URL:https://www.discoverhollywood.com/event/the-cat-that-changed-america/
LOCATION:TCL Chinese Theatre\, 6925 Hollywood Blvd.\, Hollywood\, California\, 90028
END:VEVENT
BEGIN:VEVENT
DTSTART;TZID=Asia/Kolkata:19730127T000000
DTEND;TZID=Asia/Kolkata:19730127T000000
DTSTAMP:20260425T164104
CREATED:20250716T052520Z
LAST-MODIFIED:20250716T052520Z
UID:10014002-96940800-96940800@www.discoverhollywood.com
SUMMARY:The Rolling Stones Ole Ole Ole !
DESCRIPTION:%3cspan style%3d%22margin%3a0px%3b font-family%3aArial%2csans-serif%3b font-size%3a12pt%3b%22%3eThis vivid documentary follows the Stones’ tour of early 2016 through 10 Latin American cities and showcases its historic tour finale as the first rock band to perform to an audience of 1.2 million in Havana.%26nbsp%3b Also%2c at this one night special event%2c fans will view an exclusive introduction from the band and two full length bonus performances from the Argentinian tour date.%3c/span%3eDesignHTMLWords: 63   Characters: 369
URL:https://www.discoverhollywood.com/event/the-rolling-stones-ole-ole-ole/
LOCATION:TCL Chinese Theatre\, 6925 Hollywood Blvd.\, Hollywood\, California\, 90028
END:VEVENT
BEGIN:VEVENT
DTSTART;TZID=Asia/Kolkata:20260425T164104
DTEND;TZID=Asia/Kolkata:20260425T164104
DTSTAMP:20260425T164104
CREATED:20250709T083457Z
LAST-MODIFIED:20250709T083457Z
UID:10008195-0-0@www.discoverhollywood.com
SUMMARY:Lake Bodom
DESCRIPTION:%3cspan%3e\n	Inspired by the true events of the mysterious Lake Bodom murders that have haunted Finland for more than 50 years%2c%26nbsp%3b%3ci%3eLake Bodom%3c/i%3e%26nbsp%3bpays homage to the true story without exploiting the still unsolved crime. In a twisted new tale using elements of the unsolved mystery that develop into an enjoyably disturbing creation%2c\n	%3cspan%3efour teenagers in present-day Finland make their way to the lake to recount the tale in hopes to solve the mystery%26nbsp%3b things take a dark turn. %3c/span%3e\n%3c/span%3eDesignHTMLWords: 78   Characters: 449
URL:https://www.discoverhollywood.com/event/lake-bodom/
LOCATION:TCL Chinese Theatre\, 6925 Hollywood Blvd.\, Hollywood\, California\, 90028
END:VEVENT
END:VCALENDAR