BEGIN:VCALENDAR
VERSION:2.0
PRODID:-//Discover Hollywood Magazine - ECPv6.15.20//NONSGML v1.0//EN
CALSCALE:GREGORIAN
METHOD:PUBLISH
X-ORIGINAL-URL:https://www.discoverhollywood.com
X-WR-CALDESC:Events for Discover Hollywood Magazine
REFRESH-INTERVAL;VALUE=DURATION:PT1H
X-Robots-Tag:noindex
X-PUBLISHED-TTL:PT1H
BEGIN:VTIMEZONE
TZID:Asia/Kolkata
BEGIN:STANDARD
TZOFFSETFROM:+0530
TZOFFSETTO:+0530
TZNAME:IST
DTSTART:20040101T000000
END:STANDARD
END:VTIMEZONE
BEGIN:VEVENT
DTSTART;TZID=Asia/Kolkata:20091027T000000
DTEND;TZID=Asia/Kolkata:20091027T000000
DTSTAMP:20260424T192810
CREATED:20250630T131239Z
LAST-MODIFIED:20250716T125331Z
UID:10003113-1256601600-1256601600@www.discoverhollywood.com
SUMMARY:Boogie
DESCRIPTION:%3ca href%3d%22https%3a//www.theroxy.com/%22 target%3d%22_blank%22%3ehttps%3a//www.theroxy.com/%3c/a%3eDesignHTMLWords: 1   Characters: 21
URL:https://www.discoverhollywood.com/event/boogie/
LOCATION:The Roxy\, 9009 Sunset Blvd.\, Los Angeles\, California
END:VEVENT
BEGIN:VEVENT
DTSTART;TZID=Asia/Kolkata:20090927T000000
DTEND;TZID=Asia/Kolkata:20090927T000000
DTSTAMP:20260424T192810
CREATED:20250630T131256Z
LAST-MODIFIED:20250716T125600Z
UID:10003128-1254009600-1254009600@www.discoverhollywood.com
SUMMARY:Born Of Osiris
DESCRIPTION:%3cbr%3eDesignHTMLWords: 0   Characters: 0
URL:https://www.discoverhollywood.com/event/born-of-osiris/
LOCATION:The Roxy\, 9009 Sunset Blvd.\, Los Angeles\, California
END:VEVENT
BEGIN:VEVENT
DTSTART;TZID=Asia/Kolkata:20090925T000000
DTEND;TZID=Asia/Kolkata:20090925T000000
DTSTAMP:20260424T192810
CREATED:20250630T131256Z
LAST-MODIFIED:20250716T125601Z
UID:10003129-1253836800-1253836800@www.discoverhollywood.com
SUMMARY:Born of Osiris
DESCRIPTION:DesignHTMLWords: 0   Characters: 0
URL:https://www.discoverhollywood.com/event/born-of-osiris-2/
LOCATION:The Roxy\, 9009 Sunset Blvd.\, Los Angeles\, California
END:VEVENT
BEGIN:VEVENT
DTSTART;TZID=Asia/Kolkata:20090909T000000
DTEND;TZID=Asia/Kolkata:20090909T000000
DTSTAMP:20260424T192810
CREATED:20250630T131311Z
LAST-MODIFIED:20250716T130001Z
UID:10003137-1252454400-1252454400@www.discoverhollywood.com
SUMMARY:Boston Manor
DESCRIPTION:%3ca href%3d%22https%3a//www.theroxy.com/events/detail/376950%22%3ehttps%3a//www.theroxy.com/events/detail/376950%3c/a%3eDesignHTMLWords: 1   Characters: 41
URL:https://www.discoverhollywood.com/event/boston-manor/
LOCATION:The Roxy\, 9009 Sunset Blvd.\, Los Angeles\, California
END:VEVENT
BEGIN:VEVENT
DTSTART;TZID=Asia/Kolkata:20090816T000000
DTEND;TZID=Asia/Kolkata:20090816T000000
DTSTAMP:20260424T192810
CREATED:20250630T131329Z
LAST-MODIFIED:20250716T130155Z
UID:10003149-1250380800-1250380800@www.discoverhollywood.com
SUMMARY:Boy & Bear
DESCRIPTION:%3ca href%3d%22https%3a//www.theroxy.com/events/detail/376650%22%3ehttps%3a//www.theroxy.com/events/detail/376650%3c/a%3eDesignHTMLWords: 1   Characters: 41
URL:https://www.discoverhollywood.com/event/boy-bear/
LOCATION:The Roxy\, 9009 Sunset Blvd.\, Los Angeles\, California
END:VEVENT
BEGIN:VEVENT
DTSTART;TZID=Asia/Kolkata:20081225T000000
DTEND;TZID=Asia/Kolkata:20081225T000000
DTSTAMP:20260424T192810
CREATED:20250701T063037Z
LAST-MODIFIED:20250701T063037Z
UID:10003261-1230163200-1230163200@www.discoverhollywood.com
SUMMARY:Broncho
DESCRIPTION:%3ca href%3d%22https%3a//www.theroxy.com/events/detail/380260%22%3ehttps%3a//www.theroxy.com/events/detail/380260%3c/a%3eDesignHTMLWords: 1   Characters: 41
URL:https://www.discoverhollywood.com/event/broncho/
LOCATION:The Roxy\, 9009 Sunset Blvd.\, Los Angeles\, California
END:VEVENT
BEGIN:VEVENT
DTSTART;TZID=Asia/Kolkata:20081211T000000
DTEND;TZID=Asia/Kolkata:20081211T000000
DTSTAMP:20260424T192810
CREATED:20250701T063054Z
LAST-MODIFIED:20250701T063054Z
UID:10003268-1228953600-1228953600@www.discoverhollywood.com
SUMMARY:Broods
DESCRIPTION:DesignHTMLWords: 0   Characters: 0
URL:https://www.discoverhollywood.com/event/broods/
LOCATION:The Roxy\, 9009 Sunset Blvd.\, Los Angeles\, California
END:VEVENT
BEGIN:VEVENT
DTSTART;TZID=Asia/Kolkata:20081121T000000
DTEND;TZID=Asia/Kolkata:20081121T000000
DTSTAMP:20260424T192810
CREATED:20250701T063120Z
LAST-MODIFIED:20250701T063120Z
UID:10003278-1227225600-1227225600@www.discoverhollywood.com
SUMMARY:Brother Ali
DESCRIPTION:DesignHTMLWords: 0   Characters: 0
URL:https://www.discoverhollywood.com/event/brother-ali-2/
LOCATION:The Roxy\, 9009 Sunset Blvd.\, Los Angeles\, California
END:VEVENT
BEGIN:VEVENT
DTSTART;TZID=Asia/Kolkata:20081109T000000
DTEND;TZID=Asia/Kolkata:20081109T000000
DTSTAMP:20260424T192810
CREATED:20250701T063128Z
LAST-MODIFIED:20250701T063128Z
UID:10003284-1226188800-1226188800@www.discoverhollywood.com
SUMMARY:Brown Sabbath
DESCRIPTION:DesignHTMLWords: 0   Characters: 0
URL:https://www.discoverhollywood.com/event/brown-sabbath/
LOCATION:The Roxy\, 9009 Sunset Blvd.\, Los Angeles\, California
END:VEVENT
BEGIN:VEVENT
DTSTART;TZID=Asia/Kolkata:20081107T000000
DTEND;TZID=Asia/Kolkata:20081107T000000
DTSTAMP:20260424T192810
CREATED:20250701T063128Z
LAST-MODIFIED:20250701T063128Z
UID:10003285-1226016000-1226016000@www.discoverhollywood.com
SUMMARY:Brownies & Lemonade: The M Machine
DESCRIPTION:%3cbr%3eDesignHTMLWords: 0   Characters: 0
URL:https://www.discoverhollywood.com/event/brownies-lemonade-the-m-machine/
LOCATION:The Roxy\, 9009 Sunset Blvd.\, Los Angeles\, California
END:VEVENT
BEGIN:VEVENT
DTSTART;TZID=Asia/Kolkata:20081016T000000
DTEND;TZID=Asia/Kolkata:20081016T000000
DTSTAMP:20260424T192810
CREATED:20250701T063156Z
LAST-MODIFIED:20250701T063156Z
UID:10003296-1224115200-1224115200@www.discoverhollywood.com
SUMMARY:Brujeria
DESCRIPTION:%3cbr%3eDesignHTMLWords: 0   Characters: 0
URL:https://www.discoverhollywood.com/event/brujeria/
LOCATION:The Roxy\, 9009 Sunset Blvd.\, Los Angeles\, California
END:VEVENT
BEGIN:VEVENT
DTSTART;TZID=Asia/Kolkata:20080918T000000
DTEND;TZID=Asia/Kolkata:20080918T000000
DTSTAMP:20260424T192810
CREATED:20250701T063214Z
LAST-MODIFIED:20250701T063214Z
UID:10003310-1221696000-1221696000@www.discoverhollywood.com
SUMMARY:Buck 65
DESCRIPTION:Richard Terfry%2c better known as Buck 65%2c is a Canadian hip hop artist%2c MC and turntablist. However he has recently moved away from hip hop in a stylistic context%2c and is moving closer to blues%2c country%2c rock%2c folk and avant-garde genres. That said%2c his new direction is seemingly still underpinned by an extensive background in abstract hip hop%2c his trademark rhyme-phrasing and lyrical aspiration evident in the altered timbre vocal delivery displayed in his more recent releases.\n%3cbr%3eDesignHTMLWords: 77   Characters: 467
URL:https://www.discoverhollywood.com/event/buck-65/
LOCATION:The Roxy\, 9009 Sunset Blvd.\, Los Angeles\, California
END:VEVENT
BEGIN:VEVENT
DTSTART;TZID=Asia/Kolkata:20080916T000000
DTEND;TZID=Asia/Kolkata:20080916T000000
DTSTAMP:20260424T192810
CREATED:20250701T063220Z
LAST-MODIFIED:20250701T063220Z
UID:10003311-1221523200-1221523200@www.discoverhollywood.com
SUMMARY:Buck-O-Nine
DESCRIPTION:DesignHTMLWords: 0   Characters: 0
URL:https://www.discoverhollywood.com/event/buck-o-nine/
LOCATION:The Roxy\, 9009 Sunset Blvd.\, Los Angeles\, California
END:VEVENT
BEGIN:VEVENT
DTSTART;TZID=Asia/Kolkata:20080809T000000
DTEND;TZID=Asia/Kolkata:20080809T000000
DTSTAMP:20260424T192810
CREATED:20250701T063237Z
LAST-MODIFIED:20250701T063237Z
UID:10003330-1218240000-1218240000@www.discoverhollywood.com
SUMMARY:Built to Spill
DESCRIPTION:DesignHTMLWords: 0   Characters: 0
URL:https://www.discoverhollywood.com/event/built-to-spill/
LOCATION:The Roxy\, 9009 Sunset Blvd.\, Los Angeles\, California
END:VEVENT
BEGIN:VEVENT
DTSTART;TZID=Asia/Kolkata:20080807T000000
DTEND;TZID=Asia/Kolkata:20080807T000000
DTSTAMP:20260424T192810
CREATED:20250701T063238Z
LAST-MODIFIED:20250701T063238Z
UID:10003331-1218067200-1218067200@www.discoverhollywood.com
SUMMARY:Built To Spill + Slam Dunk
DESCRIPTION:%3cbr%3eDesignHTMLWords: 0   Characters: 0
URL:https://www.discoverhollywood.com/event/built-to-spill-slam-dunk/
LOCATION:The Roxy\, 9009 Sunset Blvd.\, Los Angeles\, California
END:VEVENT
BEGIN:VEVENT
DTSTART;TZID=Asia/Kolkata:20080507T000000
DTEND;TZID=Asia/Kolkata:20080507T000000
DTSTAMP:20260424T192810
CREATED:20250701T063345Z
LAST-MODIFIED:20250701T063345Z
UID:10003377-1210118400-1210118400@www.discoverhollywood.com
SUMMARY:Buzzcocks
DESCRIPTION:%3cbr%3eDesignHTMLWords: 0   Characters: 0
URL:https://www.discoverhollywood.com/event/buzzcocks-2/
LOCATION:The Roxy\, 9009 Sunset Blvd.\, Los Angeles\, California
END:VEVENT
BEGIN:VEVENT
DTSTART;TZID=Asia/Kolkata:20070521T000000
DTEND;TZID=Asia/Kolkata:20070521T000000
DTSTAMP:20260424T192810
CREATED:20250701T065837Z
LAST-MODIFIED:20250701T065837Z
UID:10003458-1179705600-1179705600@www.discoverhollywood.com
SUMMARY:Cartel
DESCRIPTION:%3ca href%3d%22http%3a//www.theroxy.com/event/759549-cartel-west-hollywood/%22%3eTickets%3c/a%3eDesignHTMLWords: 1   Characters: 7
URL:https://www.discoverhollywood.com/event/cartel/
LOCATION:The Roxy\, 9009 Sunset Blvd.\, Los Angeles\, California
END:VEVENT
BEGIN:VEVENT
DTSTART;TZID=Asia/Kolkata:20070503T000000
DTEND;TZID=Asia/Kolkata:20070503T000000
DTSTAMP:20260424T192810
CREATED:20250701T070239Z
LAST-MODIFIED:20250701T070239Z
UID:10003467-1178150400-1178150400@www.discoverhollywood.com
SUMMARY:Casanova
DESCRIPTION:%3ca href%3d%22https%3a//www.theroxy.com/events%22%3ehttps%3a//www.theroxy.com/events%3c/a%3eDesignHTMLWords: 1   Characters: 27
URL:https://www.discoverhollywood.com/event/casanova/
LOCATION:The Roxy\, 9009 Sunset Blvd.\, Los Angeles\, California
END:VEVENT
BEGIN:VEVENT
DTSTART;TZID=Asia/Kolkata:20070129T000000
DTEND;TZID=Asia/Kolkata:20070129T000000
DTSTAMP:20260424T192810
CREATED:20250701T080245Z
LAST-MODIFIED:20250701T080245Z
UID:10003514-1170028800-1170028800@www.discoverhollywood.com
SUMMARY:Cayucas
DESCRIPTION:%3ca href%3d%22https%3a//www.theroxy.com/events%22%3ehttps%3a//www.theroxy.com/events%3c/a%3eDesignHTMLWords: 1   Characters: 27
URL:https://www.discoverhollywood.com/event/cayucas/
LOCATION:The Roxy\, 9009 Sunset Blvd.\, Los Angeles\, California
END:VEVENT
BEGIN:VEVENT
DTSTART;TZID=Asia/Kolkata:20070111T000000
DTEND;TZID=Asia/Kolkata:20070111T000000
DTSTAMP:20260424T192810
CREATED:20250701T080332Z
LAST-MODIFIED:20250701T080332Z
UID:10003523-1168473600-1168473600@www.discoverhollywood.com
SUMMARY:Cee-lo
DESCRIPTION:DesignHTMLWords: 0   Characters: 0
URL:https://www.discoverhollywood.com/event/cee-lo/
LOCATION:The Roxy\, 9009 Sunset Blvd.\, Los Angeles\, California
END:VEVENT
BEGIN:VEVENT
DTSTART;TZID=Asia/Kolkata:20061206T000000
DTEND;TZID=Asia/Kolkata:20061206T000000
DTSTAMP:20260424T192810
CREATED:20250701T080644Z
LAST-MODIFIED:20250701T080644Z
UID:10003541-1165363200-1165363200@www.discoverhollywood.com
SUMMARY:Ceramic Animal
DESCRIPTION:DesignHTMLWords: 0   Characters: 0
URL:https://www.discoverhollywood.com/event/ceramic-animal/
LOCATION:The Roxy\, 9009 Sunset Blvd.\, Los Angeles\, California
END:VEVENT
BEGIN:VEVENT
DTSTART;TZID=Asia/Kolkata:20061009T000000
DTEND;TZID=Asia/Kolkata:20061009T000000
DTSTAMP:20260424T192810
CREATED:20250701T081642Z
LAST-MODIFIED:20250701T081642Z
UID:10003570-1160352000-1160352000@www.discoverhollywood.com
SUMMARY:Charles Bradley
DESCRIPTION:%22All I%27ve been trying to show the world is the love I have to give%2c%22 says Bradley. %22I hope that when you look at me%2c you%27re gonna see a person who walks this planet in a way that%2c when the Lord calls him home%2c He says%2c %27Well done%2c servant.%27 If God can see that I%27ve loved all as He%27s loved us – that%27s all I can do. And that%27s what I fight to do.%22DesignHTMLWords: 74   Characters: 325
URL:https://www.discoverhollywood.com/event/charles-bradley/
LOCATION:The Roxy\, 9009 Sunset Blvd.\, Los Angeles\, California
END:VEVENT
BEGIN:VEVENT
DTSTART;TZID=Asia/Kolkata:20060711T000000
DTEND;TZID=Asia/Kolkata:20060711T000000
DTSTAMP:20260424T192810
CREATED:20250701T083110Z
LAST-MODIFIED:20250701T083110Z
UID:10003615-1152576000-1152576000@www.discoverhollywood.com
SUMMARY:Chelsea Cutler w/Christian French
DESCRIPTION:DesignHTMLWords: 0   Characters: 0
URL:https://www.discoverhollywood.com/event/chelsea-cutler-w-christian-french/
LOCATION:The Roxy\, 9009 Sunset Blvd.\, Los Angeles\, California
END:VEVENT
BEGIN:VEVENT
DTSTART;TZID=Asia/Kolkata:20060307T000000
DTEND;TZID=Asia/Kolkata:20060307T000000
DTSTAMP:20260424T192810
CREATED:20250701T084040Z
LAST-MODIFIED:20250701T084040Z
UID:10003678-1141689600-1141689600@www.discoverhollywood.com
SUMMARY:Choir Boy
DESCRIPTION:%3ca href%3d%22https%3a//www.theroxy.com/events%22%3ehttps%3a//www.theroxy.com/events%3c/a%3eDesignHTMLWords: 1   Characters: 27
URL:https://www.discoverhollywood.com/event/choir-boy/
LOCATION:The Roxy\, 9009 Sunset Blvd.\, Los Angeles\, California
END:VEVENT
BEGIN:VEVENT
DTSTART;TZID=Asia/Kolkata:20051227T000000
DTEND;TZID=Asia/Kolkata:20051227T000000
DTSTAMP:20260424T192810
CREATED:20250701T085454Z
LAST-MODIFIED:20250701T085454Z
UID:10003713-1135641600-1135641600@www.discoverhollywood.com
SUMMARY:Chris Shifflet
DESCRIPTION:DesignHTMLWords: 0   Characters: 0
URL:https://www.discoverhollywood.com/event/chris-shifflet/
LOCATION:The Roxy\, 9009 Sunset Blvd.\, Los Angeles\, California
END:VEVENT
BEGIN:VEVENT
DTSTART;TZID=Asia/Kolkata:20051203T000000
DTEND;TZID=Asia/Kolkata:20051203T000000
DTSTAMP:20260424T192810
CREATED:20250701T085659Z
LAST-MODIFIED:20250701T085659Z
UID:10003725-1133568000-1133568000@www.discoverhollywood.com
SUMMARY:Christian French
DESCRIPTION:%3ca href%3d%22https%3a//www.theroxy.com/events/detail/376055%22%3ehttps%3a//www.theroxy.com/events/detail/376055%3c/a%3eDesignHTMLWords: 1   Characters: 41
URL:https://www.discoverhollywood.com/event/christian-french/
LOCATION:The Roxy\, 9009 Sunset Blvd.\, Los Angeles\, California
END:VEVENT
BEGIN:VEVENT
DTSTART;TZID=Asia/Kolkata:20051121T000000
DTEND;TZID=Asia/Kolkata:20051121T000000
DTSTAMP:20260424T192810
CREATED:20250701T090004Z
LAST-MODIFIED:20250701T090004Z
UID:10003731-1132531200-1132531200@www.discoverhollywood.com
SUMMARY:Christian Scott
DESCRIPTION:%3cbr%3eDesignHTMLWords: 0   Characters: 0
URL:https://www.discoverhollywood.com/event/christian-scott/
LOCATION:The Roxy\, 9009 Sunset Blvd.\, Los Angeles\, California
END:VEVENT
BEGIN:VEVENT
DTSTART;TZID=Asia/Kolkata:20051119T000000
DTEND;TZID=Asia/Kolkata:20051119T000000
DTSTAMP:20260424T192810
CREATED:20250701T090004Z
LAST-MODIFIED:20250701T090004Z
UID:10003732-1132358400-1132358400@www.discoverhollywood.com
SUMMARY:Christian Scott Atunde Adjuah
DESCRIPTION:DesignHTMLWords: 0   Characters: 0
URL:https://www.discoverhollywood.com/event/christian-scott-atunde-adjuah/
LOCATION:The Roxy\, 9009 Sunset Blvd.\, Los Angeles\, California
END:VEVENT
BEGIN:VEVENT
DTSTART;TZID=Asia/Kolkata:20050515T000000
DTEND;TZID=Asia/Kolkata:20050515T000000
DTSTAMP:20260424T192810
CREATED:20250701T092512Z
LAST-MODIFIED:20250701T092512Z
UID:10003826-1116115200-1116115200@www.discoverhollywood.com
SUMMARY:Cisco Adler
DESCRIPTION:%3ca href%3d%22https%3a//www.theroxy.com/%22 target%3d%22_blank%22%3ehttps%3a//www.theroxy.com/%3c/a%3eDesignHTMLWords: 1   Characters: 21
URL:https://www.discoverhollywood.com/event/cisco-adler/
LOCATION:The Roxy\, 9009 Sunset Blvd.\, Los Angeles\, California
END:VEVENT
BEGIN:VEVENT
DTSTART;TZID=Asia/Kolkata:20050505T000000
DTEND;TZID=Asia/Kolkata:20050505T000000
DTSTAMP:20260424T192810
CREATED:20250701T092713Z
LAST-MODIFIED:20250701T092713Z
UID:10003831-1115251200-1115251200@www.discoverhollywood.com
SUMMARY:Citizens with High Waisted
DESCRIPTION:%3cbr%3eDesignHTMLWords: 0   Characters: 0
URL:https://www.discoverhollywood.com/event/citizens-with-high-waisted/
LOCATION:The Roxy\, 9009 Sunset Blvd.\, Los Angeles\, California
END:VEVENT
END:VCALENDAR