BEGIN:VCALENDAR
VERSION:2.0
PRODID:-//Discover Hollywood Magazine - ECPv6.15.20//NONSGML v1.0//EN
CALSCALE:GREGORIAN
METHOD:PUBLISH
X-WR-CALNAME:Discover Hollywood Magazine
X-ORIGINAL-URL:https://www.discoverhollywood.com
X-WR-CALDESC:Events for Discover Hollywood Magazine
REFRESH-INTERVAL;VALUE=DURATION:PT1H
X-Robots-Tag:noindex
X-PUBLISHED-TTL:PT1H
BEGIN:VTIMEZONE
TZID:Asia/Kolkata
BEGIN:STANDARD
TZOFFSETFROM:+0530
TZOFFSETTO:+0530
TZNAME:IST
DTSTART:19980101T000000
END:STANDARD
END:VTIMEZONE
BEGIN:VEVENT
DTSTART;TZID=Asia/Kolkata:20031206T000000
DTEND;TZID=Asia/Kolkata:20031206T000000
DTSTAMP:20260425T002123
CREATED:20250701T105154Z
LAST-MODIFIED:20250701T105154Z
UID:10004089-1070668800-1070668800@www.discoverhollywood.com
SUMMARY:Cozz
DESCRIPTION:%3cbr%3eDesignHTMLWords: 0   Characters: 0
URL:https://www.discoverhollywood.com/event/cozz/
LOCATION:The Roxy\, 9009 Sunset Blvd.\, Los Angeles\, California
END:VEVENT
BEGIN:VEVENT
DTSTART;TZID=Asia/Kolkata:20031011T000000
DTEND;TZID=Asia/Kolkata:20031011T000000
DTSTAMP:20260425T002123
CREATED:20250701T105757Z
LAST-MODIFIED:20250701T105757Z
UID:10004117-1065830400-1065830400@www.discoverhollywood.com
SUMMARY:Crime in Stereo
DESCRIPTION:%3ca href%3d%22https%3a//www.theroxy.com/%22 target%3d%22_blank%22%3ehttps%3a//www.theroxy.com/%3c/a%3eDesignHTMLWords: 1   Characters: 21
URL:https://www.discoverhollywood.com/event/crime-in-stereo/
LOCATION:The Roxy\, 9009 Sunset Blvd.\, Los Angeles\, California
END:VEVENT
BEGIN:VEVENT
DTSTART;TZID=Asia/Kolkata:20030919T000000
DTEND;TZID=Asia/Kolkata:20030919T000000
DTSTAMP:20260425T002123
CREATED:20250701T110005Z
LAST-MODIFIED:20250701T110005Z
UID:10004128-1063929600-1063929600@www.discoverhollywood.com
SUMMARY:Cro-Mags: 30th Anniversary
DESCRIPTION:%3ca href%3d%22https%3a//www.theroxy.com/events/detail/378200%22%3ehttps%3a//www.theroxy.com/events/detail/378200%3c/a%3eDesignHTMLWords: 1   Characters: 41
URL:https://www.discoverhollywood.com/event/cro-mags-30th-anniversary/
LOCATION:The Roxy\, 9009 Sunset Blvd.\, Los Angeles\, California
END:VEVENT
BEGIN:VEVENT
DTSTART;TZID=Asia/Kolkata:20030719T000000
DTEND;TZID=Asia/Kolkata:20030719T000000
DTSTAMP:20260425T002123
CREATED:20250701T110602Z
LAST-MODIFIED:20250701T110602Z
UID:10004159-1058572800-1058572800@www.discoverhollywood.com
SUMMARY:Cult of Luna
DESCRIPTION:with Subrosa %26amp%3b Minsk\n%3cbr%3eDesignHTMLWords: 3   Characters: 19
URL:https://www.discoverhollywood.com/event/cult-of-luna/
LOCATION:The Roxy\, 9009 Sunset Blvd.\, Los Angeles\, California
END:VEVENT
BEGIN:VEVENT
DTSTART;TZID=Asia/Kolkata:20030301T000000
DTEND;TZID=Asia/Kolkata:20030301T000000
DTSTAMP:20260425T002123
CREATED:20250701T113036Z
LAST-MODIFIED:20250701T113036Z
UID:10004229-1046476800-1046476800@www.discoverhollywood.com
SUMMARY:Damo Suzuki
DESCRIPTION:%3ca href%3d%22https%3a//www.theroxy.com/%22 target%3d%22_blank%22%3ehttps%3a//www.theroxy.com/%3c/a%3eDesignHTMLWords: 1   Characters: 21
URL:https://www.discoverhollywood.com/event/damo-suzuki/
LOCATION:The Roxy\, 9009 Sunset Blvd.\, Los Angeles\, California
END:VEVENT
BEGIN:VEVENT
DTSTART;TZID=Asia/Kolkata:20030124T000000
DTEND;TZID=Asia/Kolkata:20030124T000000
DTSTAMP:20260425T002123
CREATED:20250701T113142Z
LAST-MODIFIED:20250701T113142Z
UID:10004247-1043366400-1043366400@www.discoverhollywood.com
SUMMARY:Dance With the Dead
DESCRIPTION:DesignHTMLWords: 0   Characters: 0
URL:https://www.discoverhollywood.com/event/dance-with-the-dead/
LOCATION:The Roxy\, 9009 Sunset Blvd.\, Los Angeles\, California
END:VEVENT
BEGIN:VEVENT
DTSTART;TZID=Asia/Kolkata:20020823T000000
DTEND;TZID=Asia/Kolkata:20020823T000000
DTSTAMP:20260425T002123
CREATED:20250701T115924Z
LAST-MODIFIED:20250701T115924Z
UID:10004324-1030060800-1030060800@www.discoverhollywood.com
SUMMARY:Dave
DESCRIPTION:%3ca href%3d%22https%3a//www.theroxy.com/events/detail/375386%22%3ehttps%3a//www.theroxy.com/events/detail/375386%3c/a%3eDesignHTMLWords: 1   Characters: 41
URL:https://www.discoverhollywood.com/event/dave/
LOCATION:The Roxy\, 9009 Sunset Blvd.\, Los Angeles\, California
END:VEVENT
BEGIN:VEVENT
DTSTART;TZID=Asia/Kolkata:20020614T000000
DTEND;TZID=Asia/Kolkata:20020614T000000
DTSTAMP:20260425T002123
CREATED:20250701T120309Z
LAST-MODIFIED:20250701T120309Z
UID:10004359-1024012800-1024012800@www.discoverhollywood.com
SUMMARY:David Duchovny
DESCRIPTION:DesignHTMLWords: 0   Characters: 0
URL:https://www.discoverhollywood.com/event/david-duchovny/
LOCATION:The Roxy\, 9009 Sunset Blvd.\, Los Angeles\, California
END:VEVENT
BEGIN:VEVENT
DTSTART;TZID=Asia/Kolkata:20020421T000000
DTEND;TZID=Asia/Kolkata:20020421T000000
DTSTAMP:20260425T002123
CREATED:20250701T120356Z
LAST-MODIFIED:20250701T120356Z
UID:10004386-1019347200-1019347200@www.discoverhollywood.com
SUMMARY:Davila 666
DESCRIPTION:%3ca href%3d%22https%3a//www.theroxy.com/events%22%3ehttps%3a//www.theroxy.com/events%3c/a%3eDesignHTMLWords: 1   Characters: 27
URL:https://www.discoverhollywood.com/event/davila-666/
LOCATION:The Roxy\, 9009 Sunset Blvd.\, Los Angeles\, California
END:VEVENT
BEGIN:VEVENT
DTSTART;TZID=Asia/Kolkata:20020308T000000
DTEND;TZID=Asia/Kolkata:20020308T000000
DTSTAMP:20260425T002123
CREATED:20250701T120419Z
LAST-MODIFIED:20250701T120419Z
UID:10004408-1015545600-1015545600@www.discoverhollywood.com
SUMMARY:DDG
DESCRIPTION:%3ca href%3d%22https%3a//www.theroxy.com/%22 target%3d%22_blank%22%3ehttps%3a//www.theroxy.com/%3c/a%3eDesignHTMLWords: 1   Characters: 21
URL:https://www.discoverhollywood.com/event/ddg/
LOCATION:The Roxy\, 9009 Sunset Blvd.\, Los Angeles\, California
END:VEVENT
BEGIN:VEVENT
DTSTART;TZID=Asia/Kolkata:20020216T000000
DTEND;TZID=Asia/Kolkata:20020216T000000
DTSTAMP:20260425T002123
CREATED:20250701T120456Z
LAST-MODIFIED:20250701T120456Z
UID:10004418-1013817600-1013817600@www.discoverhollywood.com
SUMMARY:Dead Daisies w/ Dizzy Reed's Hooker & Blow
DESCRIPTION:DesignHTMLWords: 0   Characters: 0
URL:https://www.discoverhollywood.com/event/dead-daisies-w-dizzy-reeds-hooker-blow/
LOCATION:The Roxy\, 9009 Sunset Blvd.\, Los Angeles\, California
END:VEVENT
BEGIN:VEVENT
DTSTART;TZID=Asia/Kolkata:20020121T000000
DTEND;TZID=Asia/Kolkata:20020121T000000
DTSTAMP:20260425T002123
CREATED:20250701T120547Z
LAST-MODIFIED:20250701T120547Z
UID:10004431-1011571200-1011571200@www.discoverhollywood.com
SUMMARY:Dead Ships
DESCRIPTION:DesignHTMLWords: 0   Characters: 0
URL:https://www.discoverhollywood.com/event/dead-ships/
LOCATION:The Roxy\, 9009 Sunset Blvd.\, Los Angeles\, California
END:VEVENT
BEGIN:VEVENT
DTSTART;TZID=Asia/Kolkata:20020111T000000
DTEND;TZID=Asia/Kolkata:20020111T000000
DTSTAMP:20260425T002123
CREATED:20250701T120557Z
LAST-MODIFIED:20250701T120557Z
UID:10004436-1010707200-1010707200@www.discoverhollywood.com
SUMMARY:Deafheaven
DESCRIPTION:%3cbr%3eDesignHTMLWords: 0   Characters: 0
URL:https://www.discoverhollywood.com/event/deafheaven/
LOCATION:The Roxy\, 9009 Sunset Blvd.\, Los Angeles\, California
END:VEVENT
BEGIN:VEVENT
DTSTART;TZID=Asia/Kolkata:20010905T000000
DTEND;TZID=Asia/Kolkata:20010905T000000
DTSTAMP:20260425T002123
CREATED:20250701T120750Z
LAST-MODIFIED:20250701T120750Z
UID:10004500-999648000-999648000@www.discoverhollywood.com
SUMMARY:Delain + Amorphis
DESCRIPTION:DesignHTMLWords: 0   Characters: 0
URL:https://www.discoverhollywood.com/event/delain-amorphis/
LOCATION:The Roxy\, 9009 Sunset Blvd.\, Los Angeles\, California
END:VEVENT
BEGIN:VEVENT
DTSTART;TZID=Asia/Kolkata:20010731T000000
DTEND;TZID=Asia/Kolkata:20010731T000000
DTSTAMP:20260425T002123
CREATED:20250701T120813Z
LAST-MODIFIED:20250701T120813Z
UID:10004518-996537600-996537600@www.discoverhollywood.com
SUMMARY:Delta Sleep
DESCRIPTION:%3ca href%3d%22https%3a//www.theroxy.com/events%22%3ehttps%3a//www.theroxy.com/events%3c/a%3eDesignHTMLWords: 1   Characters: 27
URL:https://www.discoverhollywood.com/event/delta-sleep/
LOCATION:The Roxy\, 9009 Sunset Blvd.\, Los Angeles\, California
END:VEVENT
BEGIN:VEVENT
DTSTART;TZID=Asia/Kolkata:20010609T000000
DTEND;TZID=Asia/Kolkata:20010609T000000
DTSTAMP:20260425T002123
CREATED:20250701T120838Z
LAST-MODIFIED:20250701T120838Z
UID:10004544-992044800-992044800@www.discoverhollywood.com
SUMMARY:Desaparecidos with Touche Amore & Joyce Manor
DESCRIPTION:Desaparecidos is a rock band featuring Conor Oberst %28vocals%2cguitar%29 Landon Hedges %28bass guitar%2c vocals%29%2c Matt Baum %28drums%29%2c Denver Dalley – %28guitar%29 and Ian McElroy %28keyboards%29. The band formed in 2001%2c released one album %282002%27s Read Music/Speak Spanish%29%2c and broke up shortly thereafter. In 2010%2c Desaparecidos reunited to play The\n%3cbr%3e\nConcert for Equality in Omaha.\n%3cbr%3eDesignHTMLWords: 54   Characters: 341
URL:https://www.discoverhollywood.com/event/desaparecidos-with-touche-amore-joyce-manor/
LOCATION:The Roxy\, 9009 Sunset Blvd.\, Los Angeles\, California
END:VEVENT
BEGIN:VEVENT
DTSTART;TZID=Asia/Kolkata:20010420T000000
DTEND;TZID=Asia/Kolkata:20010420T000000
DTSTAMP:20260425T002123
CREATED:20250701T120900Z
LAST-MODIFIED:20250701T120900Z
UID:10004569-987724800-987724800@www.discoverhollywood.com
SUMMARY:Devotchka
DESCRIPTION:%3ca href%3d%22https%3a//www.theroxy.com/events%22%3ehttps%3a//www.theroxy.com/events%3c/a%3eDesignHTMLWords: 1   Characters: 27
URL:https://www.discoverhollywood.com/event/devotchka/
LOCATION:The Roxy\, 9009 Sunset Blvd.\, Los Angeles\, California
END:VEVENT
BEGIN:VEVENT
DTSTART;TZID=Asia/Kolkata:20010106T000000
DTEND;TZID=Asia/Kolkata:20010106T000000
DTSTAMP:20260425T002123
CREATED:20250701T122036Z
LAST-MODIFIED:20250701T122036Z
UID:10004611-978739200-978739200@www.discoverhollywood.com
SUMMARY:DIIV with No Joy & Sunflower Beam
DESCRIPTION:%3cbr%3eDesignHTMLWords: 0   Characters: 0
URL:https://www.discoverhollywood.com/event/diiv-with-no-joy-sunflower-beam/
LOCATION:The Roxy\, 9009 Sunset Blvd.\, Los Angeles\, California
END:VEVENT
BEGIN:VEVENT
DTSTART;TZID=Asia/Kolkata:20001018T000000
DTEND;TZID=Asia/Kolkata:20001018T000000
DTSTAMP:20260425T002123
CREATED:20250701T123111Z
LAST-MODIFIED:20250701T123111Z
UID:10004651-971827200-971827200@www.discoverhollywood.com
SUMMARY:Discharge + Eyehategod
DESCRIPTION:%3cbr%3eDesignHTMLWords: 0   Characters: 0
URL:https://www.discoverhollywood.com/event/discharge-eyehategod/
LOCATION:The Roxy\, 9009 Sunset Blvd.\, Los Angeles\, California
END:VEVENT
BEGIN:VEVENT
DTSTART;TZID=Asia/Kolkata:20000809T000000
DTEND;TZID=Asia/Kolkata:20000809T000000
DTSTAMP:20260425T002123
CREATED:20250701T124417Z
LAST-MODIFIED:20250701T124417Z
UID:10004686-965779200-965779200@www.discoverhollywood.com
SUMMARY:Divino Nino + Bardo Martinew
DESCRIPTION:https%3a//www.theroxy.com/eventsDesignHTMLWords: 1   Characters: 27
URL:https://www.discoverhollywood.com/event/divino-nino-bardo-martinew/
LOCATION:The Roxy\, 9009 Sunset Blvd.\, Los Angeles\, California
END:VEVENT
BEGIN:VEVENT
DTSTART;TZID=Asia/Kolkata:20000718T000000
DTEND;TZID=Asia/Kolkata:20000718T000000
DTSTAMP:20260425T002123
CREATED:20250701T124634Z
LAST-MODIFIED:20250701T124634Z
UID:10004697-963878400-963878400@www.discoverhollywood.com
SUMMARY:DJ Krush
DESCRIPTION:%3cbr%3eDesignHTMLWords: 0   Characters: 0
URL:https://www.discoverhollywood.com/event/dj-krush/
LOCATION:The Roxy\, 9009 Sunset Blvd.\, Los Angeles\, California
END:VEVENT
BEGIN:VEVENT
DTSTART;TZID=Asia/Kolkata:20000708T000000
DTEND;TZID=Asia/Kolkata:20000708T000000
DTSTAMP:20260425T002123
CREATED:20250701T124835Z
LAST-MODIFIED:20250701T124835Z
UID:10004702-963014400-963014400@www.discoverhollywood.com
SUMMARY:DLD
DESCRIPTION:%3cbr%3eDesignHTMLWords: 0   Characters: 0
URL:https://www.discoverhollywood.com/event/dld/
LOCATION:The Roxy\, 9009 Sunset Blvd.\, Los Angeles\, California
END:VEVENT
BEGIN:VEVENT
DTSTART;TZID=Asia/Kolkata:19991121T000000
DTEND;TZID=Asia/Kolkata:19991121T000000
DTSTAMP:20260425T002123
CREATED:20250701T125852Z
LAST-MODIFIED:20250701T125852Z
UID:10004817-943142400-943142400@www.discoverhollywood.com
SUMMARY:Dragonette
DESCRIPTION:DesignHTMLWords: 0   Characters: 0
URL:https://www.discoverhollywood.com/event/dragonette/
LOCATION:The Roxy\, 9009 Sunset Blvd.\, Los Angeles\, California
END:VEVENT
BEGIN:VEVENT
DTSTART;TZID=Asia/Kolkata:19991119T000000
DTEND;TZID=Asia/Kolkata:19991119T000000
DTSTAMP:20260425T002123
CREATED:20250701T125852Z
LAST-MODIFIED:20250701T125852Z
UID:10004818-942969600-942969600@www.discoverhollywood.com
SUMMARY:DragonForce
DESCRIPTION:%3cbr%3eDesignHTMLWords: 0   Characters: 0
URL:https://www.discoverhollywood.com/event/dragonforce/
LOCATION:The Roxy\, 9009 Sunset Blvd.\, Los Angeles\, California
END:VEVENT
BEGIN:VEVENT
DTSTART;TZID=Asia/Kolkata:19991117T000000
DTEND;TZID=Asia/Kolkata:19991117T000000
DTSTAMP:20260425T002123
CREATED:20250701T125853Z
LAST-MODIFIED:20250701T125853Z
UID:10004819-942796800-942796800@www.discoverhollywood.com
SUMMARY:Dragonnette with Gibbz & Autumn in June
DESCRIPTION:DesignHTMLWords: 0   Characters: 0
URL:https://www.discoverhollywood.com/event/dragonnette-with-gibbz-autumn-in-june/
LOCATION:The Roxy\, 9009 Sunset Blvd.\, Los Angeles\, California
END:VEVENT
BEGIN:VEVENT
DTSTART;TZID=Asia/Kolkata:19991008T000000
DTEND;TZID=Asia/Kolkata:19991008T000000
DTSTAMP:20260425T002123
CREATED:20250701T125917Z
LAST-MODIFIED:20250701T125917Z
UID:10004839-939340800-939340800@www.discoverhollywood.com
SUMMARY:Dreamers
DESCRIPTION:Their colorfully passionate music tugged at heartstrings and had tastemakers dancing around the room all in one fell swoop%2c with praise pouring in from the likes of Billboard%2c Spin%2c Alternative Press%2c Vice NOISEY%2c Guitar World%2c %26amp%3b major buzz from the blogosphere and HypeM heavy hitters like The Wild Honey Pie%2c Earmilk and Baeble.\n%3cbr%3eDesignHTMLWords: 52   Characters: 321
URL:https://www.discoverhollywood.com/event/dreamers/
LOCATION:The Roxy\, 9009 Sunset Blvd.\, Los Angeles\, California
END:VEVENT
BEGIN:VEVENT
DTSTART;TZID=Asia/Kolkata:19991004T000000
DTEND;TZID=Asia/Kolkata:19991004T000000
DTSTAMP:20260425T002123
CREATED:20250701T125920Z
LAST-MODIFIED:20250701T125920Z
UID:10004841-938995200-938995200@www.discoverhollywood.com
SUMMARY:Dreamers & Arkells
DESCRIPTION:%3cbr%3eDesignHTMLWords: 0   Characters: 0
URL:https://www.discoverhollywood.com/event/dreamers-arkells/
LOCATION:The Roxy\, 9009 Sunset Blvd.\, Los Angeles\, California
END:VEVENT
BEGIN:VEVENT
DTSTART;TZID=Asia/Kolkata:19990819T000000
DTEND;TZID=Asia/Kolkata:19990819T000000
DTSTAMP:20260425T002123
CREATED:20250701T125947Z
LAST-MODIFIED:20250701T125947Z
UID:10004864-935020800-935020800@www.discoverhollywood.com
SUMMARY:DROELOE
DESCRIPTION:DesignHTMLWords: 0   Characters: 0
URL:https://www.discoverhollywood.com/event/droeloe/
LOCATION:The Roxy\, 9009 Sunset Blvd.\, Los Angeles\, California
END:VEVENT
BEGIN:VEVENT
DTSTART;TZID=Asia/Kolkata:19990524T000000
DTEND;TZID=Asia/Kolkata:19990524T000000
DTSTAMP:20260425T002123
CREATED:20250701T131909Z
LAST-MODIFIED:20250702T043906Z
UID:10004914-927504000-927504000@www.discoverhollywood.com
SUMMARY:Dumbfoundead
DESCRIPTION:DesignHTMLWords: 0   Characters: 0
URL:https://www.discoverhollywood.com/event/dumbfoundead/
LOCATION:The Roxy\, 9009 Sunset Blvd.\, Los Angeles\, California
END:VEVENT
BEGIN:VEVENT
DTSTART;TZID=Asia/Kolkata:19990522T000000
DTEND;TZID=Asia/Kolkata:19990522T000000
DTSTAMP:20260425T002123
CREATED:20250701T131924Z
LAST-MODIFIED:20250702T043921Z
UID:10004916-927331200-927331200@www.discoverhollywood.com
SUMMARY:Dumblonde
DESCRIPTION:%3cbr%3eDesignHTMLWords: 0   Characters: 0
URL:https://www.discoverhollywood.com/event/dumblonde/
LOCATION:The Roxy\, 9009 Sunset Blvd.\, Los Angeles\, California
END:VEVENT
END:VCALENDAR