BEGIN:VCALENDAR
VERSION:2.0
PRODID:-//Discover Hollywood Magazine - ECPv6.15.20//NONSGML v1.0//EN
CALSCALE:GREGORIAN
METHOD:PUBLISH
X-WR-CALNAME:Discover Hollywood Magazine
X-ORIGINAL-URL:https://www.discoverhollywood.com
X-WR-CALDESC:Events for Discover Hollywood Magazine
REFRESH-INTERVAL;VALUE=DURATION:PT1H
X-Robots-Tag:noindex
X-PUBLISHED-TTL:PT1H
BEGIN:VTIMEZONE
TZID:Asia/Kolkata
BEGIN:STANDARD
TZOFFSETFROM:+0530
TZOFFSETTO:+0530
TZNAME:IST
DTSTART:19960101T000000
END:STANDARD
END:VTIMEZONE
BEGIN:VEVENT
DTSTART;TZID=Asia/Kolkata:19991117T000000
DTEND;TZID=Asia/Kolkata:19991117T000000
DTSTAMP:20260425T033320
CREATED:20250701T125853Z
LAST-MODIFIED:20250701T125853Z
UID:10004819-942796800-942796800@www.discoverhollywood.com
SUMMARY:Dragonnette with Gibbz & Autumn in June
DESCRIPTION:DesignHTMLWords: 0   Characters: 0
URL:https://www.discoverhollywood.com/event/dragonnette-with-gibbz-autumn-in-june/
LOCATION:The Roxy\, 9009 Sunset Blvd.\, Los Angeles\, California
END:VEVENT
BEGIN:VEVENT
DTSTART;TZID=Asia/Kolkata:19991008T000000
DTEND;TZID=Asia/Kolkata:19991008T000000
DTSTAMP:20260425T033320
CREATED:20250701T125917Z
LAST-MODIFIED:20250701T125917Z
UID:10004839-939340800-939340800@www.discoverhollywood.com
SUMMARY:Dreamers
DESCRIPTION:Their colorfully passionate music tugged at heartstrings and had tastemakers dancing around the room all in one fell swoop%2c with praise pouring in from the likes of Billboard%2c Spin%2c Alternative Press%2c Vice NOISEY%2c Guitar World%2c %26amp%3b major buzz from the blogosphere and HypeM heavy hitters like The Wild Honey Pie%2c Earmilk and Baeble.\n%3cbr%3eDesignHTMLWords: 52   Characters: 321
URL:https://www.discoverhollywood.com/event/dreamers/
LOCATION:The Roxy\, 9009 Sunset Blvd.\, Los Angeles\, California
END:VEVENT
BEGIN:VEVENT
DTSTART;TZID=Asia/Kolkata:19991004T000000
DTEND;TZID=Asia/Kolkata:19991004T000000
DTSTAMP:20260425T033320
CREATED:20250701T125920Z
LAST-MODIFIED:20250701T125920Z
UID:10004841-938995200-938995200@www.discoverhollywood.com
SUMMARY:Dreamers & Arkells
DESCRIPTION:%3cbr%3eDesignHTMLWords: 0   Characters: 0
URL:https://www.discoverhollywood.com/event/dreamers-arkells/
LOCATION:The Roxy\, 9009 Sunset Blvd.\, Los Angeles\, California
END:VEVENT
BEGIN:VEVENT
DTSTART;TZID=Asia/Kolkata:19990819T000000
DTEND;TZID=Asia/Kolkata:19990819T000000
DTSTAMP:20260425T033320
CREATED:20250701T125947Z
LAST-MODIFIED:20250701T125947Z
UID:10004864-935020800-935020800@www.discoverhollywood.com
SUMMARY:DROELOE
DESCRIPTION:DesignHTMLWords: 0   Characters: 0
URL:https://www.discoverhollywood.com/event/droeloe/
LOCATION:The Roxy\, 9009 Sunset Blvd.\, Los Angeles\, California
END:VEVENT
BEGIN:VEVENT
DTSTART;TZID=Asia/Kolkata:19990524T000000
DTEND;TZID=Asia/Kolkata:19990524T000000
DTSTAMP:20260425T033320
CREATED:20250701T131909Z
LAST-MODIFIED:20250702T043906Z
UID:10004914-927504000-927504000@www.discoverhollywood.com
SUMMARY:Dumbfoundead
DESCRIPTION:DesignHTMLWords: 0   Characters: 0
URL:https://www.discoverhollywood.com/event/dumbfoundead/
LOCATION:The Roxy\, 9009 Sunset Blvd.\, Los Angeles\, California
END:VEVENT
BEGIN:VEVENT
DTSTART;TZID=Asia/Kolkata:19990522T000000
DTEND;TZID=Asia/Kolkata:19990522T000000
DTSTAMP:20260425T033320
CREATED:20250701T131924Z
LAST-MODIFIED:20250702T043921Z
UID:10004916-927331200-927331200@www.discoverhollywood.com
SUMMARY:Dumblonde
DESCRIPTION:%3cbr%3eDesignHTMLWords: 0   Characters: 0
URL:https://www.discoverhollywood.com/event/dumblonde/
LOCATION:The Roxy\, 9009 Sunset Blvd.\, Los Angeles\, California
END:VEVENT
BEGIN:VEVENT
DTSTART;TZID=Asia/Kolkata:19990505T000000
DTEND;TZID=Asia/Kolkata:19990505T000000
DTSTAMP:20260425T033320
CREATED:20250701T132009Z
LAST-MODIFIED:20250702T044055Z
UID:10004933-925862400-925862400@www.discoverhollywood.com
SUMMARY:Dwight Yoakam
DESCRIPTION:%3ca href%3d%22https%3a//www.theroxy.com/%22 target%3d%22_blank%22%3ehttps%3a//www.theroxy.com/%3c/a%3eDesignHTMLWords: 1   Characters: 21
URL:https://www.discoverhollywood.com/event/dwight-yoakam/
LOCATION:The Roxy\, 9009 Sunset Blvd.\, Los Angeles\, California
END:VEVENT
BEGIN:VEVENT
DTSTART;TZID=Asia/Kolkata:19990410T000000
DTEND;TZID=Asia/Kolkata:19990410T000000
DTSTAMP:20260425T033320
CREATED:20250701T132643Z
LAST-MODIFIED:20250702T044211Z
UID:10004958-923702400-923702400@www.discoverhollywood.com
SUMMARY:Early: Casey Veggies
DESCRIPTION:DesignHTMLWords: 0   Characters: 0
URL:https://www.discoverhollywood.com/event/early-casey-veggies/
LOCATION:The Roxy\, 9009 Sunset Blvd.\, Los Angeles\, California
END:VEVENT
BEGIN:VEVENT
DTSTART;TZID=Asia/Kolkata:19990401T000000
DTEND;TZID=Asia/Kolkata:19990401T000000
DTSTAMP:20260425T033320
CREATED:20250701T133044Z
LAST-MODIFIED:20250702T044240Z
UID:10004967-922924800-922924800@www.discoverhollywood.com
SUMMARY:East India Youth
DESCRIPTION:%3cbr%3eDesignHTMLWords: 0   Characters: 0
URL:https://www.discoverhollywood.com/event/east-india-youth/
LOCATION:The Roxy\, 9009 Sunset Blvd.\, Los Angeles\, California
END:VEVENT
BEGIN:VEVENT
DTSTART;TZID=Asia/Kolkata:19990331T000000
DTEND;TZID=Asia/Kolkata:19990331T000000
DTSTAMP:20260425T033320
CREATED:20250701T133044Z
LAST-MODIFIED:20250702T044240Z
UID:10004968-922838400-922838400@www.discoverhollywood.com
SUMMARY:East of Eli
DESCRIPTION:%3cbr%3eDesignHTMLWords: 0   Characters: 0
URL:https://www.discoverhollywood.com/event/east-of-eli/
LOCATION:The Roxy\, 9009 Sunset Blvd.\, Los Angeles\, California
END:VEVENT
BEGIN:VEVENT
DTSTART;TZID=Asia/Kolkata:19990301T000000
DTEND;TZID=Asia/Kolkata:19990301T000000
DTSTAMP:20260425T033320
CREATED:20250701T133608Z
LAST-MODIFIED:20250702T044411Z
UID:10004998-920246400-920246400@www.discoverhollywood.com
SUMMARY:Echos with Nylo\, Shoffy
DESCRIPTION:DesignHTMLWords: 0   Characters: 0
URL:https://www.discoverhollywood.com/event/echos-with-nylo-shoffy/
LOCATION:The Roxy\, 9009 Sunset Blvd.\, Los Angeles\, California
END:VEVENT
BEGIN:VEVENT
DTSTART;TZID=Asia/Kolkata:19981226T000000
DTEND;TZID=Asia/Kolkata:19981226T000000
DTSTAMP:20260425T033320
CREATED:20250701T135243Z
LAST-MODIFIED:20250702T044726Z
UID:10005063-914630400-914630400@www.discoverhollywood.com
SUMMARY:El Ten Eleven
DESCRIPTION:%3cbr%3eDesignHTMLWords: 0   Characters: 0
URL:https://www.discoverhollywood.com/event/el-ten-eleven/
LOCATION:The Roxy\, 9009 Sunset Blvd.\, Los Angeles\, California
END:VEVENT
BEGIN:VEVENT
DTSTART;TZID=Asia/Kolkata:19981209T000000
DTEND;TZID=Asia/Kolkata:19981209T000000
DTSTAMP:20260425T033320
CREATED:20250701T135846Z
LAST-MODIFIED:20250702T044811Z
UID:10005080-913161600-913161600@www.discoverhollywood.com
SUMMARY:Electric Wizard
DESCRIPTION:Electric Wizard are a band from Dorset%2c UK. They have a distinct%2c yet traditional doom metal sound that incorporates stoner and sludge traits%2c with lyrics typically involving the occult%2c witchcraft%2c H.P. Lovecraft%2c horror films and marijuana. During 2003%2c founding members Tim Bagshaw and Mark Greening left to form the band Ramesses%2c leaving guitarist/vocalist Jus Oborn the only remaining founding member.\n%3cbr%3eDesignHTMLWords: 60   Characters: 394
URL:https://www.discoverhollywood.com/event/electric-wizard/
LOCATION:The Roxy\, 9009 Sunset Blvd.\, Los Angeles\, California
END:VEVENT
BEGIN:VEVENT
DTSTART;TZID=Asia/Kolkata:19981129T000000
DTEND;TZID=Asia/Kolkata:19981129T000000
DTSTAMP:20260425T033320
CREATED:20250702T044842Z
LAST-MODIFIED:20250702T044842Z
UID:10005090-912297600-912297600@www.discoverhollywood.com
SUMMARY:Elephant Gym + Lite
DESCRIPTION:%3ca href%3d%22https%3a//www.theroxy.com/events/detail/379211%22%3ehttps%3a//www.theroxy.com/events/detail/379211%3c/a%3eDesignHTMLWords: 1   Characters: 41
URL:https://www.discoverhollywood.com/event/elephant-gym-lite/
LOCATION:The Roxy\, 9009 Sunset Blvd.\, Los Angeles\, California
END:VEVENT
BEGIN:VEVENT
DTSTART;TZID=Asia/Kolkata:19981128T000000
DTEND;TZID=Asia/Kolkata:19981128T000000
DTSTAMP:20260425T033320
CREATED:20250702T044856Z
LAST-MODIFIED:20250702T044856Z
UID:10005091-912211200-912211200@www.discoverhollywood.com
SUMMARY:Elephant Reviva
DESCRIPTION:That simple line atop Elephant Revival%27s Facebook page contains only five words%2c but reveals volumes about the band%27s reason for being. Music unites us in ways that no other medium can. Even when we don%27t understand one another%27s languages — we can be moved by a rhythm%2c soothed by a song. Brought together by a unified sense of purpose — the spirit of five souls working as one%2c in harmony%2c creating sounds they could never produce alone.DesignHTMLWords: 77   Characters: 427
URL:https://www.discoverhollywood.com/event/elephant-reviva/
LOCATION:The Roxy\, 9009 Sunset Blvd.\, Los Angeles\, California
END:VEVENT
BEGIN:VEVENT
DTSTART;TZID=Asia/Kolkata:19981111T000000
DTEND;TZID=Asia/Kolkata:19981111T000000
DTSTAMP:20260425T033320
CREATED:20250702T044941Z
LAST-MODIFIED:20250702T044941Z
UID:10005108-910742400-910742400@www.discoverhollywood.com
SUMMARY:Eligh with deM atlas
DESCRIPTION:%3cbr%3eDesignHTMLWords: 0   Characters: 0
URL:https://www.discoverhollywood.com/event/eligh-with-dem-atlas/
LOCATION:The Roxy\, 9009 Sunset Blvd.\, Los Angeles\, California
END:VEVENT
BEGIN:VEVENT
DTSTART;TZID=Asia/Kolkata:19981010T000000
DTEND;TZID=Asia/Kolkata:19981010T000000
DTSTAMP:20260425T033320
CREATED:20250702T045257Z
LAST-MODIFIED:20250702T045257Z
UID:10005140-907977600-907977600@www.discoverhollywood.com
SUMMARY:Emancipator
DESCRIPTION:%3ca href%3d%22https%3a//www.theroxy.com/%22 target%3d%22_blank%22%3ehttps%3a//www.theroxy.com/%3c/a%3eDesignHTMLWords: 1   Characters: 21
URL:https://www.discoverhollywood.com/event/emancipator/
LOCATION:The Roxy\, 9009 Sunset Blvd.\, Los Angeles\, California
END:VEVENT
BEGIN:VEVENT
DTSTART;TZID=Asia/Kolkata:19980819T000000
DTEND;TZID=Asia/Kolkata:19980819T000000
DTSTAMP:20260425T033320
CREATED:20250702T050525Z
LAST-MODIFIED:20250702T050525Z
UID:10005192-903484800-903484800@www.discoverhollywood.com
SUMMARY:Enter Shikari – A ‘Take To The Skies’ Ten Year Celebration
DESCRIPTION:DesignHTMLWords: 0   Characters: 0
URL:https://www.discoverhollywood.com/event/enter-shikari-a-take-to-the-skies-ten-year-celebration/
LOCATION:The Roxy\, 9009 Sunset Blvd.\, Los Angeles\, California
END:VEVENT
BEGIN:VEVENT
DTSTART;TZID=Asia/Kolkata:19980814T000000
DTEND;TZID=Asia/Kolkata:19980814T000000
DTSTAMP:20260425T033320
CREATED:20250702T050540Z
LAST-MODIFIED:20250702T050540Z
UID:10005197-903052800-903052800@www.discoverhollywood.com
SUMMARY:Entombed A.D.
DESCRIPTION:DesignHTMLWords: 0   Characters: 0
URL:https://www.discoverhollywood.com/event/entombed-a-d/
LOCATION:The Roxy\, 9009 Sunset Blvd.\, Los Angeles\, California
END:VEVENT
BEGIN:VEVENT
DTSTART;TZID=Asia/Kolkata:19980606T000000
DTEND;TZID=Asia/Kolkata:19980606T000000
DTSTAMP:20260425T033320
CREATED:20250702T052416Z
LAST-MODIFIED:20250702T052416Z
UID:10005266-897091200-897091200@www.discoverhollywood.com
SUMMARY:Evan Dando: “Celebrating the reissue of his first solo album\, ‘Baby I’m Bored’”
DESCRIPTION:%3cbr%3eDesignHTMLWords: 0   Characters: 0
URL:https://www.discoverhollywood.com/event/evan-dando-celebrating-the-reissue-of-his-first-solo-album-baby-im-bored/
LOCATION:The Roxy\, 9009 Sunset Blvd.\, Los Angeles\, California
END:VEVENT
BEGIN:VEVENT
DTSTART;TZID=Asia/Kolkata:19980605T000000
DTEND;TZID=Asia/Kolkata:19980605T000000
DTSTAMP:20260425T033320
CREATED:20250702T052416Z
LAST-MODIFIED:20250702T052416Z
UID:10005267-897004800-897004800@www.discoverhollywood.com
SUMMARY:Evan Giia
DESCRIPTION:%3ca href%3d%22https%3a//www.theroxy.com/events%22%3ehttps%3a//www.theroxy.com/events%3c/a%3eDesignHTMLWords: 1   Characters: 27
URL:https://www.discoverhollywood.com/event/evan-giia/
LOCATION:The Roxy\, 9009 Sunset Blvd.\, Los Angeles\, California
END:VEVENT
BEGIN:VEVENT
DTSTART;TZID=Asia/Kolkata:19980509T000000
DTEND;TZID=Asia/Kolkata:19980509T000000
DTSTAMP:20260425T033320
CREATED:20250702T052751Z
LAST-MODIFIED:20250702T052751Z
UID:10005294-894672000-894672000@www.discoverhollywood.com
SUMMARY:Evidence
DESCRIPTION:%3cbr%3eDesignHTMLWords: 0   Characters: 0
URL:https://www.discoverhollywood.com/event/evidence/
LOCATION:The Roxy\, 9009 Sunset Blvd.\, Los Angeles\, California
END:VEVENT
BEGIN:VEVENT
DTSTART;TZID=Asia/Kolkata:19980505T000000
DTEND;TZID=Asia/Kolkata:19980505T000000
DTSTAMP:20260425T033320
CREATED:20250702T052806Z
LAST-MODIFIED:20250702T052806Z
UID:10005298-894326400-894326400@www.discoverhollywood.com
SUMMARY:Ex Hex
DESCRIPTION:Ex Hex is Mary Timony%2c Laura Harris%2c and Betsy Wright. They are a power trio hailing from Washington%2c DC%2c making the music you’ve been waiting for. Drums%2c bass%2c guitar%2c P90s%2c searing leads—this is unapologetic rock ’n’ roll spat out in the discipline’s mother tongue.DesignHTMLWords: 44   Characters: 256
URL:https://www.discoverhollywood.com/event/ex-hex/
LOCATION:The Roxy\, 9009 Sunset Blvd.\, Los Angeles\, California
END:VEVENT
BEGIN:VEVENT
DTSTART;TZID=Asia/Kolkata:19980409T000000
DTEND;TZID=Asia/Kolkata:19980409T000000
DTSTAMP:20260425T033320
CREATED:20250702T053648Z
LAST-MODIFIED:20250702T053648Z
UID:10005324-892080000-892080000@www.discoverhollywood.com
SUMMARY:Ezra Collective
DESCRIPTION:DesignHTMLWords: 0   Characters: 0
URL:https://www.discoverhollywood.com/event/ezra-collective/
LOCATION:The Roxy\, 9009 Sunset Blvd.\, Los Angeles\, California
END:VEVENT
BEGIN:VEVENT
DTSTART;TZID=Asia/Kolkata:19980319T000000
DTEND;TZID=Asia/Kolkata:19980319T000000
DTSTAMP:20260425T033320
CREATED:20250702T055159Z
LAST-MODIFIED:20250702T055159Z
UID:10005345-890265600-890265600@www.discoverhollywood.com
SUMMARY:Failure - 20th Anniversary of "Fantastic Planet"
DESCRIPTION:%3cbr%3eDesignHTMLWords: 0   Characters: 0
URL:https://www.discoverhollywood.com/event/failure-20th-anniversary-of-fantastic-planet/
LOCATION:The Roxy\, 9009 Sunset Blvd.\, Los Angeles\, California
END:VEVENT
BEGIN:VEVENT
DTSTART;TZID=Asia/Kolkata:19980115T000000
DTEND;TZID=Asia/Kolkata:19980115T000000
DTSTAMP:20260425T033320
CREATED:20250702T060017Z
LAST-MODIFIED:20250702T060017Z
UID:10005408-884822400-884822400@www.discoverhollywood.com
SUMMARY:Fatai
DESCRIPTION:%3ca href%3d%22https%3a//www.theroxy.com/%22 target%3d%22_blank%22%3ehttps%3a//www.theroxy.com/%3c/a%3eDesignHTMLWords: 1   Characters: 21
URL:https://www.discoverhollywood.com/event/fatai/
LOCATION:The Roxy\, 9009 Sunset Blvd.\, Los Angeles\, California
END:VEVENT
BEGIN:VEVENT
DTSTART;TZID=Asia/Kolkata:19980111T000000
DTEND;TZID=Asia/Kolkata:19980111T000000
DTSTAMP:20260425T033320
CREATED:20250702T060027Z
LAST-MODIFIED:20250702T060027Z
UID:10005412-884476800-884476800@www.discoverhollywood.com
SUMMARY:Father
DESCRIPTION:DesignHTMLWords: 0   Characters: 0
URL:https://www.discoverhollywood.com/event/father/
LOCATION:The Roxy\, 9009 Sunset Blvd.\, Los Angeles\, California
END:VEVENT
BEGIN:VEVENT
DTSTART;TZID=Asia/Kolkata:19971129T000000
DTEND;TZID=Asia/Kolkata:19971129T000000
DTSTAMP:20260425T033320
CREATED:20250702T060148Z
LAST-MODIFIED:20250702T060148Z
UID:10005455-880761600-880761600@www.discoverhollywood.com
SUMMARY:Fenech-Soler & Knox Hamilton
DESCRIPTION:%3cbr%3eDesignHTMLWords: 0   Characters: 0
URL:https://www.discoverhollywood.com/event/fenech-soler-knox-hamilton/
LOCATION:The Roxy\, 9009 Sunset Blvd.\, Los Angeles\, California
END:VEVENT
BEGIN:VEVENT
DTSTART;TZID=Asia/Kolkata:19971107T000000
DTEND;TZID=Asia/Kolkata:19971107T000000
DTSTAMP:20260425T033320
CREATED:20250702T060237Z
LAST-MODIFIED:20250702T060237Z
UID:10005477-878860800-878860800@www.discoverhollywood.com
SUMMARY:Field Music
DESCRIPTION:%3cbr%3eDesignHTMLWords: 0   Characters: 0
URL:https://www.discoverhollywood.com/event/field-music/
LOCATION:The Roxy\, 9009 Sunset Blvd.\, Los Angeles\, California
END:VEVENT
BEGIN:VEVENT
DTSTART;TZID=Asia/Kolkata:19971013T000000
DTEND;TZID=Asia/Kolkata:19971013T000000
DTSTAMP:20260425T033320
CREATED:20250703T061416Z
LAST-MODIFIED:20250703T061416Z
UID:10005502-876700800-876700800@www.discoverhollywood.com
SUMMARY:Filabusta
DESCRIPTION:%3ca target%3d%22_blank%22 href%3d%22http%3a//www.theroxy.com/event/802847-filabusta-west-hollywood/%22%3eFILABUSTA %3c/a%3eis a regular on the festival and concert circuit%2c playing shows throughout the Southwest. The band has gained popularity quickly by playing their distinct blend of original rock%2c blues and funk . Their live show is full of energy and the dance floor is always packed at a FILABUSTA show.DesignHTMLWords: 50   Characters: 292
URL:https://www.discoverhollywood.com/event/filabusta/
LOCATION:The Roxy\, 9009 Sunset Blvd.\, Los Angeles\, California
END:VEVENT
END:VCALENDAR