BEGIN:VCALENDAR
VERSION:2.0
PRODID:-//Discover Hollywood Magazine - ECPv6.15.20//NONSGML v1.0//EN
CALSCALE:GREGORIAN
METHOD:PUBLISH
X-ORIGINAL-URL:https://www.discoverhollywood.com
X-WR-CALDESC:Events for Discover Hollywood Magazine
REFRESH-INTERVAL;VALUE=DURATION:PT1H
X-Robots-Tag:noindex
X-PUBLISHED-TTL:PT1H
BEGIN:VTIMEZONE
TZID:Asia/Kolkata
BEGIN:STANDARD
TZOFFSETFROM:+0530
TZOFFSETTO:+0530
TZNAME:IST
DTSTART:19940101T000000
END:STANDARD
END:VTIMEZONE
BEGIN:VEVENT
DTSTART;TZID=Asia/Kolkata:19980319T000000
DTEND;TZID=Asia/Kolkata:19980319T000000
DTSTAMP:20260425T064736
CREATED:20250702T055159Z
LAST-MODIFIED:20250702T055159Z
UID:10005345-890265600-890265600@www.discoverhollywood.com
SUMMARY:Failure - 20th Anniversary of "Fantastic Planet"
DESCRIPTION:%3cbr%3eDesignHTMLWords: 0   Characters: 0
URL:https://www.discoverhollywood.com/event/failure-20th-anniversary-of-fantastic-planet/
LOCATION:The Roxy\, 9009 Sunset Blvd.\, Los Angeles\, California
END:VEVENT
BEGIN:VEVENT
DTSTART;TZID=Asia/Kolkata:19980115T000000
DTEND;TZID=Asia/Kolkata:19980115T000000
DTSTAMP:20260425T064736
CREATED:20250702T060017Z
LAST-MODIFIED:20250702T060017Z
UID:10005408-884822400-884822400@www.discoverhollywood.com
SUMMARY:Fatai
DESCRIPTION:%3ca href%3d%22https%3a//www.theroxy.com/%22 target%3d%22_blank%22%3ehttps%3a//www.theroxy.com/%3c/a%3eDesignHTMLWords: 1   Characters: 21
URL:https://www.discoverhollywood.com/event/fatai/
LOCATION:The Roxy\, 9009 Sunset Blvd.\, Los Angeles\, California
END:VEVENT
BEGIN:VEVENT
DTSTART;TZID=Asia/Kolkata:19980111T000000
DTEND;TZID=Asia/Kolkata:19980111T000000
DTSTAMP:20260425T064736
CREATED:20250702T060027Z
LAST-MODIFIED:20250702T060027Z
UID:10005412-884476800-884476800@www.discoverhollywood.com
SUMMARY:Father
DESCRIPTION:DesignHTMLWords: 0   Characters: 0
URL:https://www.discoverhollywood.com/event/father/
LOCATION:The Roxy\, 9009 Sunset Blvd.\, Los Angeles\, California
END:VEVENT
BEGIN:VEVENT
DTSTART;TZID=Asia/Kolkata:19971129T000000
DTEND;TZID=Asia/Kolkata:19971129T000000
DTSTAMP:20260425T064736
CREATED:20250702T060148Z
LAST-MODIFIED:20250702T060148Z
UID:10005455-880761600-880761600@www.discoverhollywood.com
SUMMARY:Fenech-Soler & Knox Hamilton
DESCRIPTION:%3cbr%3eDesignHTMLWords: 0   Characters: 0
URL:https://www.discoverhollywood.com/event/fenech-soler-knox-hamilton/
LOCATION:The Roxy\, 9009 Sunset Blvd.\, Los Angeles\, California
END:VEVENT
BEGIN:VEVENT
DTSTART;TZID=Asia/Kolkata:19971107T000000
DTEND;TZID=Asia/Kolkata:19971107T000000
DTSTAMP:20260425T064736
CREATED:20250702T060237Z
LAST-MODIFIED:20250702T060237Z
UID:10005477-878860800-878860800@www.discoverhollywood.com
SUMMARY:Field Music
DESCRIPTION:%3cbr%3eDesignHTMLWords: 0   Characters: 0
URL:https://www.discoverhollywood.com/event/field-music/
LOCATION:The Roxy\, 9009 Sunset Blvd.\, Los Angeles\, California
END:VEVENT
BEGIN:VEVENT
DTSTART;TZID=Asia/Kolkata:19971013T000000
DTEND;TZID=Asia/Kolkata:19971013T000000
DTSTAMP:20260425T064736
CREATED:20250703T061416Z
LAST-MODIFIED:20250703T061416Z
UID:10005502-876700800-876700800@www.discoverhollywood.com
SUMMARY:Filabusta
DESCRIPTION:%3ca target%3d%22_blank%22 href%3d%22http%3a//www.theroxy.com/event/802847-filabusta-west-hollywood/%22%3eFILABUSTA %3c/a%3eis a regular on the festival and concert circuit%2c playing shows throughout the Southwest. The band has gained popularity quickly by playing their distinct blend of original rock%2c blues and funk . Their live show is full of energy and the dance floor is always packed at a FILABUSTA show.DesignHTMLWords: 50   Characters: 292
URL:https://www.discoverhollywood.com/event/filabusta/
LOCATION:The Roxy\, 9009 Sunset Blvd.\, Los Angeles\, California
END:VEVENT
BEGIN:VEVENT
DTSTART;TZID=Asia/Kolkata:19971002T000000
DTEND;TZID=Asia/Kolkata:19971002T000000
DTSTAMP:20260425T064736
CREATED:20250703T061419Z
LAST-MODIFIED:20250703T061419Z
UID:10005513-875750400-875750400@www.discoverhollywood.com
SUMMARY:Finch
DESCRIPTION:Emo rockers\n%3cbr%3eDesignHTMLWords: 2   Characters: 11
URL:https://www.discoverhollywood.com/event/finch/
LOCATION:The Roxy\, 9009 Sunset Blvd.\, Los Angeles\, California
END:VEVENT
BEGIN:VEVENT
DTSTART;TZID=Asia/Kolkata:19970908T000000
DTEND;TZID=Asia/Kolkata:19970908T000000
DTSTAMP:20260425T064736
CREATED:20250703T061538Z
LAST-MODIFIED:20250703T061538Z
UID:10005537-873676800-873676800@www.discoverhollywood.com
SUMMARY:Fireworks
DESCRIPTION:%3cbr%3eDesignHTMLWords: 0   Characters: 0
URL:https://www.discoverhollywood.com/event/fireworks/
LOCATION:The Roxy\, 9009 Sunset Blvd.\, Los Angeles\, California
END:VEVENT
BEGIN:VEVENT
DTSTART;TZID=Asia/Kolkata:19970821T000000
DTEND;TZID=Asia/Kolkata:19970821T000000
DTSTAMP:20260425T064736
CREATED:20250703T061635Z
LAST-MODIFIED:20250703T061635Z
UID:10005555-872121600-872121600@www.discoverhollywood.com
SUMMARY:Fishbone
DESCRIPTION:%3cbr%3eDesignHTMLWords: 0   Characters: 0
URL:https://www.discoverhollywood.com/event/fishbone/
LOCATION:The Roxy\, 9009 Sunset Blvd.\, Los Angeles\, California
END:VEVENT
BEGIN:VEVENT
DTSTART;TZID=Asia/Kolkata:19970817T000000
DTEND;TZID=Asia/Kolkata:19970817T000000
DTSTAMP:20260425T064736
CREATED:20250703T061650Z
LAST-MODIFIED:20250703T061650Z
UID:10005559-871776000-871776000@www.discoverhollywood.com
SUMMARY:Fit For An Autopsy
DESCRIPTION:%3cbr%3eDesignHTMLWords: 0   Characters: 0
URL:https://www.discoverhollywood.com/event/fit-for-an-autopsy/
LOCATION:The Roxy\, 9009 Sunset Blvd.\, Los Angeles\, California
END:VEVENT
BEGIN:VEVENT
DTSTART;TZID=Asia/Kolkata:19970815T000000
DTEND;TZID=Asia/Kolkata:19970815T000000
DTSTAMP:20260425T064736
CREATED:20250703T061720Z
LAST-MODIFIED:20250703T061720Z
UID:10005561-871603200-871603200@www.discoverhollywood.com
SUMMARY:Fitz & The Tantrums
DESCRIPTION:DesignHTMLWords: 0   Characters: 0
URL:https://www.discoverhollywood.com/event/fitz-the-tantrums/
LOCATION:The Roxy\, 9009 Sunset Blvd.\, Los Angeles\, California
END:VEVENT
BEGIN:VEVENT
DTSTART;TZID=Asia/Kolkata:19970430T000000
DTEND;TZID=Asia/Kolkata:19970430T000000
DTSTAMP:20260425T064736
CREATED:20250703T062108Z
LAST-MODIFIED:20250703T062108Z
UID:10005664-862358400-862358400@www.discoverhollywood.com
SUMMARY:Foxing
DESCRIPTION:%3cbr%3eDesignHTMLWords: 0   Characters: 0
URL:https://www.discoverhollywood.com/event/foxing/
LOCATION:The Roxy\, 9009 Sunset Blvd.\, Los Angeles\, California
END:VEVENT
BEGIN:VEVENT
DTSTART;TZID=Asia/Kolkata:19961226T000000
DTEND;TZID=Asia/Kolkata:19961226T000000
DTSTAMP:20260425T064736
CREATED:20250703T062637Z
LAST-MODIFIED:20250703T062637Z
UID:10005789-851558400-851558400@www.discoverhollywood.com
SUMMARY:From Autumn to Ashes
DESCRIPTION:%3cbr%3eDesignHTMLWords: 0   Characters: 0
URL:https://www.discoverhollywood.com/event/from-autumn-to-ashes/
LOCATION:The Roxy\, 9009 Sunset Blvd.\, Los Angeles\, California
END:VEVENT
BEGIN:VEVENT
DTSTART;TZID=Asia/Kolkata:19961028T000000
DTEND;TZID=Asia/Kolkata:19961028T000000
DTSTAMP:20260425T064736
CREATED:20250703T064825Z
LAST-MODIFIED:20250703T064825Z
UID:10005848-846460800-846460800@www.discoverhollywood.com
SUMMARY:G4SHI
DESCRIPTION:%3cbr%3eDesignHTMLWords: 0   Characters: 0
URL:https://www.discoverhollywood.com/event/g4shi/
LOCATION:The Roxy\, 9009 Sunset Blvd.\, Los Angeles\, California
END:VEVENT
BEGIN:VEVENT
DTSTART;TZID=Asia/Kolkata:19961011T000000
DTEND;TZID=Asia/Kolkata:19961011T000000
DTSTAMP:20260425T064736
CREATED:20250703T064851Z
LAST-MODIFIED:20250703T064851Z
UID:10005865-844992000-844992000@www.discoverhollywood.com
SUMMARY:Gaby Moreno
DESCRIPTION:%3cp align%3d%22center%22%3e%3c/p%3e\n%3cp align%3d%22center%22%3e%3c/p%3eDesignHTMLWords: 0   Characters: 0
URL:https://www.discoverhollywood.com/event/gaby-moreno/
LOCATION:The Roxy\, 9009 Sunset Blvd.\, Los Angeles\, California
END:VEVENT
BEGIN:VEVENT
DTSTART;TZID=Asia/Kolkata:19960906T000000
DTEND;TZID=Asia/Kolkata:19960906T000000
DTSTAMP:20260425T064736
CREATED:20250703T065112Z
LAST-MODIFIED:20250703T065112Z
UID:10005900-841968000-841968000@www.discoverhollywood.com
SUMMARY:Gang of Four
DESCRIPTION:DesignHTMLWords: 0   Characters: 0
URL:https://www.discoverhollywood.com/event/gang-of-four-2/
LOCATION:The Roxy\, 9009 Sunset Blvd.\, Los Angeles\, California
END:VEVENT
BEGIN:VEVENT
DTSTART;TZID=Asia/Kolkata:19960904T000000
DTEND;TZID=Asia/Kolkata:19960904T000000
DTSTAMP:20260425T064736
CREATED:20250703T065228Z
LAST-MODIFIED:20250703T065228Z
UID:10005902-841795200-841795200@www.discoverhollywood.com
SUMMARY:Ganjawhitenight
DESCRIPTION:DesignHTMLWords: 0   Characters: 0
URL:https://www.discoverhollywood.com/event/ganjawhitenight/
LOCATION:The Roxy\, 9009 Sunset Blvd.\, Los Angeles\, California
END:VEVENT
BEGIN:VEVENT
DTSTART;TZID=Asia/Kolkata:19960810T000000
DTEND;TZID=Asia/Kolkata:19960810T000000
DTSTAMP:20260425T064736
CREATED:20250703T065353Z
LAST-MODIFIED:20250703T065353Z
UID:10005927-839635200-839635200@www.discoverhollywood.com
SUMMARY:Gashi
DESCRIPTION:%3ca href%3d%22https%3a//www.theroxy.com/events%22%3ehttps%3a//www.theroxy.com/events%3c/a%3eDesignHTMLWords: 1   Characters: 27
URL:https://www.discoverhollywood.com/event/gashi/
LOCATION:The Roxy\, 9009 Sunset Blvd.\, Los Angeles\, California
END:VEVENT
BEGIN:VEVENT
DTSTART;TZID=Asia/Kolkata:19960807T000000
DTEND;TZID=Asia/Kolkata:19960807T000000
DTSTAMP:20260425T064736
CREATED:20250703T065354Z
LAST-MODIFIED:20250703T065354Z
UID:10005930-839376000-839376000@www.discoverhollywood.com
SUMMARY:Gates of the West
DESCRIPTION:%3ca href%3d%22https%3a//www.theroxy.com/events%22%3ehttps%3a//www.theroxy.com/events%3c/a%3eDesignHTMLWords: 1   Characters: 27
URL:https://www.discoverhollywood.com/event/gates-of-the-west/
LOCATION:The Roxy\, 9009 Sunset Blvd.\, Los Angeles\, California
END:VEVENT
BEGIN:VEVENT
DTSTART;TZID=Asia/Kolkata:19960803T000000
DTEND;TZID=Asia/Kolkata:19960803T000000
DTSTAMP:20260425T064736
CREATED:20250703T065400Z
LAST-MODIFIED:20250703T065400Z
UID:10005934-839030400-839030400@www.discoverhollywood.com
SUMMARY:Gavin James
DESCRIPTION:DesignHTMLWords: 0   Characters: 0
URL:https://www.discoverhollywood.com/event/gavin-james-2/
LOCATION:The Roxy\, 9009 Sunset Blvd.\, Los Angeles\, California
END:VEVENT
BEGIN:VEVENT
DTSTART;TZID=Asia/Kolkata:19960504T000000
DTEND;TZID=Asia/Kolkata:19960504T000000
DTSTAMP:20260425T064736
CREATED:20250703T065613Z
LAST-MODIFIED:20250703T065613Z
UID:10006025-831168000-831168000@www.discoverhollywood.com
SUMMARY:Ghostmane
DESCRIPTION:DesignHTMLWords: 0   Characters: 0
URL:https://www.discoverhollywood.com/event/ghostmane/
LOCATION:The Roxy\, 9009 Sunset Blvd.\, Los Angeles\, California
END:VEVENT
BEGIN:VEVENT
DTSTART;TZID=Asia/Kolkata:19960312T000000
DTEND;TZID=Asia/Kolkata:19960312T000000
DTSTAMP:20260425T064736
CREATED:20250703T065712Z
LAST-MODIFIED:20250703T065712Z
UID:10006078-826588800-826588800@www.discoverhollywood.com
SUMMARY:Givers
DESCRIPTION:%3cbr%3eDesignHTMLWords: 0   Characters: 0
URL:https://www.discoverhollywood.com/event/givers/
LOCATION:The Roxy\, 9009 Sunset Blvd.\, Los Angeles\, California
END:VEVENT
BEGIN:VEVENT
DTSTART;TZID=Asia/Kolkata:19960203T000000
DTEND;TZID=Asia/Kolkata:19960203T000000
DTSTAMP:20260425T064736
CREATED:20250703T083835Z
LAST-MODIFIED:20250703T083835Z
UID:10006116-823305600-823305600@www.discoverhollywood.com
SUMMARY:gnash
DESCRIPTION:%3cbr%3eDesignHTMLWords: 0   Characters: 0
URL:https://www.discoverhollywood.com/event/gnash/
LOCATION:The Roxy\, 9009 Sunset Blvd.\, Los Angeles\, California
END:VEVENT
BEGIN:VEVENT
DTSTART;TZID=Asia/Kolkata:19960127T000000
DTEND;TZID=Asia/Kolkata:19960127T000000
DTSTAMP:20260425T064736
CREATED:20250703T083841Z
LAST-MODIFIED:20250703T083841Z
UID:10006123-822700800-822700800@www.discoverhollywood.com
SUMMARY:Go Radio featuring There for Tomorrow\, Tonight Alive\, and Tyler Carter
DESCRIPTION:DesignHTMLWords: 0   Characters: 0
URL:https://www.discoverhollywood.com/event/go-radio-featuring-there-for-tomorrow-tonight-alive-and-tyler-carter/
LOCATION:The Roxy\, 9009 Sunset Blvd.\, Los Angeles\, California
END:VEVENT
BEGIN:VEVENT
DTSTART;TZID=Asia/Kolkata:19960117T000000
DTEND;TZID=Asia/Kolkata:19960117T000000
DTSTAMP:20260425T064736
CREATED:20250703T083853Z
LAST-MODIFIED:20250703T083853Z
UID:10006133-821836800-821836800@www.discoverhollywood.com
SUMMARY:Goddamn Comedy Jam
DESCRIPTION:DesignHTMLWords: 0   Characters: 0
URL:https://www.discoverhollywood.com/event/goddamn-comedy-jam/
LOCATION:The Roxy\, 9009 Sunset Blvd.\, Los Angeles\, California
END:VEVENT
BEGIN:VEVENT
DTSTART;TZID=Asia/Kolkata:19960116T000000
DTEND;TZID=Asia/Kolkata:19960116T000000
DTSTAMP:20260425T064736
CREATED:20250703T083853Z
LAST-MODIFIED:20250703T083853Z
UID:10006134-821750400-821750400@www.discoverhollywood.com
SUMMARY:Goddamn Comedy Jam
DESCRIPTION:%3cbr%3eDesignHTMLWords: 0   Characters: 0
URL:https://www.discoverhollywood.com/event/goddamn-comedy-jam-2/
LOCATION:The Roxy\, 9009 Sunset Blvd.\, Los Angeles\, California
END:VEVENT
BEGIN:VEVENT
DTSTART;TZID=Asia/Kolkata:19960115T000000
DTEND;TZID=Asia/Kolkata:19960115T000000
DTSTAMP:20260425T064736
CREATED:20250703T083854Z
LAST-MODIFIED:20250703T083854Z
UID:10006135-821664000-821664000@www.discoverhollywood.com
SUMMARY:Goddamn Comedy Jam w/ Bill Burr\, Russel Peters
DESCRIPTION:DesignHTMLWords: 0   Characters: 0
URL:https://www.discoverhollywood.com/event/goddamn-comedy-jam-w-bill-burr-russel-peters/
LOCATION:The Roxy\, 9009 Sunset Blvd.\, Los Angeles\, California
END:VEVENT
BEGIN:VEVENT
DTSTART;TZID=Asia/Kolkata:19951212T000000
DTEND;TZID=Asia/Kolkata:19951212T000000
DTSTAMP:20260425T064736
CREATED:20250703T084103Z
LAST-MODIFIED:20250703T084103Z
UID:10006169-818726400-818726400@www.discoverhollywood.com
SUMMARY:Goldroom
DESCRIPTION:%3cbr%3eDesignHTMLWords: 0   Characters: 0
URL:https://www.discoverhollywood.com/event/goldroom/
LOCATION:The Roxy\, 9009 Sunset Blvd.\, Los Angeles\, California
END:VEVENT
BEGIN:VEVENT
DTSTART;TZID=Asia/Kolkata:19951130T000000
DTEND;TZID=Asia/Kolkata:19951130T000000
DTSTAMP:20260425T064736
CREATED:20250703T084112Z
LAST-MODIFIED:20250703T084112Z
UID:10006181-817689600-817689600@www.discoverhollywood.com
SUMMARY:Good Graeff - Indie Pop
DESCRIPTION:%3cp%3eComprised of Brooke and Brit Graeff and pulling from a range of artists including %3cstrong%3eThe Pixies%2c Tegan and Sara%3c/strong%3e%2c and\n	%3cstrong%3eAndrew Bird%3c/strong%3e%2c Good Graeff have quickly gained a following fro their unique blend of genres. Good Graeff just released their new EP %22\n	%3cstrong%3e%3ci%3eGood Job Go%3c/i%3e%3c/strong%3e%22 featuring singles %22\n	%3cstrong%3e%3ci%3eGood Touch%3c/i%3e%3c/strong%3e%22 %28featured on\n	%3cstrong%3e%3ca href%3d%22http%3a//r20.rs6.net/tn.jsp%3ff%3d001x2Hz5ejCC_YEXQc1zxU5iebQ7OBP1k5lkPsEBbCQzGE1XtdNOnQCIostROkzts5HpDesignHTMLWords: 51   Characters: 294
URL:https://www.discoverhollywood.com/event/good-graeff-indie-pop/
LOCATION:The Roxy\, 9009 Sunset Blvd.\, Los Angeles\, California
END:VEVENT
BEGIN:VEVENT
DTSTART;TZID=Asia/Kolkata:19951125T000000
DTEND;TZID=Asia/Kolkata:19951125T000000
DTSTAMP:20260425T064736
CREATED:20250703T084122Z
LAST-MODIFIED:20250703T084122Z
UID:10006186-817257600-817257600@www.discoverhollywood.com
SUMMARY:Good Old War
DESCRIPTION:%3cbr%3eDesignHTMLWords: 0   Characters: 0
URL:https://www.discoverhollywood.com/event/good-old-war/
LOCATION:The Roxy\, 9009 Sunset Blvd.\, Los Angeles\, California
END:VEVENT
END:VCALENDAR